From mboxrd@z Thu Jan 1 00:00:00 1970 Return-Path: Received: from mails.dpdk.org (mails.dpdk.org [217.70.189.124]) by inbox.dpdk.org (Postfix) with ESMTP id 0A6CC4307C for ; Wed, 16 Aug 2023 08:34:05 +0200 (CEST) Received: from mails.dpdk.org (localhost [127.0.0.1]) by mails.dpdk.org (Postfix) with ESMTP id E1E3540041; Wed, 16 Aug 2023 08:34:04 +0200 (CEST) Received: from mail-oa1-f100.google.com (mail-oa1-f100.google.com [209.85.160.100]) by mails.dpdk.org (Postfix) with ESMTP id 1A60C40041 for ; Wed, 16 Aug 2023 08:34:04 +0200 (CEST) Received: by mail-oa1-f100.google.com with SMTP id 586e51a60fabf-1c4dd644cf8so2245948fac.0 for ; Tue, 15 Aug 2023 23:34:04 -0700 (PDT) DKIM-Signature: v=1; a=rsa-sha256; c=relaxed/relaxed; d=iol.unh.edu; s=unh-iol; t=1692167643; x=1692772443; h=cc:to:from:subject:message-id:date:from:to:cc:subject:date :message-id:reply-to; bh=rfwIv0PQNZafEae/LTL5xg/3O1JsRefUKUxz6a6h454=; b=SjWTVqZqIAEHk9JuaBhe6cGlTmWLNeQmX1BNNGnhJQqgT9LME5fNe8J+9d88OAL61K W01ASrXKedNRklXDoeUaCjuSw422UGFRpJSvLixYOLRWP0cCZKPGBwTbb9svTr/vIubs D7QhdCHge9KZGnGCnjMNbAsVgv6MMO0YsD4Tw= X-Google-DKIM-Signature: v=1; a=rsa-sha256; c=relaxed/relaxed; d=1e100.net; s=20221208; t=1692167643; x=1692772443; h=cc:to:from:subject:message-id:date:x-gm-message-state:from:to:cc :subject:date:message-id:reply-to; bh=rfwIv0PQNZafEae/LTL5xg/3O1JsRefUKUxz6a6h454=; b=i3FNQK9pAsRbPmjueXq2MjZ+o4KCqle6/M4ysyex7jmxN8HoPP+tEBNOBUzgcaWl7T 6Sjwav8aA+UR57bSeiarolxDjvllz+N3/F7gIZMqOyCtkfovdzebjP4tDL3tIACQr2ul yYWstUwpX7XQKQkTfhHgZfK+V5RT9s4vZIbcOUo8A+xc3BsJYSb0XEONUs+no/guhP/1 9MOQ+/3rNW8vZsf32t3o5JsD7rTXSImHjVAqE3EekN6tMTwNCwktMUL9G+yvBL+ABdZl Aph7w0ZnMYt0AztPq4Nopev3ZQpuVwRiKWhh9AIpN5wpOvj2BVWhWLHbn8oVOMpM0Utk dPog== X-Gm-Message-State: AOJu0Yx8ZB9IQF4cC6VScWcKUSyDknJ75zmWn/WKEv6QpM5yVkD2SN7Q ctjTTAIULEukwn5kWqsTCiMyESIdu8hI0w6CM//8Dio/DCuIC5wOpt3ZSom5tpZhaw== X-Google-Smtp-Source: AGHT+IGtKdC/po2t5cnayUFcG+TDz8IfbKanimq4cReH4i7ixdj/JwZJ1/H7UZ9oO6fLSl0OTMSJboNBPfdy X-Received: by 2002:a05:6870:93c3:b0:1c0:fe16:90f0 with SMTP id c3-20020a05687093c300b001c0fe1690f0mr1363948oal.52.1692167643341; Tue, 15 Aug 2023 23:34:03 -0700 (PDT) Received: from postal.iol.unh.edu (postal.iol.unh.edu. [2606:4100:3880:1234::84]) by smtp-relay.gmail.com with ESMTPS id do40-20020a0566384ca800b0042b196e6093sm376227jab.74.2023.08.15.23.34.03 (version=TLS1_2 cipher=ECDHE-ECDSA-AES128-GCM-SHA256 bits=128/128); Tue, 15 Aug 2023 23:34:03 -0700 (PDT) X-Relaying-Domain: iol.unh.edu Date: Tue, 15 Aug 2023 23:34:03 -0700 (PDT) Message-ID: <64dc6ddb.050a0220.ee770.4ee1SMTPIN_ADDED_MISSING@mx.google.com> Received: from [172.21.0.2] (unknown [172.18.0.240]) by postal.iol.unh.edu (Postfix) with ESMTP id B1F076052471; Wed, 16 Aug 2023 02:34:02 -0400 (EDT) Subject: |SUCCESS| [GIT MASTER] 89133ca5b161036ace8fee04dd39ca94533fffc9 From: dpdklab@iol.unh.edu To: Test Report Cc: dpdk-test-reports@iol.unh.edu, Xueming Li , Christian Ehrhardt , Kevin Traynor , Luca Boccassi Content-Type: text/plain X-BeenThere: test-report@dpdk.org X-Mailman-Version: 2.1.29 Precedence: list List-Id: automatic DPDK test reports List-Unsubscribe: , List-Archive: List-Post: List-Help: List-Subscribe: , Errors-To: test-report-bounces@dpdk.org _Testing PASS_ Branch: tags/v21.11 89133ca5b161036ace8fee04dd39ca94533fffc9 --> testing pass Test environment and result as below: +---------------------+--------------------+----------------------+ | Environment | dpdk_meson_compile | dpdk_mingw64_compile | +=====================+====================+======================+ | FreeBSD 13 | PASS | SKIPPED | +---------------------+--------------------+----------------------+ | Windows Server 2019 | PASS | PASS | +---------------------+--------------------+----------------------+ | Debian Buster | PASS | SKIPPED | +---------------------+--------------------+----------------------+ | Debian Bullseye | PASS | SKIPPED | +---------------------+--------------------+----------------------+ | Fedora 37 | PASS | SKIPPED | +---------------------+--------------------+----------------------+ | CentOS Stream 8 | PASS | SKIPPED | +---------------------+--------------------+----------------------+ | CentOS Stream 9 | PASS | SKIPPED | +---------------------+--------------------+----------------------+ | Fedora 38 | PASS | SKIPPED | +---------------------+--------------------+----------------------+ FreeBSD 13 Kernel: 13.0 Compiler: clang 11.0.1 Windows Server 2019 Kernel: 10.0 Compiler: clang 14.0 and gcc 8.1.0 (MinGW) Debian Buster Kernel: 5.4.0-122-generic Compiler: gcc 8.3.0-6 Debian Bullseye Kernel: 5.4.0-122-generic Compiler: gcc 10.2.1-6 Fedora 37 Kernel: Depends on container host system Compiler: gcc 12.3.1 CentOS Stream 8 Kernel: 4.18.0-240.10.1.el8_3.x86_64 Compiler: gcc 8.4.1 20200928 CentOS Stream 9 Kernel: 4.18.0-240.10.1.el8_3.x86_64 Compiler: gcc 11.3.1 20220421 Fedora 38 Kernel: Depends on container host Compiler: gcc 13.1.1 To view detailed results, visit: https://lab.dpdk.org/results/dashboard/tarballs/25833/ UNH-IOL DPDK Community Lab To manage your email subscriptions, visit: https://lab.dpdk.org/results/dashboard/preferences/subscriptions/