From mboxrd@z Thu Jan 1 00:00:00 1970 Return-Path: Received: from mails.dpdk.org (mails.dpdk.org [217.70.189.124]) by inbox.dpdk.org (Postfix) with ESMTP id 31F4443083 for ; Thu, 17 Aug 2023 07:31:48 +0200 (CEST) Received: from mails.dpdk.org (localhost [127.0.0.1]) by mails.dpdk.org (Postfix) with ESMTP id 2D97440685; Thu, 17 Aug 2023 07:31:48 +0200 (CEST) Received: from mail-oa1-f97.google.com (mail-oa1-f97.google.com [209.85.160.97]) by mails.dpdk.org (Postfix) with ESMTP id 0F0A340685 for ; Thu, 17 Aug 2023 07:31:46 +0200 (CEST) Received: by mail-oa1-f97.google.com with SMTP id 586e51a60fabf-1c4cd0f6cb2so335646fac.0 for ; Wed, 16 Aug 2023 22:31:46 -0700 (PDT) DKIM-Signature: v=1; a=rsa-sha256; c=relaxed/relaxed; d=iol.unh.edu; s=unh-iol; t=1692250305; x=1692855105; h=cc:to:from:subject:message-id:date:from:to:cc:subject:date :message-id:reply-to; bh=DSAg0gNXhB4Y+WDhg5kX/+3rliH9sz3xrZFNfp216ps=; b=GdxL0hl9HlukzfKN1bAcsJ7pTBkSZLyzpeIymaNeasMaHep3QGdCsdQabSGnIvluTG MzRtq2PL8lE0qW8DCcQUjbLIIoKkjnaKRyoPmmGIkaEn7QiR12tgGuI3UjuNedmJIe9/ tJIOUrukjc6tB1w8P4WH41SOl+ct+VSwyLnvk= X-Google-DKIM-Signature: v=1; a=rsa-sha256; c=relaxed/relaxed; d=1e100.net; s=20221208; t=1692250305; x=1692855105; h=cc:to:from:subject:message-id:date:x-gm-message-state:from:to:cc :subject:date:message-id:reply-to; bh=DSAg0gNXhB4Y+WDhg5kX/+3rliH9sz3xrZFNfp216ps=; b=Jd0G25tFqHjW4XAr1RJwKbxCTu785N1PMIPpC3Dv1NJAIzbTKwDaXNtGHxH54JmIpz JYF5vVLcJ2STTy7cvvIHPic/plBqkPz5cNUy7kO3DDb9ZmRfp4Y1ReClrYWWefpnAY6M Qdl7bhAKfJ6drN2FcM+2s6zVuvowIea4j5QHxQjTZuMwwplBz3p6mMEvWVKQS5z3c9KC tDc6oRNdECqokjFxrLbiQE9UkF9n07ZZKCpfUlwHmBkODfpriyYYzAroxDETc+i+8ot0 3lBgN0SNJzehR9kravb40pOh13DAH7PN15wzozO2h1vPaoTZFFogAnmbsF/0ZWPTYTzq yRUg== X-Gm-Message-State: AOJu0YydZyEwB46MK4njIKp1vidCpY9Im+PUtv4Jn/iyh+C7tJDpczI1 aOpvJK2kS6ujXZ1Yi2TxUy/AZiXhf2zAyvdkR4sQ03jGDx7iexQdmzYaDCqibK8hGA== X-Google-Smtp-Source: AGHT+IFG24oRFYuj1BMdE5Wg3Ly6ye/6urSrQAKBvv9y4vNU8YQI0RPq6YWlygZ1sL4uN6b+TiMht0chZ4vI X-Received: by 2002:a05:6870:b426:b0:1b0:24d0:5554 with SMTP id x38-20020a056870b42600b001b024d05554mr1090158oap.11.1692250305419; Wed, 16 Aug 2023 22:31:45 -0700 (PDT) Received: from postal.iol.unh.edu (postal.iol.unh.edu. [2606:4100:3880:1234::84]) by smtp-relay.gmail.com with ESMTPS id m18-20020a9d6092000000b006b9e98ce2casm1217771otj.5.2023.08.16.22.31.45 (version=TLS1_2 cipher=ECDHE-ECDSA-AES128-GCM-SHA256 bits=128/128); Wed, 16 Aug 2023 22:31:45 -0700 (PDT) X-Relaying-Domain: iol.unh.edu Date: Wed, 16 Aug 2023 22:31:45 -0700 (PDT) Message-ID: <64ddb0c1.9d0a0220.4096b.0278SMTPIN_ADDED_MISSING@mx.google.com> Received: from [172.21.0.2] (unknown [172.18.0.240]) by postal.iol.unh.edu (Postfix) with ESMTP id DFA096052471; Thu, 17 Aug 2023 01:31:44 -0400 (EDT) Subject: |SUCCESS| [GIT MASTER] 89133ca5b161036ace8fee04dd39ca94533fffc9 From: dpdklab@iol.unh.edu To: Test Report Cc: dpdk-test-reports@iol.unh.edu, Xueming Li , Christian Ehrhardt , Kevin Traynor , Luca Boccassi Content-Type: text/plain X-BeenThere: test-report@dpdk.org X-Mailman-Version: 2.1.29 Precedence: list List-Id: automatic DPDK test reports List-Unsubscribe: , List-Archive: List-Post: List-Help: List-Subscribe: , Errors-To: test-report-bounces@dpdk.org _Testing PASS_ Branch: tags/v21.11 89133ca5b161036ace8fee04dd39ca94533fffc9 --> testing pass Test environment and result as below: +--------------------------+--------------------+ | Environment | dpdk_meson_compile | +==========================+====================+ | Ubuntu 20.04 ARM SVE | PASS | +--------------------------+--------------------+ | Ubuntu 20.04 (ARM) | PASS | +--------------------------+--------------------+ | Fedora 38 (ARM) | PASS | +--------------------------+--------------------+ | CentOS Stream 9 (ARM) | PASS | +--------------------------+--------------------+ | Fedora 37 (ARM) | PASS | +--------------------------+--------------------+ | Debian 11 (Buster) (ARM) | PASS | +--------------------------+--------------------+ Ubuntu 20.04 ARM SVE Kernel: 5.4.0-80-generic Compiler: gcc 10.3.0 (Ubuntu 10.3.0-1ubuntu1~20.04) Ubuntu 20.04 (ARM) Kernel: Container Host Kernel Compiler: gcc 9.4.0 Fedora 38 (ARM) Kernel: Depends on container host Compiler: gcc 13.1.1 CentOS Stream 9 (ARM) Kernel: Container Host Kernel Compiler: gcc 11.3.1 Fedora 37 (ARM) Kernel: Depends on container host Compiler: gcc 12.3.1 Debian 11 (Buster) (ARM) Kernel: Container Host Kernel Compiler: gcc 10.2.1 To view detailed results, visit: https://lab.dpdk.org/results/dashboard/tarballs/25844/ UNH-IOL DPDK Community Lab To manage your email subscriptions, visit: https://lab.dpdk.org/results/dashboard/preferences/subscriptions/