From mboxrd@z Thu Jan 1 00:00:00 1970 Return-Path: Received: from mails.dpdk.org (mails.dpdk.org [217.70.189.124]) by inbox.dpdk.org (Postfix) with ESMTP id 440D24305F for ; Fri, 18 Aug 2023 07:46:09 +0200 (CEST) Received: from mails.dpdk.org (localhost [127.0.0.1]) by mails.dpdk.org (Postfix) with ESMTP id 403C040395; Fri, 18 Aug 2023 07:46:09 +0200 (CEST) Received: from mail-pj1-f97.google.com (mail-pj1-f97.google.com [209.85.216.97]) by mails.dpdk.org (Postfix) with ESMTP id 74C5F40395 for ; Fri, 18 Aug 2023 07:46:07 +0200 (CEST) Received: by mail-pj1-f97.google.com with SMTP id 98e67ed59e1d1-269304c135aso415122a91.3 for ; Thu, 17 Aug 2023 22:46:07 -0700 (PDT) DKIM-Signature: v=1; a=rsa-sha256; c=relaxed/relaxed; d=iol.unh.edu; s=unh-iol; t=1692337566; x=1692942366; h=cc:to:from:subject:message-id:date:from:to:cc:subject:date :message-id:reply-to; bh=SDMaIr1P1s0m85khrpj2zdfMttYFX8+HBGauyidpVVw=; b=gWfayFJmAKRhqgPFl9v1k/Tl8VcthFXWn2eeJjHo0Yf8n54sfp9/Zl7ENSnFl3CyKn FWch/q7BJjhHY9Bkn6PVxNOBihgIheSgNst91JGJs4HeEcYijRXDLM2GfZbxrMPv3Ta9 O/F+qaYlwGvFkpdpGcg6Z5Fj7tkSEqZFwU0dk= X-Google-DKIM-Signature: v=1; a=rsa-sha256; c=relaxed/relaxed; d=1e100.net; s=20221208; t=1692337566; x=1692942366; h=cc:to:from:subject:message-id:date:x-gm-message-state:from:to:cc :subject:date:message-id:reply-to; bh=SDMaIr1P1s0m85khrpj2zdfMttYFX8+HBGauyidpVVw=; b=S0nGSnT8wPGgOYoixYGCx9E2LZMxAWxmiRrErvluVbYG9dn9x/qGt2QVy7h4GyJcjK k2YhlIqH6vDrJ6PiKvIiMFdQl0pEWUSNaidSFj94hUNiLu5EOR8pFmjmL970iydxn6iA 9JdpGEkww+Oia7K+iKotmdOEvoBMF5UlzBT+aRxbU8n2ucpfEUKENFTOPCZ+gNgzV9+6 YXds5WAUA+NZxOcKXgxo02YxLhR2oWamnxocM+NIQgfbyjRGA4zk7lgpbnarGzDZS9T8 yiCfqVHAuNGtQbJTjvznnlpJutFA6cAc8S4VnjvYA3U3y4VssfPKMyEn1O99lyGxzJkP o1vg== X-Gm-Message-State: AOJu0YzcEMr6Plf0I0rqazwvMI/wk7aaaqMoGTX2lLwgkIEKLUDozkIK 50UWd7u0DnNpXMwIEu4kEublFGwZ0Ibt3ugFSMvFBAjcgCqi2w== X-Google-Smtp-Source: AGHT+IH/OfFlpe+10pc5VpkKeCxNwWnqO0K4gUUIVRGmd428V7Y+MNk1IYsoq4VfVTzZmlHpHt2dEfzQ5qrx X-Received: by 2002:a17:90a:62c1:b0:262:e6d2:2d6 with SMTP id k1-20020a17090a62c100b00262e6d202d6mr1522619pjs.47.1692337566613; Thu, 17 Aug 2023 22:46:06 -0700 (PDT) Received: from postal.iol.unh.edu (postal.iol.unh.edu. [132.177.123.84]) by smtp-relay.gmail.com with ESMTPS id d3-20020a17090b004300b002681e5166a7sm441013pjt.5.2023.08.17.22.46.06 (version=TLS1_2 cipher=ECDHE-ECDSA-AES128-GCM-SHA256 bits=128/128); Thu, 17 Aug 2023 22:46:06 -0700 (PDT) X-Relaying-Domain: iol.unh.edu Date: Thu, 17 Aug 2023 22:46:06 -0700 (PDT) Message-ID: <64df059e.170a0220.83068.a1caSMTPIN_ADDED_MISSING@mx.google.com> Received: from [172.21.0.3] (unknown [172.18.0.240]) by postal.iol.unh.edu (Postfix) with ESMTP id 5F9126052471; Fri, 18 Aug 2023 01:46:05 -0400 (EDT) Subject: |SUCCESS| [GIT MASTER] 5e87ad0cf8f2f90b18558913f3c71e7552aa0af5 From: dpdklab@iol.unh.edu To: Test Report Cc: dpdk-test-reports@iol.unh.edu, Xueming Li , Christian Ehrhardt , Kevin Traynor , Luca Boccassi Content-Type: text/plain X-BeenThere: test-report@dpdk.org X-Mailman-Version: 2.1.29 Precedence: list List-Id: automatic DPDK test reports List-Unsubscribe: , List-Archive: List-Post: List-Help: List-Subscribe: , Errors-To: test-report-bounces@dpdk.org _Testing PASS_ Branch: tags/v22.11 5e87ad0cf8f2f90b18558913f3c71e7552aa0af5 --> testing pass Test environment and result as below: +---------------------+--------------------+----------------------+ | Environment | dpdk_meson_compile | dpdk_mingw64_compile | +=====================+====================+======================+ | FreeBSD 13 | PASS | SKIPPED | +---------------------+--------------------+----------------------+ | Windows Server 2019 | PASS | PASS | +---------------------+--------------------+----------------------+ | CentOS Stream 9 | PASS | SKIPPED | +---------------------+--------------------+----------------------+ | CentOS Stream 8 | PASS | SKIPPED | +---------------------+--------------------+----------------------+ | Debian Buster | PASS | SKIPPED | +---------------------+--------------------+----------------------+ | openSUSE Leap 15 | PASS | SKIPPED | +---------------------+--------------------+----------------------+ | RHEL8 | PASS | SKIPPED | +---------------------+--------------------+----------------------+ | Alpine | PASS | SKIPPED | +---------------------+--------------------+----------------------+ | Fedora 38 | PASS | SKIPPED | +---------------------+--------------------+----------------------+ | Debian Bullseye | PASS | SKIPPED | +---------------------+--------------------+----------------------+ | Fedora 37 | PASS | SKIPPED | +---------------------+--------------------+----------------------+ | Ubuntu 22.04 | PASS | SKIPPED | +---------------------+--------------------+----------------------+ | Ubuntu 20.04 | PASS | SKIPPED | +---------------------+--------------------+----------------------+ FreeBSD 13 Kernel: 13.0 Compiler: clang 11.0.1 Windows Server 2019 Kernel: 10.0 Compiler: clang 14.0 and gcc 8.1.0 (MinGW) CentOS Stream 9 Kernel: 4.18.0-240.10.1.el8_3.x86_64 Compiler: gcc 11.3.1 20220421 CentOS Stream 8 Kernel: 4.18.0-240.10.1.el8_3.x86_64 Compiler: gcc 8.4.1 20200928 Debian Buster Kernel: 5.4.0-122-generic Compiler: gcc 8.3.0-6 openSUSE Leap 15 Kernel: 4.18.0-240.10.1.el8_3.x86_64 Compiler: gcc 7.5.0 RHEL8 Kernel: 4.18.0-240.10.1.el8_3.x86_64 Compiler: gcc 8.3.1 20191121 (Red Hat 8.3.1-5) Alpine Kernel: 5.4.0-73-generic Compiler: gcc (Alpine 10.3.1_git20210424) 10.3.1 20210424 Fedora 38 Kernel: Depends on container host Compiler: gcc 13.1.1 Debian Bullseye Kernel: 5.4.0-122-generic Compiler: gcc 10.2.1-6 Fedora 37 Kernel: Depends on container host system Compiler: gcc 12.3.1 Ubuntu 22.04 Kernel: 4.18.0-240.10.1.el8_3.x86_64 Compiler: gcc 11.3.0 Ubuntu 20.04 Kernel: 5.4.0-153-generic Compiler: gcc 9.4.0-1ubuntu1~20.04.1 To view detailed results, visit: https://lab.dpdk.org/results/dashboard/tarballs/25857/ UNH-IOL DPDK Community Lab To manage your email subscriptions, visit: https://lab.dpdk.org/results/dashboard/preferences/subscriptions/