From mboxrd@z Thu Jan 1 00:00:00 1970 Return-Path: Received: from mails.dpdk.org (mails.dpdk.org [217.70.189.124]) by inbox.dpdk.org (Postfix) with ESMTP id A5453430A1 for ; Sat, 19 Aug 2023 07:19:47 +0200 (CEST) Received: from mails.dpdk.org (localhost [127.0.0.1]) by mails.dpdk.org (Postfix) with ESMTP id A21BD40EDF; Sat, 19 Aug 2023 07:19:47 +0200 (CEST) Received: from mail-qt1-f227.google.com (mail-qt1-f227.google.com [209.85.160.227]) by mails.dpdk.org (Postfix) with ESMTP id D317C40EDF for ; Sat, 19 Aug 2023 07:19:45 +0200 (CEST) Received: by mail-qt1-f227.google.com with SMTP id d75a77b69052e-40fd276621aso10515711cf.2 for ; Fri, 18 Aug 2023 22:19:45 -0700 (PDT) DKIM-Signature: v=1; a=rsa-sha256; c=relaxed/relaxed; d=iol.unh.edu; s=unh-iol; t=1692422385; x=1693027185; h=cc:to:from:subject:message-id:date:from:to:cc:subject:date :message-id:reply-to; bh=xGxqrYVvDHHbaJT7bcI3hD2Actz1ynnh1+KXVRGHlkI=; b=epbpYn2ugjoZ8SkgmIVANai6xbBMUqJg1DBSsiRd8P2/zSVWV3/V6qbEq9Mt2CJH4t sLkD8qM273BprQNe8X3CSu6MMEthKxeTMIJZXFwdiC3HxoxZkaNAkp4Z8hCwR46BK+C4 wztPddvJ7zWXh64n9bQn12W/kgboDQmCAVnok= X-Google-DKIM-Signature: v=1; a=rsa-sha256; c=relaxed/relaxed; d=1e100.net; s=20221208; t=1692422385; x=1693027185; h=cc:to:from:subject:message-id:date:x-gm-message-state:from:to:cc :subject:date:message-id:reply-to; bh=xGxqrYVvDHHbaJT7bcI3hD2Actz1ynnh1+KXVRGHlkI=; b=MOgDzrPFitbGHnzrivBJvWg8uYchU+8gcMbedwBF5urAyyfzVW+yr0tnfS7h/PYPO7 DheO3TOpDgXWFsYQP8QHy1zTgc1SjKJa1b82/K0x5+/ZMZ17piekagd5O57siA43vFvv V9DIEJd0vfJy9Q0X6zTpSnoLZZzsfwwMjrlp7aLI2lp3sj858nrmECr7BJ8yDx8pV8Us z1/N7n5rCgD+y7Hj1mEf2IhHoKEVVCcQz7Ue/ihlV3dEOy+cB7vX6WGqJyYnlv0CbQ4s AnYOCnvNp0gXyKAcjk9EXdBKlTMX93VwkL9hXoJdLg2Igf3ODEMwhb3vdP1KUZA1T6FE cX7w== X-Gm-Message-State: AOJu0YwmCMfk3J0Rhq5ABKbOvL6FYdBvEianccT6ElY1JFwBC2WJnvLN QWYAsaOQruParCIHmbgip2CsDZ1fZ1bBtz9iNc5pMSh9AXdRGjLOxCq6TxA+nQvE1g== X-Google-Smtp-Source: AGHT+IG/XpvsUp5zW6wYI3fOKc3rJq9ql8CvggyqNmkGbN2uxCphBIACTkwD2Lv+6zRcQAl4kp31qCwn1l6Z X-Received: by 2002:a05:622a:1056:b0:403:a940:dc88 with SMTP id f22-20020a05622a105600b00403a940dc88mr1623529qte.20.1692422385286; Fri, 18 Aug 2023 22:19:45 -0700 (PDT) Received: from postal.iol.unh.edu (postal.iol.unh.edu. [2606:4100:3880:1234::84]) by smtp-relay.gmail.com with ESMTPS id m19-20020ac84453000000b00403b2c4347bsm142175qtn.5.2023.08.18.22.19.45 (version=TLS1_2 cipher=ECDHE-ECDSA-AES128-GCM-SHA256 bits=128/128); Fri, 18 Aug 2023 22:19:45 -0700 (PDT) X-Relaying-Domain: iol.unh.edu Date: Fri, 18 Aug 2023 22:19:45 -0700 (PDT) Message-ID: <64e050f1.c80a0220.271a0.7a23SMTPIN_ADDED_MISSING@mx.google.com> Received: from [172.21.0.2] (unknown [172.18.0.240]) by postal.iol.unh.edu (Postfix) with ESMTP id 052536052471; Sat, 19 Aug 2023 01:19:45 -0400 (EDT) Subject: |SUCCESS| [GIT MASTER] 5e87ad0cf8f2f90b18558913f3c71e7552aa0af5 From: dpdklab@iol.unh.edu To: Test Report Cc: dpdk-test-reports@iol.unh.edu, Xueming Li , Christian Ehrhardt , Kevin Traynor , Luca Boccassi Content-Type: text/plain X-BeenThere: test-report@dpdk.org X-Mailman-Version: 2.1.29 Precedence: list List-Id: automatic DPDK test reports List-Unsubscribe: , List-Archive: List-Post: List-Help: List-Subscribe: , Errors-To: test-report-bounces@dpdk.org _Testing PASS_ Branch: tags/v22.11 5e87ad0cf8f2f90b18558913f3c71e7552aa0af5 --> testing pass Test environment and result as below: +---------------------+--------------------+----------------------+ | Environment | dpdk_meson_compile | dpdk_mingw64_compile | +=====================+====================+======================+ | FreeBSD 13 | PASS | SKIPPED | +---------------------+--------------------+----------------------+ | Windows Server 2019 | PASS | PASS | +---------------------+--------------------+----------------------+ | CentOS Stream 8 | PASS | SKIPPED | +---------------------+--------------------+----------------------+ | openSUSE Leap 15 | PASS | SKIPPED | +---------------------+--------------------+----------------------+ | Fedora 38 | PASS | SKIPPED | +---------------------+--------------------+----------------------+ | CentOS Stream 9 | PASS | SKIPPED | +---------------------+--------------------+----------------------+ | RHEL 7 | PASS | SKIPPED | +---------------------+--------------------+----------------------+ FreeBSD 13 Kernel: 13.0 Compiler: clang 11.0.1 Windows Server 2019 Kernel: 10.0 Compiler: clang 14.0 and gcc 8.1.0 (MinGW) CentOS Stream 8 Kernel: 4.18.0-240.10.1.el8_3.x86_64 Compiler: gcc 8.4.1 20200928 openSUSE Leap 15 Kernel: 4.18.0-240.10.1.el8_3.x86_64 Compiler: gcc 7.5.0 Fedora 38 Kernel: Depends on container host Compiler: clang 16.0.3 CentOS Stream 9 Kernel: 4.18.0-240.10.1.el8_3.x86_64 Compiler: gcc 11.3.1 20220421 RHEL 7 Kernel: 4.18.0-240.10.1.el8_3.x86_64 Compiler: gcc 4.8.5 20150623 (Red Hat 4.8.5-44) To view detailed results, visit: https://lab.dpdk.org/results/dashboard/tarballs/25870/ UNH-IOL DPDK Community Lab To manage your email subscriptions, visit: https://lab.dpdk.org/results/dashboard/preferences/subscriptions/