From mboxrd@z Thu Jan 1 00:00:00 1970 Return-Path: Received: from mails.dpdk.org (mails.dpdk.org [217.70.189.124]) by inbox.dpdk.org (Postfix) with ESMTP id 6B752430AE for ; Sun, 20 Aug 2023 07:15:53 +0200 (CEST) Received: from mails.dpdk.org (localhost [127.0.0.1]) by mails.dpdk.org (Postfix) with ESMTP id 6A0ED4161A; Sun, 20 Aug 2023 07:15:53 +0200 (CEST) Received: from mail-qk1-f228.google.com (mail-qk1-f228.google.com [209.85.222.228]) by mails.dpdk.org (Postfix) with ESMTP id 3CA2D40A80 for ; Sun, 20 Aug 2023 07:15:38 +0200 (CEST) Received: by mail-qk1-f228.google.com with SMTP id af79cd13be357-76d84238f01so155796185a.2 for ; Sat, 19 Aug 2023 22:15:38 -0700 (PDT) DKIM-Signature: v=1; a=rsa-sha256; c=relaxed/relaxed; d=iol.unh.edu; s=unh-iol; t=1692508537; x=1693113337; h=cc:to:from:subject:message-id:date:from:to:cc:subject:date :message-id:reply-to; bh=TO/N/UZfsoI5pdQm63ijSLWID34TBPr+ztZvhaLOFak=; b=YT40qrQp52jSyoWg7XrixdE+XAIy+eUKuiyPDPsMrk7pI1Zv72E6TyXlEB/V8TPKNl b62g9/JxAU5ULdpgmVr/wBqio7deHV+0VJGdxeW2SUrzyHKAp0VlLOh/YmIP2kAb+O7q 3mV43o9XKPNTQzb3whpZwOH6OgNK+fog0K2rw= X-Google-DKIM-Signature: v=1; a=rsa-sha256; c=relaxed/relaxed; d=1e100.net; s=20221208; t=1692508537; x=1693113337; h=cc:to:from:subject:message-id:date:x-gm-message-state:from:to:cc :subject:date:message-id:reply-to; bh=TO/N/UZfsoI5pdQm63ijSLWID34TBPr+ztZvhaLOFak=; b=UdjzPSszZtorypHT9K+b0h0L8d0DehL61XoBUSSb/Jx0sNz7qvgjcMiYBoCntswpMs 0rdaVcan662QgkpZTWBq0MhBb7Oszx5nzVPSjtbAtLKgyRD/YhzMAEJhQEg2LPjO3Nez M2va9K8ShBGaNkhWoyrTR0qkA+pE/v3MS80K+D/8GrBoB8yYePcjCKlYqe9iIKkow5M5 KqGtojrX9CWplEy3IQNsMJPUOJFMeo3qgIVzKIIfzyKPRpPAvX9Qk+yKxtr9ArZ5pyNB JzkR50AziPhDYGMXln0BJBs8J5G3AXd5s7vlSXqeDM1caswQxP+fPKZ/c6rlApXfgZlc b5aA== X-Gm-Message-State: AOJu0Yxv6xqVvo+2ZuwfrcN777h5G2HBToiEjF3dwGKAZgjDRRDQ+OHi CtIY6lAyN6tgSRMJn1KiEU2sctWOPEG4JiZbJu8usjg3leWx0Q== X-Google-Smtp-Source: AGHT+IFHjrGAmR8LNTRxYOS28WN19DWICNmubzy2/+o/YTBPOhoJRVVSaYs2ScoangWVVYCKOE40oP0mnHlg X-Received: by 2002:a05:620a:2151:b0:76c:c101:fbf2 with SMTP id m17-20020a05620a215100b0076cc101fbf2mr4092714qkm.37.1692508537709; Sat, 19 Aug 2023 22:15:37 -0700 (PDT) Received: from postal.iol.unh.edu (postal.iol.unh.edu. [132.177.123.84]) by smtp-relay.gmail.com with ESMTPS id bs15-20020a05620a470f00b007671caebae9sm269138qkb.3.2023.08.19.22.15.37 (version=TLS1_2 cipher=ECDHE-ECDSA-AES128-GCM-SHA256 bits=128/128); Sat, 19 Aug 2023 22:15:37 -0700 (PDT) X-Relaying-Domain: iol.unh.edu Date: Sat, 19 Aug 2023 22:15:37 -0700 (PDT) Message-ID: <64e1a179.050a0220.8ca00.f24dSMTPIN_ADDED_MISSING@mx.google.com> Received: from [172.21.0.3] (unknown [172.18.0.240]) by postal.iol.unh.edu (Postfix) with ESMTP id 6C8696052471; Sun, 20 Aug 2023 01:15:37 -0400 (EDT) Subject: |SUCCESS| [GIT MASTER] 5e87ad0cf8f2f90b18558913f3c71e7552aa0af5 From: dpdklab@iol.unh.edu To: Test Report Cc: dpdk-test-reports@iol.unh.edu, Xueming Li , Christian Ehrhardt , Kevin Traynor , Luca Boccassi Content-Type: text/plain X-BeenThere: test-report@dpdk.org X-Mailman-Version: 2.1.29 Precedence: list List-Id: automatic DPDK test reports List-Unsubscribe: , List-Archive: List-Post: List-Help: List-Subscribe: , Errors-To: test-report-bounces@dpdk.org _Testing PASS_ Branch: tags/v22.11 5e87ad0cf8f2f90b18558913f3c71e7552aa0af5 --> testing pass Test environment and result as below: +---------------------+--------------------+----------------------+ | Environment | dpdk_meson_compile | dpdk_mingw64_compile | +=====================+====================+======================+ | FreeBSD 13 | PASS | SKIPPED | +---------------------+--------------------+----------------------+ | Windows Server 2019 | PASS | PASS | +---------------------+--------------------+----------------------+ | Fedora 38 | PASS | SKIPPED | +---------------------+--------------------+----------------------+ | Debian Buster | PASS | SKIPPED | +---------------------+--------------------+----------------------+ | CentOS Stream 8 | PASS | SKIPPED | +---------------------+--------------------+----------------------+ | openSUSE Leap 15 | PASS | SKIPPED | +---------------------+--------------------+----------------------+ | RHEL8 | PASS | SKIPPED | +---------------------+--------------------+----------------------+ | Debian Bullseye | PASS | SKIPPED | +---------------------+--------------------+----------------------+ FreeBSD 13 Kernel: 13.0 Compiler: clang 11.0.1 Windows Server 2019 Kernel: 10.0 Compiler: clang 14.0 and gcc 8.1.0 (MinGW) Fedora 38 Kernel: Depends on container host Compiler: clang 16.0.3 Debian Buster Kernel: 5.4.0-122-generic Compiler: gcc 8.3.0-6 CentOS Stream 8 Kernel: 4.18.0-240.10.1.el8_3.x86_64 Compiler: gcc 8.4.1 20200928 openSUSE Leap 15 Kernel: 4.18.0-240.10.1.el8_3.x86_64 Compiler: gcc 7.5.0 RHEL8 Kernel: 4.18.0-240.10.1.el8_3.x86_64 Compiler: gcc 8.3.1 20191121 (Red Hat 8.3.1-5) Debian Bullseye Kernel: 5.4.0-122-generic Compiler: gcc 10.2.1-6 To view detailed results, visit: https://lab.dpdk.org/results/dashboard/tarballs/25873/ UNH-IOL DPDK Community Lab To manage your email subscriptions, visit: https://lab.dpdk.org/results/dashboard/preferences/subscriptions/