From mboxrd@z Thu Jan 1 00:00:00 1970 Return-Path: Received: from mails.dpdk.org (mails.dpdk.org [217.70.189.124]) by inbox.dpdk.org (Postfix) with ESMTP id DD637430AE for ; Sun, 20 Aug 2023 07:53:27 +0200 (CEST) Received: from mails.dpdk.org (localhost [127.0.0.1]) by mails.dpdk.org (Postfix) with ESMTP id D8CC440A80; Sun, 20 Aug 2023 07:53:27 +0200 (CEST) Received: from mail-oa1-f99.google.com (mail-oa1-f99.google.com [209.85.160.99]) by mails.dpdk.org (Postfix) with ESMTP id A56C840A80 for ; Sun, 20 Aug 2023 07:53:26 +0200 (CEST) Received: by mail-oa1-f99.google.com with SMTP id 586e51a60fabf-1c4d1274f33so1436707fac.3 for ; Sat, 19 Aug 2023 22:53:26 -0700 (PDT) DKIM-Signature: v=1; a=rsa-sha256; c=relaxed/relaxed; d=iol.unh.edu; s=unh-iol; t=1692510806; x=1693115606; h=cc:to:from:subject:message-id:date:from:to:cc:subject:date :message-id:reply-to; bh=fjwVQAQmT54IEYxVWqRXfmc3im32rrbdMQxZvDUtUwk=; b=iiJ6yQvhqCVsihVjYUFhIgrBQOnDb/TjkCm4T0ShW1NILh7knk02b4+xGw1fpL7c01 kI6lY/dcrvCpECOIj/30KwLL5AQSsQDfoaP/rxW+k4yF+tKO79mD9js3Rq7JUfDRnw/J obHHL0Y0tS9NNF7cumHw8pf40qYPsYSd9jHsI= X-Google-DKIM-Signature: v=1; a=rsa-sha256; c=relaxed/relaxed; d=1e100.net; s=20221208; t=1692510806; x=1693115606; h=cc:to:from:subject:message-id:date:x-gm-message-state:from:to:cc :subject:date:message-id:reply-to; bh=fjwVQAQmT54IEYxVWqRXfmc3im32rrbdMQxZvDUtUwk=; b=UWVMPwwrM/rjH14A/wSmf4kf1qAeCXzgEITRp+DzSU27Q3FRkpsfqVq/ct4530omRP mzedBA3K6PUYJj65KVBuQtNvz6bk+gG04jVDFHUSIuqZ884V8n3sSQ52EfVwDH2Ra4Rh wreFTAdAjgRQIAAURU+g4WTOSgFjXqLGUCa1LRjcJP1H8IrWnr/nVRkbxk/7nCR1hZ5d 68bJzyEyLeLBhKrRhtNAYzcPkfse3EH+1eMbBhSOQSVpYz6slZerupCxWsKLJZayqMem KOjXEqmj0nYeIac/98ClHfM0gJaVQ1FFcncBKA2PUBRgjhP+f8spkpBaRRKFwN4I2tMB B3HA== X-Gm-Message-State: AOJu0YwYulOuTP9rrAUf9o2aSfUU4Y/faOBUlZW6b6wgDwf67R9sWeYF 5vcH24nsGm2tSIj+jwnQQmPRygrN0e/h3WKVDZVIThAM2ybbGfe4vQ3mc9K0kElaNA== X-Google-Smtp-Source: AGHT+IGIIv53ZHhHqYQTfNiUTl3OR+eSFVYMN6m2DSdK0HIlvS8XCe3HSp81ZwDfSMjat9BdChZHw0eUtR2h X-Received: by 2002:a05:6870:1689:b0:1b7:38d1:6f98 with SMTP id j9-20020a056870168900b001b738d16f98mr5239787oae.38.1692510806030; Sat, 19 Aug 2023 22:53:26 -0700 (PDT) Received: from postal.iol.unh.edu (postal.iol.unh.edu. [2606:4100:3880:1234::84]) by smtp-relay.gmail.com with ESMTPS id du9-20020a0568703a0900b001bf831d329asm464661oab.40.2023.08.19.22.53.25 (version=TLS1_2 cipher=ECDHE-ECDSA-AES128-GCM-SHA256 bits=128/128); Sat, 19 Aug 2023 22:53:26 -0700 (PDT) X-Relaying-Domain: iol.unh.edu Date: Sat, 19 Aug 2023 22:53:26 -0700 (PDT) Message-ID: <64e1aa56.050a0220.fb84e.a1b4SMTPIN_ADDED_MISSING@mx.google.com> Received: from [172.21.0.2] (unknown [172.18.0.240]) by postal.iol.unh.edu (Postfix) with ESMTP id A05936052471; Sun, 20 Aug 2023 01:53:25 -0400 (EDT) Subject: |SUCCESS| [GIT MASTER] 89133ca5b161036ace8fee04dd39ca94533fffc9 From: dpdklab@iol.unh.edu To: Test Report Cc: dpdk-test-reports@iol.unh.edu, Xueming Li , Christian Ehrhardt , Kevin Traynor , Luca Boccassi Content-Type: text/plain X-BeenThere: test-report@dpdk.org X-Mailman-Version: 2.1.29 Precedence: list List-Id: automatic DPDK test reports List-Unsubscribe: , List-Archive: List-Post: List-Help: List-Subscribe: , Errors-To: test-report-bounces@dpdk.org _Testing PASS_ Branch: tags/v21.11 89133ca5b161036ace8fee04dd39ca94533fffc9 --> testing pass Test environment and result as below: +-----------------+----------+ | Environment | abi_test | +=================+==========+ | CentOS Stream 8 | PASS | +-----------------+----------+ | Debian Bullseye | PASS | +-----------------+----------+ | Debian Buster | PASS | +-----------------+----------+ | Fedora 38 | PASS | +-----------------+----------+ | CentOS Stream 9 | PASS | +-----------------+----------+ | Fedora 37 | PASS | +-----------------+----------+ CentOS Stream 8 Kernel: 4.18.0-240.10.1.el8_3.x86_64 Compiler: gcc 8.4.1 20200928 Debian Bullseye Kernel: 5.4.0-122-generic Compiler: gcc 10.2.1-6 Debian Buster Kernel: 5.4.0-122-generic Compiler: gcc 8.3.0-6 Fedora 38 Kernel: Depends on container host Compiler: clang 16.0.3 CentOS Stream 9 Kernel: 4.18.0-240.10.1.el8_3.x86_64 Compiler: gcc 11.3.1 20220421 Fedora 37 Kernel: Depends on container host system Compiler: gcc 12.3.1 To view detailed results, visit: https://lab.dpdk.org/results/dashboard/tarballs/25874/ UNH-IOL DPDK Community Lab To manage your email subscriptions, visit: https://lab.dpdk.org/results/dashboard/preferences/subscriptions/