From mboxrd@z Thu Jan 1 00:00:00 1970 Return-Path: Received: from mails.dpdk.org (mails.dpdk.org [217.70.189.124]) by inbox.dpdk.org (Postfix) with ESMTP id 2FB84430B0 for ; Sun, 20 Aug 2023 08:16:42 +0200 (CEST) Received: from mails.dpdk.org (localhost [127.0.0.1]) by mails.dpdk.org (Postfix) with ESMTP id 2CA0F40A80; Sun, 20 Aug 2023 08:16:42 +0200 (CEST) Received: from mail-qk1-f225.google.com (mail-qk1-f225.google.com [209.85.222.225]) by mails.dpdk.org (Postfix) with ESMTP id 926F840A80 for ; Sun, 20 Aug 2023 08:16:40 +0200 (CEST) Received: by mail-qk1-f225.google.com with SMTP id af79cd13be357-76d873c6e8aso158839985a.1 for ; Sat, 19 Aug 2023 23:16:40 -0700 (PDT) DKIM-Signature: v=1; a=rsa-sha256; c=relaxed/relaxed; d=iol.unh.edu; s=unh-iol; t=1692512200; x=1693117000; h=cc:to:from:subject:message-id:date:from:to:cc:subject:date :message-id:reply-to; bh=vmbjmJRA+2jM28s5ARFCL9896D58oS8w9UDsBKxBACM=; b=i8l1zXpTsyAv1v3Jun8Rr8wn++M2usCA2CpjLLx5oVDpF0Aa1ejXTSIkHkMmcT9qmZ CPlP3ThLln+BO2t0sjpEyS6LTH4Krt8/UVtSQsFjs7T7QL6zmLm9e4acOAIN8NfUZMTM n8clguu1RdtWvtN+a+OoXfLqFbBy1ziC/5ueI= X-Google-DKIM-Signature: v=1; a=rsa-sha256; c=relaxed/relaxed; d=1e100.net; s=20221208; t=1692512200; x=1693117000; h=cc:to:from:subject:message-id:date:x-gm-message-state:from:to:cc :subject:date:message-id:reply-to; bh=vmbjmJRA+2jM28s5ARFCL9896D58oS8w9UDsBKxBACM=; b=MUl+9rIFTpq4+4flw89eaN+2HK0io4Ieebuku0u06FlGMseHjiPENq+GWBhA5pqGIi nNNh415yvq8AtQ9/gxdhCuIGgflIr8/EWZqTz+pvj1m1N239l1IubLk8gNU09yf4KGy5 3BdbFoGWhFC3QGw/ham/5dDWvr3WfpfKZpFnjpOh9MTfmjUSKFjc7UE2Pi5MntJl+R13 tico9uGjHvzG6Tp+zOnqr5AZ6jjvkNXAS+qd3/c1DiUyWYK9M47qEep6VdjRhA0n+VdW DDnwsDu1K//0Go762LGhs55NGBXZUM2723r4Kx+Y8vT2L/DBPJyb0WWKVtpnULoaGRk1 GDEg== X-Gm-Message-State: AOJu0YxhXjFwJtYnsJFSwUTBufAittOVo58VzTRcR6cpD1m8VXB6ZIPv V+DxFT859qX8tGBRO0onYMraK7pPYy/uxK8ChwIxxC6Eel4fbVE36yGUSzReZy98Vw== X-Google-Smtp-Source: AGHT+IH8Qtw0wdHF3oqfXCxVKySPTvJV++9rDw7TsT4tkfAS8auMf0xytVOVG2VZqADAv1nb7/N/BIzVnG35 X-Received: by 2002:a05:620a:f0e:b0:76d:279a:2eb5 with SMTP id v14-20020a05620a0f0e00b0076d279a2eb5mr4379249qkl.20.1692512199962; Sat, 19 Aug 2023 23:16:39 -0700 (PDT) Received: from postal.iol.unh.edu (postal.iol.unh.edu. [2606:4100:3880:1234::84]) by smtp-relay.gmail.com with ESMTPS id bm6-20020a05620a198600b0076cd3e63a5dsm283729qkb.9.2023.08.19.23.16.39 (version=TLS1_2 cipher=ECDHE-ECDSA-AES128-GCM-SHA256 bits=128/128); Sat, 19 Aug 2023 23:16:39 -0700 (PDT) X-Relaying-Domain: iol.unh.edu Date: Sat, 19 Aug 2023 23:16:39 -0700 (PDT) Message-ID: <64e1afc7.050a0220.c0a96.fa16SMTPIN_ADDED_MISSING@mx.google.com> Received: from [172.21.0.2] (unknown [172.18.0.240]) by postal.iol.unh.edu (Postfix) with ESMTP id A9C686052471; Sun, 20 Aug 2023 02:16:39 -0400 (EDT) Subject: |SUCCESS| [GIT MASTER] 89133ca5b161036ace8fee04dd39ca94533fffc9 From: dpdklab@iol.unh.edu To: Test Report Cc: dpdk-test-reports@iol.unh.edu, Xueming Li , Christian Ehrhardt , Kevin Traynor , Luca Boccassi Content-Type: text/plain X-BeenThere: test-report@dpdk.org X-Mailman-Version: 2.1.29 Precedence: list List-Id: automatic DPDK test reports List-Unsubscribe: , List-Archive: List-Post: List-Help: List-Subscribe: , Errors-To: test-report-bounces@dpdk.org _Testing PASS_ Branch: tags/v21.11 89133ca5b161036ace8fee04dd39ca94533fffc9 --> testing pass Test environment and result as below: +---------------------+--------------------+----------------------+ | Environment | dpdk_meson_compile | dpdk_mingw64_compile | +=====================+====================+======================+ | FreeBSD 13 | PASS | SKIPPED | +---------------------+--------------------+----------------------+ | Windows Server 2019 | PASS | PASS | +---------------------+--------------------+----------------------+ | Debian Buster | PASS | SKIPPED | +---------------------+--------------------+----------------------+ | Debian Bullseye | PASS | SKIPPED | +---------------------+--------------------+----------------------+ | CentOS Stream 8 | PASS | SKIPPED | +---------------------+--------------------+----------------------+ FreeBSD 13 Kernel: 13.0 Compiler: clang 11.0.1 Windows Server 2019 Kernel: 10.0 Compiler: clang 14.0 and gcc 8.1.0 (MinGW) Debian Buster Kernel: 5.4.0-122-generic Compiler: gcc 8.3.0-6 Debian Bullseye Kernel: 5.4.0-122-generic Compiler: gcc 10.2.1-6 CentOS Stream 8 Kernel: 4.18.0-240.10.1.el8_3.x86_64 Compiler: gcc 8.4.1 20200928 To view detailed results, visit: https://lab.dpdk.org/results/dashboard/tarballs/25874/ UNH-IOL DPDK Community Lab To manage your email subscriptions, visit: https://lab.dpdk.org/results/dashboard/preferences/subscriptions/