From mboxrd@z Thu Jan 1 00:00:00 1970 Return-Path: Received: from mails.dpdk.org (mails.dpdk.org [217.70.189.124]) by inbox.dpdk.org (Postfix) with ESMTP id 01155430BA for ; Mon, 21 Aug 2023 07:05:11 +0200 (CEST) Received: from mails.dpdk.org (localhost [127.0.0.1]) by mails.dpdk.org (Postfix) with ESMTP id EFE9F40A7D; Mon, 21 Aug 2023 07:05:11 +0200 (CEST) Received: from mail-oo1-f98.google.com (mail-oo1-f98.google.com [209.85.161.98]) by mails.dpdk.org (Postfix) with ESMTP id 9953F40A7D for ; Mon, 21 Aug 2023 07:05:10 +0200 (CEST) Received: by mail-oo1-f98.google.com with SMTP id 006d021491bc7-56ccdb2c7bbso1944190eaf.1 for ; Sun, 20 Aug 2023 22:05:10 -0700 (PDT) DKIM-Signature: v=1; a=rsa-sha256; c=relaxed/relaxed; d=iol.unh.edu; s=unh-iol; t=1692594310; x=1693199110; h=cc:to:from:subject:message-id:date:from:to:cc:subject:date :message-id:reply-to; bh=K4nmjEhAj9iOewP7hOC/ldddIW2gldOfAGUO75R0DyU=; b=Ucfi1Ou2vttK9uglBtX5m43+TmASimueid9mOK85yLTyDV23cyUoFbiM0UXh2VPyIF Bn31oRvv/jYzj+oNHZwCm37ewJvxi3tiyTca+5JieFJeSlrrGHIe8KIwJUU6s0gersho oUKy5wnCRTSB6Risz76m8Mk2r3gcJPVlL3iKo= X-Google-DKIM-Signature: v=1; a=rsa-sha256; c=relaxed/relaxed; d=1e100.net; s=20221208; t=1692594310; x=1693199110; h=cc:to:from:subject:message-id:date:x-gm-message-state:from:to:cc :subject:date:message-id:reply-to; bh=K4nmjEhAj9iOewP7hOC/ldddIW2gldOfAGUO75R0DyU=; b=CJYpp3ZjUlOgCGQnM0UA93L8ojfbheiXPPa0Rp8YL6JLXaf7Ro2cqyEZkpa0bcTp57 uakLZjuNGu6GHL/oDGig5gueu3tMPMeG1tslAIo0RYnOwkW/NUpPBScYzUMzfHiDjNX0 p7sxmfm0nAORXMGhtU/2uGMJ/A3i0wHVY83vtVLJILpS13N5uV40W66VQEmnrxbI50+e H3leZbjIcB4HUT0T7QTqc/bAXKHM09nMjyQgWM5sKwPHlT8rGGWyBpprmcDJLnaLZyCJ Rrdl4vw1rEH6xnbLwz/KyCyfMj6CFqK2JopdV9ixldV+uGZxchj/w80QQWDvPFGjcOVt Jtew== X-Gm-Message-State: AOJu0Yy9ZliQpq497CjjWlb8Q/AoSNHLOylxieYXLFgtMr8hCOItqop+ fvznu+yj2Tsz+sraCgosbsq9G8a5UgiQcQyEW/jGI0mrS/dq2Q== X-Google-Smtp-Source: AGHT+IGHmcdGmeJplfGQ7J0r107c8Bt6lKgEN4Fc4p4e045C7z0uKyCGGcJp+TUM/ZpLc8aDHqeX8nxYfxhh X-Received: by 2002:a05:6358:5918:b0:12f:2563:292c with SMTP id g24-20020a056358591800b0012f2563292cmr5949039rwf.27.1692594309801; Sun, 20 Aug 2023 22:05:09 -0700 (PDT) Received: from postal.iol.unh.edu (postal.iol.unh.edu. [132.177.123.84]) by smtp-relay.gmail.com with ESMTPS id t17-20020a639551000000b0056937a24dacsm489721pgn.30.2023.08.20.22.05.09 (version=TLS1_2 cipher=ECDHE-ECDSA-AES128-GCM-SHA256 bits=128/128); Sun, 20 Aug 2023 22:05:09 -0700 (PDT) X-Relaying-Domain: iol.unh.edu Date: Sun, 20 Aug 2023 22:05:09 -0700 (PDT) Message-ID: <64e2f085.630a0220.10e67.a6c9SMTPIN_ADDED_MISSING@mx.google.com> Received: from [172.21.0.3] (unknown [172.18.0.240]) by postal.iol.unh.edu (Postfix) with ESMTP id 07AD26052471; Mon, 21 Aug 2023 01:05:09 -0400 (EDT) Subject: |SUCCESS| [GIT MASTER] 5e87ad0cf8f2f90b18558913f3c71e7552aa0af5 From: dpdklab@iol.unh.edu To: Test Report Cc: dpdk-test-reports@iol.unh.edu, Xueming Li , Christian Ehrhardt , Kevin Traynor , Luca Boccassi Content-Type: text/plain X-BeenThere: test-report@dpdk.org X-Mailman-Version: 2.1.29 Precedence: list List-Id: automatic DPDK test reports List-Unsubscribe: , List-Archive: List-Post: List-Help: List-Subscribe: , Errors-To: test-report-bounces@dpdk.org _Testing PASS_ Branch: tags/v22.11 5e87ad0cf8f2f90b18558913f3c71e7552aa0af5 --> testing pass Test environment and result as below: +---------------------+--------------------+----------------------+ | Environment | dpdk_meson_compile | dpdk_mingw64_compile | +=====================+====================+======================+ | FreeBSD 13 | PASS | SKIPPED | +---------------------+--------------------+----------------------+ | Windows Server 2019 | PASS | PASS | +---------------------+--------------------+----------------------+ | CentOS Stream 8 | PASS | SKIPPED | +---------------------+--------------------+----------------------+ | Fedora 38 | PASS | SKIPPED | +---------------------+--------------------+----------------------+ | RHEL8 | PASS | SKIPPED | +---------------------+--------------------+----------------------+ | Debian Buster | PASS | SKIPPED | +---------------------+--------------------+----------------------+ FreeBSD 13 Kernel: 13.0 Compiler: clang 11.0.1 Windows Server 2019 Kernel: 10.0 Compiler: clang 14.0 and gcc 8.1.0 (MinGW) CentOS Stream 8 Kernel: 4.18.0-240.10.1.el8_3.x86_64 Compiler: gcc 8.4.1 20200928 Fedora 38 Kernel: Depends on container host Compiler: gcc 13.1.1 RHEL8 Kernel: 4.18.0-240.10.1.el8_3.x86_64 Compiler: gcc 8.3.1 20191121 (Red Hat 8.3.1-5) Debian Buster Kernel: 5.4.0-122-generic Compiler: gcc 8.3.0-6 To view detailed results, visit: https://lab.dpdk.org/results/dashboard/tarballs/25879/ UNH-IOL DPDK Community Lab To manage your email subscriptions, visit: https://lab.dpdk.org/results/dashboard/preferences/subscriptions/