From: dpdklab@iol.unh.edu
To: Test Report <test-report@dpdk.org>
Cc: Power@dpdk.org, Ciara <ciara.power@intel.com>,
dpdk-test-reports@iol.unh.edu
Subject: |SUCCESS| pw130554 [PATCH] [v2] common/qat: enable QAT 2.0c devices
Date: Mon, 21 Aug 2023 05:50:41 -0700 (PDT) [thread overview]
Message-ID: <64e35da1.170a0220.d6e42.5472SMTPIN_ADDED_MISSING@mx.google.com> (raw)
Test-Label: iol-unit-arm64-testing
Test-Status: SUCCESS
http://dpdk.org/patch/130554
_Testing PASS_
Submitter: Power, Ciara <ciara.power@intel.com>
Date: Monday, August 21 2023 09:33:49
DPDK git baseline: Repo:dpdk
Branch: master
CommitID:971d2b57972919527e27ed683032a71864a2eb56
130554 --> testing pass
Test environment and result as below:
+--------------------------+----------------+---------------------------+
| Environment | dpdk_unit_test | cryptodev_sw_zuc_autotest |
+==========================+================+===========================+
| CentOS Stream 9 (ARM) | PASS | SKIPPED |
+--------------------------+----------------+---------------------------+
| Debian 11 (Buster) (ARM) | PASS | SKIPPED |
+--------------------------+----------------+---------------------------+
| Fedora 38 (ARM) | PASS | SKIPPED |
+--------------------------+----------------+---------------------------+
| Fedora 37 (ARM) | PASS | SKIPPED |
+--------------------------+----------------+---------------------------+
| Ubuntu 20.04 (ARM) | PASS | SKIPPED |
+--------------------------+----------------+---------------------------+
| Debian 11 (arm) | SKIPPED | PASS |
+--------------------------+----------------+---------------------------+
CentOS Stream 9 (ARM)
Kernel: Container Host Kernel
Compiler: gcc 11.3.1
Debian 11 (Buster) (ARM)
Kernel: Container Host Kernel
Compiler: gcc 10.2.1
Fedora 38 (ARM)
Kernel: Depends on container host
Compiler: gcc 13.1.1
Fedora 37 (ARM)
Kernel: Depends on container host
Compiler: gcc 12.3.1
Ubuntu 20.04 (ARM)
Kernel: Container Host Kernel
Compiler: gcc 9.4.0
Debian 11 (arm)
Kernel: Container Host Kernel
Compiler: gcc 10.2.1
To view detailed results, visit:
https://lab.dpdk.org/results/dashboard/patchsets/27394/
UNH-IOL DPDK Community Lab
To manage your email subscriptions, visit:
https://lab.dpdk.org/results/dashboard/preferences/subscriptions/
next reply other threads:[~2023-08-21 12:50 UTC|newest]
Thread overview: 54+ messages / expand[flat|nested] mbox.gz Atom feed top
2023-08-21 12:50 dpdklab [this message]
-- strict thread matches above, loose matches on Subject: below --
2023-08-21 16:48 dpdklab
2023-08-21 16:31 dpdklab
2023-08-21 16:26 dpdklab
2023-08-21 16:21 dpdklab
2023-08-21 15:09 dpdklab
2023-08-21 13:58 dpdklab
2023-08-21 13:45 dpdklab
2023-08-21 13:37 dpdklab
2023-08-21 13:32 dpdklab
2023-08-21 13:30 dpdklab
2023-08-21 13:28 dpdklab
2023-08-21 13:27 dpdklab
2023-08-21 13:26 dpdklab
2023-08-21 13:26 dpdklab
2023-08-21 13:23 dpdklab
2023-08-21 13:22 dpdklab
2023-08-21 13:19 dpdklab
2023-08-21 13:18 dpdklab
2023-08-21 13:15 dpdklab
2023-08-21 13:15 dpdklab
2023-08-21 13:15 dpdklab
2023-08-21 13:14 dpdklab
2023-08-21 13:13 dpdklab
2023-08-21 13:11 dpdklab
2023-08-21 13:07 dpdklab
2023-08-21 13:02 dpdklab
2023-08-21 13:01 dpdklab
2023-08-21 12:57 dpdklab
2023-08-21 12:56 dpdklab
2023-08-21 12:53 dpdklab
2023-08-21 12:50 dpdklab
2023-08-21 12:47 dpdklab
2023-08-21 12:45 dpdklab
2023-08-21 12:45 dpdklab
2023-08-21 12:44 dpdklab
2023-08-21 12:42 dpdklab
2023-08-21 12:42 dpdklab
2023-08-21 12:42 dpdklab
2023-08-21 12:41 dpdklab
2023-08-21 12:41 dpdklab
2023-08-21 12:41 dpdklab
2023-08-21 12:40 dpdklab
2023-08-21 12:40 dpdklab
2023-08-21 12:40 dpdklab
2023-08-21 12:39 dpdklab
2023-08-21 12:38 dpdklab
2023-08-21 12:38 dpdklab
2023-08-21 12:38 dpdklab
2023-08-21 12:38 dpdklab
2023-08-21 12:35 dpdklab
[not found] <20230821093349.3519591-1-ciara.power@intel.com>
2023-08-21 9:22 ` |SUCCESS| pw130554 [PATCH v2] " qemudev
2023-08-21 9:26 ` qemudev
2023-08-21 9:35 ` checkpatch
Reply instructions:
You may reply publicly to this message via plain-text email
using any one of the following methods:
* Save the following mbox file, import it into your mail client,
and reply-to-all from there: mbox
Avoid top-posting and favor interleaved quoting:
https://en.wikipedia.org/wiki/Posting_style#Interleaved_style
* Reply using the --to, --cc, and --in-reply-to
switches of git-send-email(1):
git send-email \
--in-reply-to=64e35da1.170a0220.d6e42.5472SMTPIN_ADDED_MISSING@mx.google.com \
--to=dpdklab@iol.unh.edu \
--cc=Power@dpdk.org \
--cc=ciara.power@intel.com \
--cc=dpdk-test-reports@iol.unh.edu \
--cc=test-report@dpdk.org \
/path/to/YOUR_REPLY
https://kernel.org/pub/software/scm/git/docs/git-send-email.html
* If your mail client supports setting the In-Reply-To header
via mailto: links, try the mailto: link
Be sure your reply has a Subject: header at the top and a blank line
before the message body.
This is a public inbox, see mirroring instructions
for how to clone and mirror all data and code used for this inbox;
as well as URLs for NNTP newsgroup(s).