From mboxrd@z Thu Jan 1 00:00:00 1970 Return-Path: Received: from mails.dpdk.org (mails.dpdk.org [217.70.189.124]) by inbox.dpdk.org (Postfix) with ESMTP id C1268430DC for ; Wed, 23 Aug 2023 07:46:19 +0200 (CEST) Received: from mails.dpdk.org (localhost [127.0.0.1]) by mails.dpdk.org (Postfix) with ESMTP id B4DFB406BA; Wed, 23 Aug 2023 07:46:19 +0200 (CEST) Received: from mail-yw1-f228.google.com (mail-yw1-f228.google.com [209.85.128.228]) by mails.dpdk.org (Postfix) with ESMTP id AADBD406BA for ; Wed, 23 Aug 2023 07:46:18 +0200 (CEST) Received: by mail-yw1-f228.google.com with SMTP id 00721157ae682-58caaedb20bso58079267b3.1 for ; Tue, 22 Aug 2023 22:46:18 -0700 (PDT) DKIM-Signature: v=1; a=rsa-sha256; c=relaxed/relaxed; d=iol.unh.edu; s=unh-iol; t=1692769578; x=1693374378; h=cc:to:from:subject:message-id:date:from:to:cc:subject:date :message-id:reply-to; bh=OcJeQ/2ZAyIhaG+aOluA9TzMbSuYAHjSuTabFfqpZ5U=; b=MLwuziSa7gITHF1thWYdeoc7M1ucpah64Vcv9pB7e37GqvHMPKFEUo+VRg4A+S0mBw etaJnVGAzI5XWaw1MaRUJWh6ZaSIunpS66q8HWflVsLNV7ntU52GpKlQXLh366JBloY7 Ls5fyYOpLwVUskTT3TjVla9dm3zP/nxXidzv0= X-Google-DKIM-Signature: v=1; a=rsa-sha256; c=relaxed/relaxed; d=1e100.net; s=20221208; t=1692769578; x=1693374378; h=cc:to:from:subject:message-id:date:x-gm-message-state:from:to:cc :subject:date:message-id:reply-to; bh=OcJeQ/2ZAyIhaG+aOluA9TzMbSuYAHjSuTabFfqpZ5U=; b=PNe+QsQ1grgyCmlqHWlgF9EiL5tKxoxsEF5LeMlNj4r/fD3w4x8R0SNgUNl+il1+kD 8iWfaBLGMxdUfKt0qfpQylVpMVnQmcATsgzGM3RblEIVp8TBNWMBtPn8UNbqGJEy4gji EBprlYESij2iWrMWdDFm71LYPS/9k9bf+E4IfD6b8JxH4axDaYTktgLUmaNuOI92bgjK mEk1uliHIFHAIHG3dh2dePnGCcW67GG5zn8IMnq3rRoUY0BeJOu7/YWHzK3uUpzFubLS /XUABi0KjkO+N2I4BzUZLJ48XS64GaJQBWjzperSRPVdzGvt6dusd6QtRtnex3ExbbvO /INg== X-Gm-Message-State: AOJu0YwPNuys381dFzK3VdCowqi3smKCz3g4FtiBng+lRttGoi8hgXk2 wjAOVsavj6ODiiOKTblNCBkU/gsJdtb548usxJpy2aHh4EDF1iYlsrkjO7DKZgt8ag== X-Google-Smtp-Source: AGHT+IGM5UE60VOTEtYKqLqzHy6iEtG+m0NkLXkh3T/EhkoCue4RFy9s4N6Et6DlCy4Iy6NUACLj4FVSX2Y5 X-Received: by 2002:a81:4e87:0:b0:58f:ae13:462b with SMTP id c129-20020a814e87000000b0058fae13462bmr11186168ywb.4.1692769578143; Tue, 22 Aug 2023 22:46:18 -0700 (PDT) Received: from postal.iol.unh.edu (postal.iol.unh.edu. [2606:4100:3880:1234::84]) by smtp-relay.gmail.com with ESMTPS id t185-20020a0deac2000000b00583d78481a1sm1313112ywe.63.2023.08.22.22.46.18 (version=TLS1_2 cipher=ECDHE-ECDSA-AES128-GCM-SHA256 bits=128/128); Tue, 22 Aug 2023 22:46:18 -0700 (PDT) X-Relaying-Domain: iol.unh.edu Date: Tue, 22 Aug 2023 22:46:18 -0700 (PDT) Message-ID: <64e59d2a.0d0a0220.3898e.67d2SMTPIN_ADDED_MISSING@mx.google.com> Received: from [172.21.0.2] (unknown [172.18.0.240]) by postal.iol.unh.edu (Postfix) with ESMTP id C87E36052471; Wed, 23 Aug 2023 01:46:17 -0400 (EDT) Subject: |SUCCESS| [GIT MASTER] 5e87ad0cf8f2f90b18558913f3c71e7552aa0af5 From: dpdklab@iol.unh.edu To: Test Report Cc: dpdk-test-reports@iol.unh.edu, Xueming Li , Christian Ehrhardt , Kevin Traynor , Luca Boccassi Content-Type: text/plain X-BeenThere: test-report@dpdk.org X-Mailman-Version: 2.1.29 Precedence: list List-Id: automatic DPDK test reports List-Unsubscribe: , List-Archive: List-Post: List-Help: List-Subscribe: , Errors-To: test-report-bounces@dpdk.org _Testing PASS_ Branch: tags/v22.11 5e87ad0cf8f2f90b18558913f3c71e7552aa0af5 --> testing pass Test environment and result as below: +---------------------+--------------------+----------------------+ | Environment | dpdk_meson_compile | dpdk_mingw64_compile | +=====================+====================+======================+ | FreeBSD 13 | PASS | SKIPPED | +---------------------+--------------------+----------------------+ | Windows Server 2019 | PASS | PASS | +---------------------+--------------------+----------------------+ | Fedora 38 | PASS | SKIPPED | +---------------------+--------------------+----------------------+ | CentOS Stream 8 | PASS | SKIPPED | +---------------------+--------------------+----------------------+ | Debian Buster | PASS | SKIPPED | +---------------------+--------------------+----------------------+ | openSUSE Leap 15 | PASS | SKIPPED | +---------------------+--------------------+----------------------+ | Ubuntu 22.04 | PASS | SKIPPED | +---------------------+--------------------+----------------------+ | Fedora 37 | PASS | SKIPPED | +---------------------+--------------------+----------------------+ | CentOS Stream 9 | PASS | SKIPPED | +---------------------+--------------------+----------------------+ | RHEL 7 | PASS | SKIPPED | +---------------------+--------------------+----------------------+ | Alpine | PASS | SKIPPED | +---------------------+--------------------+----------------------+ | RHEL8 | PASS | SKIPPED | +---------------------+--------------------+----------------------+ | Ubuntu 20.04 | PASS | SKIPPED | +---------------------+--------------------+----------------------+ FreeBSD 13 Kernel: 13.0 Compiler: clang 11.0.1 Windows Server 2019 Kernel: 10.0 Compiler: clang 14.0 and gcc 8.1.0 (MinGW) Fedora 38 Kernel: Depends on container host Compiler: clang 16.0.3 CentOS Stream 8 Kernel: 4.18.0-240.10.1.el8_3.x86_64 Compiler: gcc 8.4.1 20200928 Debian Buster Kernel: 5.4.0-122-generic Compiler: gcc 8.3.0-6 openSUSE Leap 15 Kernel: 4.18.0-240.10.1.el8_3.x86_64 Compiler: gcc 7.5.0 Ubuntu 22.04 Kernel: 4.18.0-240.10.1.el8_3.x86_64 Compiler: gcc 11.3.0 Fedora 37 Kernel: Depends on container host system Compiler: gcc 12.3.1 CentOS Stream 9 Kernel: 4.18.0-240.10.1.el8_3.x86_64 Compiler: gcc 11.3.1 20220421 RHEL 7 Kernel: 4.18.0-240.10.1.el8_3.x86_64 Compiler: gcc 4.8.5 20150623 (Red Hat 4.8.5-44) Alpine Kernel: 5.4.0-73-generic Compiler: gcc (Alpine 10.3.1_git20210424) 10.3.1 20210424 RHEL8 Kernel: 4.18.0-240.10.1.el8_3.x86_64 Compiler: gcc 8.3.1 20191121 (Red Hat 8.3.1-5) Ubuntu 20.04 Kernel: 5.4.0-153-generic Compiler: gcc 9.4.0-1ubuntu1~20.04.1 To view detailed results, visit: https://lab.dpdk.org/results/dashboard/tarballs/25914/ UNH-IOL DPDK Community Lab To manage your email subscriptions, visit: https://lab.dpdk.org/results/dashboard/preferences/subscriptions/