From mboxrd@z Thu Jan 1 00:00:00 1970 Return-Path: Received: from mails.dpdk.org (mails.dpdk.org [217.70.189.124]) by inbox.dpdk.org (Postfix) with ESMTP id 42A03430E8 for ; Thu, 24 Aug 2023 06:55:34 +0200 (CEST) Received: from mails.dpdk.org (localhost [127.0.0.1]) by mails.dpdk.org (Postfix) with ESMTP id 4488040EE1; Thu, 24 Aug 2023 06:55:34 +0200 (CEST) Received: from mail-yb1-f226.google.com (mail-yb1-f226.google.com [209.85.219.226]) by mails.dpdk.org (Postfix) with ESMTP id CE13E40EE1 for ; Thu, 24 Aug 2023 06:55:30 +0200 (CEST) Received: by mail-yb1-f226.google.com with SMTP id 3f1490d57ef6-d776e1f181bso2930728276.3 for ; Wed, 23 Aug 2023 21:55:30 -0700 (PDT) DKIM-Signature: v=1; a=rsa-sha256; c=relaxed/relaxed; d=iol.unh.edu; s=unh-iol; t=1692852930; x=1693457730; h=cc:to:from:subject:message-id:date:from:to:cc:subject:date :message-id:reply-to; bh=xsXDIc9siSARdWDYl4mfrj6Esga/EGj0KOWBgOUrH0I=; b=PA0aScz5HhfEc40QdblL52jJJBo1xlB/wnei5uCBw37PVgt8p8ntPO1OWdAiYMk6lK G90bBCUyvDvZ6nb1WDzvGV6/YLmhCeCwy/XI8IqPcGFYA8Jiptd/rtbHQ7N00l5qyJqG T9KGEWfv18gXwzYMlp8764eH/C7t+wRLktpuw= X-Google-DKIM-Signature: v=1; a=rsa-sha256; c=relaxed/relaxed; d=1e100.net; s=20221208; t=1692852930; x=1693457730; h=cc:to:from:subject:message-id:date:x-gm-message-state:from:to:cc :subject:date:message-id:reply-to; bh=xsXDIc9siSARdWDYl4mfrj6Esga/EGj0KOWBgOUrH0I=; b=CtKTd644b8SaVWWxN6v6MbOSYzgEdSWNqKvdCVei8aVlqEIjWTgJJFPPLWRKjqkjlm cR2S57KFDAsVJIo7rWqxegEL8eALZL++CbAQnB2ZG5eYnRoEApQJSMbl0tzR+8Z3fjiL FCUFqCI+JIEgtNUIHgVZSRDwAm2Ig9X4kRB755SCrwLPngHZuVmGvf4CgDDPYpeJ4mNJ tWfSuFXB88+Eki6iyCEDVfVxzJGsKw0OF4EPOIvRgsC6kZIddhiVCSPF+M0aETnS8RYR maP/XufHpUE2sFI206QpvoHpzTuIIszCpOju8qmlhZD7T5lfSDABeR1pAjsUL/vqsK3Y L4ow== X-Gm-Message-State: AOJu0Yy1LDdY6F/C/Qmt/vxa0ugL/xpW8B4y1j7T836/qFOxbUimjQCa 8AMes6/2cU427cSLAuqVi3TwT7BRSXuAAFiQgk4UEIZGkMyf+g== X-Google-Smtp-Source: AGHT+IHHSqTdw9Uj2asgM0/Fzdz+pvSecSzLlNELSEad2xBj1lsCNTDcfC+cGg0NbYUfLd6WPMrCYEpyf9+H X-Received: by 2002:a0d:c045:0:b0:589:8b55:fe09 with SMTP id b66-20020a0dc045000000b005898b55fe09mr13976588ywd.50.1692852930145; Wed, 23 Aug 2023 21:55:30 -0700 (PDT) Received: from postal.iol.unh.edu (postal.iol.unh.edu. [132.177.123.84]) by smtp-relay.gmail.com with ESMTPS id u190-20020a0dd2c7000000b0057a840dad5dsm1542103ywd.29.2023.08.23.21.55.30 (version=TLS1_2 cipher=ECDHE-ECDSA-AES128-GCM-SHA256 bits=128/128); Wed, 23 Aug 2023 21:55:30 -0700 (PDT) X-Relaying-Domain: iol.unh.edu Date: Wed, 23 Aug 2023 21:55:30 -0700 (PDT) Message-ID: <64e6e2c2.0d0a0220.f85d9.0110SMTPIN_ADDED_MISSING@mx.google.com> Received: from [172.21.0.3] (unknown [172.18.0.240]) by postal.iol.unh.edu (Postfix) with ESMTP id C9BC26052471; Thu, 24 Aug 2023 00:55:29 -0400 (EDT) Subject: |SUCCESS| [GIT MASTER] 5e87ad0cf8f2f90b18558913f3c71e7552aa0af5 From: dpdklab@iol.unh.edu To: Test Report Cc: dpdk-test-reports@iol.unh.edu, Xueming Li , Christian Ehrhardt , Kevin Traynor , Luca Boccassi Content-Type: text/plain X-BeenThere: test-report@dpdk.org X-Mailman-Version: 2.1.29 Precedence: list List-Id: automatic DPDK test reports List-Unsubscribe: , List-Archive: List-Post: List-Help: List-Subscribe: , Errors-To: test-report-bounces@dpdk.org _Testing PASS_ Branch: tags/v22.11 5e87ad0cf8f2f90b18558913f3c71e7552aa0af5 --> testing pass Test environment and result as below: +-----------------+----------+ | Environment | abi_test | +=================+==========+ | RHEL 7 | PASS | +-----------------+----------+ | Debian Bullseye | PASS | +-----------------+----------+ | Debian Buster | PASS | +-----------------+----------+ | Ubuntu 22.04 | PASS | +-----------------+----------+ | RHEL8 | PASS | +-----------------+----------+ | CentOS Stream 9 | PASS | +-----------------+----------+ RHEL 7 Kernel: 4.18.0-240.10.1.el8_3.x86_64 Compiler: gcc 4.8.5 20150623 (Red Hat 4.8.5-44) Debian Bullseye Kernel: 5.4.0-122-generic Compiler: gcc 10.2.1-6 Debian Buster Kernel: 5.4.0-122-generic Compiler: gcc 8.3.0-6 Ubuntu 22.04 Kernel: 4.18.0-240.10.1.el8_3.x86_64 Compiler: gcc 11.3.0 RHEL8 Kernel: 4.18.0-240.10.1.el8_3.x86_64 Compiler: gcc 8.3.1 20191121 (Red Hat 8.3.1-5) CentOS Stream 9 Kernel: 4.18.0-240.10.1.el8_3.x86_64 Compiler: gcc 11.3.1 20220421 To view detailed results, visit: https://lab.dpdk.org/results/dashboard/tarballs/25924/ UNH-IOL DPDK Community Lab To manage your email subscriptions, visit: https://lab.dpdk.org/results/dashboard/preferences/subscriptions/