From mboxrd@z Thu Jan 1 00:00:00 1970 Return-Path: Received: from mails.dpdk.org (mails.dpdk.org [217.70.189.124]) by inbox.dpdk.org (Postfix) with ESMTP id 0B5A0430E8 for ; Thu, 24 Aug 2023 07:00:03 +0200 (CEST) Received: from mails.dpdk.org (localhost [127.0.0.1]) by mails.dpdk.org (Postfix) with ESMTP id 0B72C40EE1; Thu, 24 Aug 2023 07:00:03 +0200 (CEST) Received: from mail-oa1-f100.google.com (mail-oa1-f100.google.com [209.85.160.100]) by mails.dpdk.org (Postfix) with ESMTP id 6C6C340EE1 for ; Thu, 24 Aug 2023 07:00:01 +0200 (CEST) Received: by mail-oa1-f100.google.com with SMTP id 586e51a60fabf-1cca0a1b3c7so1987644fac.2 for ; Wed, 23 Aug 2023 22:00:01 -0700 (PDT) DKIM-Signature: v=1; a=rsa-sha256; c=relaxed/relaxed; d=iol.unh.edu; s=unh-iol; t=1692853200; x=1693458000; h=cc:to:from:subject:message-id:date:from:to:cc:subject:date :message-id:reply-to; bh=GFD4F4gNCRdjmB/e1guJFn86kLRzcsAUwVzuyePSlCs=; b=IHWIo8MsUStXQtpk8H5wAiOVIMVN2Apa6iLClC/C599X5wx4cJbP0cInv0qpmRQwuX PY4IFB8Xm+0FBef9Hhxs3eULAhbNVRSdODucCKIJ1Zv7GJEljzG519Ms81oYWi1bcIxq UQs5EIbpggDkERcmX6umg+stjKOHFRZWQENnk= X-Google-DKIM-Signature: v=1; a=rsa-sha256; c=relaxed/relaxed; d=1e100.net; s=20221208; t=1692853200; x=1693458000; h=cc:to:from:subject:message-id:date:x-gm-message-state:from:to:cc :subject:date:message-id:reply-to; bh=GFD4F4gNCRdjmB/e1guJFn86kLRzcsAUwVzuyePSlCs=; b=JJfQ5/XrcGz0ihqQUkwQ7zhCHdXE6Aiq6o9qT09wQc8gFkwjtN6g+fQWiKFlN3UcaH BdoBjhaCH5xw0FJVpMLxhS8Gr7Cf+NGPRNvNZEbcJDFhVbGVFqSxlzrGzfsKYyruelHu 5AeVgplgVAsIJTwFRnuGBBH8NW6mXVMBPpFrV178kTzv/VWCbeFL3vJbVcErEUYEvT4J kRgaSNzUP66tcdY0KO4ZUnA5FVTsSp/QMETlutXVK+eHFnTgOUWcYE5n/hI8fyWbq52y B3+w9NHDoezOw34vK1nqbTVQCb4ummMcjEoNjL7nV5HL08CxMCdKNI2oTtW3CxykLaQb t+Ow== X-Gm-Message-State: AOJu0YzVbMCPS6ZaG4Z5gspx3SLCbSMnAxe4IDKGzD89LLonTgVdNf4Z +U3Xs8nbMp1sQ+LG99gfBld8mRdCAmX+183ld4O5xKAVPZ2daw== X-Google-Smtp-Source: AGHT+IFDctneBHE+8JyW32cMzm5giWAdKI+3B3WUImLmsZswfLmnQT4dOguXrwyhcxH4fIB1X2rdzGikTMDu X-Received: by 2002:a05:6870:a79d:b0:1a9:c186:398d with SMTP id x29-20020a056870a79d00b001a9c186398dmr18862608oao.21.1692853200743; Wed, 23 Aug 2023 22:00:00 -0700 (PDT) Received: from postal.iol.unh.edu (postal.iol.unh.edu. [132.177.123.84]) by smtp-relay.gmail.com with ESMTPS id ds16-20020a0568705b1000b001a6c6eebfd1sm1475601oab.4.2023.08.23.22.00.00 (version=TLS1_2 cipher=ECDHE-ECDSA-AES128-GCM-SHA256 bits=128/128); Wed, 23 Aug 2023 22:00:00 -0700 (PDT) X-Relaying-Domain: iol.unh.edu Date: Wed, 23 Aug 2023 22:00:00 -0700 (PDT) Message-ID: <64e6e3d0.050a0220.7334e.e418SMTPIN_ADDED_MISSING@mx.google.com> Received: from [172.21.0.3] (unknown [172.18.0.240]) by postal.iol.unh.edu (Postfix) with ESMTP id 3A6AA6052471; Thu, 24 Aug 2023 01:00:00 -0400 (EDT) Subject: |SUCCESS| [GIT MASTER] 5e87ad0cf8f2f90b18558913f3c71e7552aa0af5 From: dpdklab@iol.unh.edu To: Test Report Cc: dpdk-test-reports@iol.unh.edu, Xueming Li , Christian Ehrhardt , Kevin Traynor , Luca Boccassi Content-Type: text/plain X-BeenThere: test-report@dpdk.org X-Mailman-Version: 2.1.29 Precedence: list List-Id: automatic DPDK test reports List-Unsubscribe: , List-Archive: List-Post: List-Help: List-Subscribe: , Errors-To: test-report-bounces@dpdk.org _Testing PASS_ Branch: tags/v22.11 5e87ad0cf8f2f90b18558913f3c71e7552aa0af5 --> testing pass Test environment and result as below: +-----------------+----------+ | Environment | abi_test | +=================+==========+ | RHEL 7 | PASS | +-----------------+----------+ | Debian Bullseye | PASS | +-----------------+----------+ | Debian Buster | PASS | +-----------------+----------+ | Ubuntu 22.04 | PASS | +-----------------+----------+ | RHEL8 | PASS | +-----------------+----------+ | CentOS Stream 9 | PASS | +-----------------+----------+ | Fedora 37 | PASS | +-----------------+----------+ | Fedora 38 | PASS | +-----------------+----------+ RHEL 7 Kernel: 4.18.0-240.10.1.el8_3.x86_64 Compiler: gcc 4.8.5 20150623 (Red Hat 4.8.5-44) Debian Bullseye Kernel: 5.4.0-122-generic Compiler: gcc 10.2.1-6 Debian Buster Kernel: 5.4.0-122-generic Compiler: gcc 8.3.0-6 Ubuntu 22.04 Kernel: 4.18.0-240.10.1.el8_3.x86_64 Compiler: gcc 11.3.0 RHEL8 Kernel: 4.18.0-240.10.1.el8_3.x86_64 Compiler: gcc 8.3.1 20191121 (Red Hat 8.3.1-5) CentOS Stream 9 Kernel: 4.18.0-240.10.1.el8_3.x86_64 Compiler: gcc 11.3.1 20220421 Fedora 37 Kernel: Depends on container host system Compiler: gcc 12.3.1 Fedora 38 Kernel: Depends on container host Compiler: clang 16.0.3 To view detailed results, visit: https://lab.dpdk.org/results/dashboard/tarballs/25924/ UNH-IOL DPDK Community Lab To manage your email subscriptions, visit: https://lab.dpdk.org/results/dashboard/preferences/subscriptions/