From mboxrd@z Thu Jan 1 00:00:00 1970 Return-Path: Received: from mails.dpdk.org (mails.dpdk.org [217.70.189.124]) by inbox.dpdk.org (Postfix) with ESMTP id 42F4F430E8 for ; Thu, 24 Aug 2023 07:38:16 +0200 (CEST) Received: from mails.dpdk.org (localhost [127.0.0.1]) by mails.dpdk.org (Postfix) with ESMTP id 4C2FE40EE1; Thu, 24 Aug 2023 07:38:16 +0200 (CEST) Received: from mail-vk1-f226.google.com (mail-vk1-f226.google.com [209.85.221.226]) by mails.dpdk.org (Postfix) with ESMTP id 8A51140EE1 for ; Thu, 24 Aug 2023 07:38:14 +0200 (CEST) Received: by mail-vk1-f226.google.com with SMTP id 71dfb90a1353d-4871e5dbe0cso334158e0c.1 for ; Wed, 23 Aug 2023 22:38:14 -0700 (PDT) DKIM-Signature: v=1; a=rsa-sha256; c=relaxed/relaxed; d=iol.unh.edu; s=unh-iol; t=1692855494; x=1693460294; h=cc:to:from:subject:message-id:date:from:to:cc:subject:date :message-id:reply-to; bh=NWvnBakxPy2+P6dtBsJa65dK7C9ZeGb6+/LPcQIpna4=; b=X8YfMcLbVJQdOcNuT3Sf0gTSeQV/CiLtvtxFSqF2UKANxq9vssUrj6GBLaoyRGJFW0 D0CptmbTFxKTgBHTNxAQsqOB4KkrUR2obdeKjV0ANppCxX4NdyYfADXQBKUlNR1SuDrS PYX+BHl6k+swSD2tuZOqwfVynZvUmUBjM8oj4= X-Google-DKIM-Signature: v=1; a=rsa-sha256; c=relaxed/relaxed; d=1e100.net; s=20221208; t=1692855494; x=1693460294; h=cc:to:from:subject:message-id:date:x-gm-message-state:from:to:cc :subject:date:message-id:reply-to; bh=NWvnBakxPy2+P6dtBsJa65dK7C9ZeGb6+/LPcQIpna4=; b=X/O8grfglxafzjLEaEXcrnF22PHV6396e3FQd1edrUp2jnGJRYiCzer6llUJzH5rQX tJVZh1yXTCDwhS+gJxr9P0sAlvI5WtVYZxq6GzrWUakOBh+4rDMZ1Qj7z/Ma3sExtaBm LzDNgArdaLwGg8/gXXbS9hs/S0n++QmBNkwFxeHPEP7+Nqh6ggF5D0NFZPrD5IT+47Vk Nrf0PXq196cotb44XnI0hKU/m9QakUelI7I17p9YVi1b4cYN2vR25kJYw8wkvqgf8v0F 5T1JnMOK0H4VlFTDzkfq7WPXTmmmL9/fXbP8liBNJhZmSn70Dr8L2KYleB79KVHTI2k/ bsIw== X-Gm-Message-State: AOJu0YyogjzKCcpa/TaWCfk9vChhzpp4q9ikVDHvLSdc1KfG0PkG+Ra4 6EDDbfJeiPC+Vf5Lkuc+MOjakE3ZfzH6dNFFK4WEmEvUbuBEWg== X-Google-Smtp-Source: AGHT+IGF98xCez8AprlGZym9ZSt0BpvpILUChk5+v3SMHrXRG6vynHGTqLIqsLTLGWBXdnkKOXXHgnlaCooH X-Received: by 2002:a05:6122:c56:b0:48d:392c:c7d9 with SMTP id i22-20020a0561220c5600b0048d392cc7d9mr4152977vkr.6.1692855493890; Wed, 23 Aug 2023 22:38:13 -0700 (PDT) Received: from postal.iol.unh.edu (postal.iol.unh.edu. [132.177.123.84]) by smtp-relay.gmail.com with ESMTPS id v20-20020ab05b54000000b00787728088aasm1021393uae.20.2023.08.23.22.38.13 (version=TLS1_2 cipher=ECDHE-ECDSA-AES128-GCM-SHA256 bits=128/128); Wed, 23 Aug 2023 22:38:13 -0700 (PDT) X-Relaying-Domain: iol.unh.edu Date: Wed, 23 Aug 2023 22:38:13 -0700 (PDT) Message-ID: <64e6ecc5.b00a0220.e91e0.f24bSMTPIN_ADDED_MISSING@mx.google.com> Received: from [172.21.0.2] (unknown [172.18.0.240]) by postal.iol.unh.edu (Postfix) with ESMTP id 914396052471; Thu, 24 Aug 2023 01:38:13 -0400 (EDT) Subject: |SUCCESS| [GIT MASTER] 5e87ad0cf8f2f90b18558913f3c71e7552aa0af5 From: dpdklab@iol.unh.edu To: Test Report Cc: dpdk-test-reports@iol.unh.edu, Xueming Li , Christian Ehrhardt , Kevin Traynor , Luca Boccassi Content-Type: text/plain X-BeenThere: test-report@dpdk.org X-Mailman-Version: 2.1.29 Precedence: list List-Id: automatic DPDK test reports List-Unsubscribe: , List-Archive: List-Post: List-Help: List-Subscribe: , Errors-To: test-report-bounces@dpdk.org _Testing PASS_ Branch: tags/v22.11 5e87ad0cf8f2f90b18558913f3c71e7552aa0af5 --> testing pass Test environment and result as below: +---------------------+--------------------+----------------------+ | Environment | dpdk_meson_compile | dpdk_mingw64_compile | +=====================+====================+======================+ | FreeBSD 13 | PASS | SKIPPED | +---------------------+--------------------+----------------------+ | Windows Server 2019 | PASS | PASS | +---------------------+--------------------+----------------------+ | Debian Bullseye | PASS | SKIPPED | +---------------------+--------------------+----------------------+ | CentOS Stream 8 | PASS | SKIPPED | +---------------------+--------------------+----------------------+ | Debian Buster | PASS | SKIPPED | +---------------------+--------------------+----------------------+ | Ubuntu 22.04 | PASS | SKIPPED | +---------------------+--------------------+----------------------+ | RHEL8 | PASS | SKIPPED | +---------------------+--------------------+----------------------+ | Alpine | PASS | SKIPPED | +---------------------+--------------------+----------------------+ | openSUSE Leap 15 | PASS | SKIPPED | +---------------------+--------------------+----------------------+ | CentOS Stream 9 | PASS | SKIPPED | +---------------------+--------------------+----------------------+ | Ubuntu 20.04 | PASS | SKIPPED | +---------------------+--------------------+----------------------+ | RHEL 7 | PASS | SKIPPED | +---------------------+--------------------+----------------------+ | Fedora 38 | PASS | SKIPPED | +---------------------+--------------------+----------------------+ FreeBSD 13 Kernel: 13.0 Compiler: clang 11.0.1 Windows Server 2019 Kernel: 10.0 Compiler: clang 14.0 and gcc 8.1.0 (MinGW) Debian Bullseye Kernel: 5.4.0-122-generic Compiler: gcc 10.2.1-6 CentOS Stream 8 Kernel: 4.18.0-240.10.1.el8_3.x86_64 Compiler: gcc 8.4.1 20200928 Debian Buster Kernel: 5.4.0-122-generic Compiler: gcc 8.3.0-6 Ubuntu 22.04 Kernel: 4.18.0-240.10.1.el8_3.x86_64 Compiler: gcc 11.3.0 RHEL8 Kernel: 4.18.0-240.10.1.el8_3.x86_64 Compiler: gcc 8.3.1 20191121 (Red Hat 8.3.1-5) Alpine Kernel: 5.4.0-73-generic Compiler: gcc (Alpine 10.3.1_git20210424) 10.3.1 20210424 openSUSE Leap 15 Kernel: 4.18.0-240.10.1.el8_3.x86_64 Compiler: gcc 7.5.0 CentOS Stream 9 Kernel: 4.18.0-240.10.1.el8_3.x86_64 Compiler: gcc 11.3.1 20220421 Ubuntu 20.04 Kernel: 5.4.0-153-generic Compiler: gcc 9.4.0-1ubuntu1~20.04.1 RHEL 7 Kernel: 4.18.0-240.10.1.el8_3.x86_64 Compiler: gcc 4.8.5 20150623 (Red Hat 4.8.5-44) Fedora 38 Kernel: Depends on container host Compiler: clang 16.0.3 To view detailed results, visit: https://lab.dpdk.org/results/dashboard/tarballs/25924/ UNH-IOL DPDK Community Lab To manage your email subscriptions, visit: https://lab.dpdk.org/results/dashboard/preferences/subscriptions/