From mboxrd@z Thu Jan 1 00:00:00 1970 Return-Path: Received: from mails.dpdk.org (mails.dpdk.org [217.70.189.124]) by inbox.dpdk.org (Postfix) with ESMTP id 0328342F79 for ; Fri, 25 Aug 2023 06:27:53 +0200 (CEST) Received: from mails.dpdk.org (localhost [127.0.0.1]) by mails.dpdk.org (Postfix) with ESMTP id F349C40695; Fri, 25 Aug 2023 06:27:52 +0200 (CEST) Received: from mail-pl1-f227.google.com (mail-pl1-f227.google.com [209.85.214.227]) by mails.dpdk.org (Postfix) with ESMTP id A21D440695 for ; Fri, 25 Aug 2023 06:27:51 +0200 (CEST) Received: by mail-pl1-f227.google.com with SMTP id d9443c01a7336-1bdc19b782aso4890605ad.0 for ; Thu, 24 Aug 2023 21:27:51 -0700 (PDT) DKIM-Signature: v=1; a=rsa-sha256; c=relaxed/relaxed; d=iol.unh.edu; s=unh-iol; t=1692937671; x=1693542471; h=cc:to:from:subject:message-id:date:from:to:cc:subject:date :message-id:reply-to; bh=eu1vI4UbCGch4d9CxnDh5bAxNQZptUU2eA9RBlbIP8E=; b=ZM5f2Q2Fg8Vpdix6Rg/9f3JThllaqUUTRWD66JevrtGF+S+3/72EKWnG2PZ0u8V7Xa aHR29oRVXA++/Pj70PH6kNvOpYfRU4bUm/pwZPsqCo0qwRh2p3gNJM1BBTTImR9xaJWQ 8u22Lc5u5f0m9cZAL5jHL8SmDzn+5zRKTX0xU= X-Google-DKIM-Signature: v=1; a=rsa-sha256; c=relaxed/relaxed; d=1e100.net; s=20221208; t=1692937671; x=1693542471; h=cc:to:from:subject:message-id:date:x-gm-message-state:from:to:cc :subject:date:message-id:reply-to; bh=eu1vI4UbCGch4d9CxnDh5bAxNQZptUU2eA9RBlbIP8E=; b=ixNkU5SFSv5/Iqa0BVMNL6wdj5nihs27RNjLd/kFnMFlQ2G3sv/jdAhW5bw+F4I+Wy 2BQLqu3Q5W+lOfV7QOcnMQaFov1OQszh45t9s07zBkyzkqAUYdWoXgoz17WLSCuHidQm BeJ+N4y8O5DUaIhe2t80BB8XNqM+0vHGUK/HsnfSrtApj7kJfQO2ZsTf2xa83vpxt1m1 HvvjT8zElK4cE86Xd6k5ZrZrf16nA7jaJhXCthhjznNo1rmGLmeq02UqTtWUOxhRIUj6 RDmwf27tYZ7nWBlwoOmSda3E8s1/HyjnJCS0FsTGA/qKgiQCbzK1gEeV1jUH1s8txW+E BMMw== X-Gm-Message-State: AOJu0Yyk+PJWbN15LcXsQFUeJd/cl/OaIPBecHZMYFWt8q4zzwuQGrob 8J/g02h66JciiHNnj7AkwiODj51YBpXoSiO1zgmalskTLNY9Xg== X-Google-Smtp-Source: AGHT+IHLh/qSyM0P+t6pF4seUOXYxVNRkoAex53Bf/j/lDVnWvijYuQ03kpvs1C/CEDeJdYyQeC0P4DCWcRU X-Received: by 2002:a17:902:f804:b0:1c0:d89e:9035 with SMTP id ix4-20020a170902f80400b001c0d89e9035mr626022plb.31.1692937670879; Thu, 24 Aug 2023 21:27:50 -0700 (PDT) Received: from postal.iol.unh.edu (postal.iol.unh.edu. [132.177.123.84]) by smtp-relay.gmail.com with ESMTPS id jc18-20020a17090325d200b001bbdb340359sm17799plb.101.2023.08.24.21.27.50 (version=TLS1_2 cipher=ECDHE-ECDSA-AES128-GCM-SHA256 bits=128/128); Thu, 24 Aug 2023 21:27:50 -0700 (PDT) X-Relaying-Domain: iol.unh.edu Date: Thu, 24 Aug 2023 21:27:50 -0700 (PDT) Message-ID: <64e82dc6.170a0220.44023.152eSMTPIN_ADDED_MISSING@mx.google.com> Received: from [172.21.0.2] (unknown [172.18.0.240]) by postal.iol.unh.edu (Postfix) with ESMTP id 19B506052471; Fri, 25 Aug 2023 00:27:50 -0400 (EDT) Subject: |SUCCESS| [GIT MASTER] 5e87ad0cf8f2f90b18558913f3c71e7552aa0af5 From: dpdklab@iol.unh.edu To: Test Report Cc: dpdk-test-reports@iol.unh.edu, Xueming Li , Christian Ehrhardt , Kevin Traynor , Luca Boccassi Content-Type: text/plain X-BeenThere: test-report@dpdk.org X-Mailman-Version: 2.1.29 Precedence: list List-Id: automatic DPDK test reports List-Unsubscribe: , List-Archive: List-Post: List-Help: List-Subscribe: , Errors-To: test-report-bounces@dpdk.org _Testing PASS_ Branch: tags/v22.11 5e87ad0cf8f2f90b18558913f3c71e7552aa0af5 --> testing pass Test environment and result as below: +--------------------------+--------------------+ | Environment | dpdk_meson_compile | +==========================+====================+ | Ubuntu 20.04 ARM SVE | PASS | +--------------------------+--------------------+ | Ubuntu 20.04 (ARM) | PASS | +--------------------------+--------------------+ | Fedora 37 (ARM) | PASS | +--------------------------+--------------------+ | Debian 11 (Buster) (ARM) | PASS | +--------------------------+--------------------+ | Fedora 38 (ARM) | PASS | +--------------------------+--------------------+ | CentOS Stream 9 (ARM) | PASS | +--------------------------+--------------------+ Ubuntu 20.04 ARM SVE Kernel: 5.4.0-80-generic Compiler: gcc 10.3.0 (Ubuntu 10.3.0-1ubuntu1~20.04) Ubuntu 20.04 (ARM) Kernel: Container Host Kernel Compiler: gcc 9.4.0 Fedora 37 (ARM) Kernel: Depends on container host Compiler: gcc 12.3.1 Debian 11 (Buster) (ARM) Kernel: Container Host Kernel Compiler: gcc 10.2.1 Fedora 38 (ARM) Kernel: Depends on container host Compiler: gcc 13.1.1 CentOS Stream 9 (ARM) Kernel: Container Host Kernel Compiler: gcc 11.3.1 To view detailed results, visit: https://lab.dpdk.org/results/dashboard/tarballs/25934/ UNH-IOL DPDK Community Lab To manage your email subscriptions, visit: https://lab.dpdk.org/results/dashboard/preferences/subscriptions/