From mboxrd@z Thu Jan 1 00:00:00 1970 Return-Path: Received: from mails.dpdk.org (mails.dpdk.org [217.70.189.124]) by inbox.dpdk.org (Postfix) with ESMTP id EDA0043112 for ; Sun, 27 Aug 2023 06:24:55 +0200 (CEST) Received: from mails.dpdk.org (localhost [127.0.0.1]) by mails.dpdk.org (Postfix) with ESMTP id E96AC40A8B; Sun, 27 Aug 2023 06:24:55 +0200 (CEST) Received: from mail-ot1-f98.google.com (mail-ot1-f98.google.com [209.85.210.98]) by mails.dpdk.org (Postfix) with ESMTP id BA03240A8B for ; Sun, 27 Aug 2023 06:24:54 +0200 (CEST) Received: by mail-ot1-f98.google.com with SMTP id 46e09a7af769-6b9a2416b1cso1785071a34.2 for ; Sat, 26 Aug 2023 21:24:54 -0700 (PDT) DKIM-Signature: v=1; a=rsa-sha256; c=relaxed/relaxed; d=iol.unh.edu; s=unh-iol; t=1693110294; x=1693715094; h=cc:to:from:subject:message-id:date:from:to:cc:subject:date :message-id:reply-to; bh=84CAGgv0dNeGXhdnwuEet8TPHmRtY0nHiXROFZI8zgA=; b=XK626fUs3TnFxTUdd4hKPqGRO4pGjlgyqaJLwzLNMrbrJkn1+W08Ern41o1l8tbQFI MeQymqV83JJytJc0YijLNqOsnzB7GWCYpfmyxLdf31vafVVdfVTFo9P6mcXJWstdkFSJ LLyz9pME73ZZn3QMMv9RxCnOVKmrOfvdIQnk4= X-Google-DKIM-Signature: v=1; a=rsa-sha256; c=relaxed/relaxed; d=1e100.net; s=20221208; t=1693110294; x=1693715094; h=cc:to:from:subject:message-id:date:x-gm-message-state:from:to:cc :subject:date:message-id:reply-to; bh=84CAGgv0dNeGXhdnwuEet8TPHmRtY0nHiXROFZI8zgA=; b=bC1mE4nWGDLlsonUH+TjY9H5TX/w1sXI3uVe/zJSQj9NqG46K5YJ85g2Vb0FR97LL1 QN+EpbxKYhcSofGnsXZSqpjEd49y5jcqYj5oCxoQysRl7rH0R7XsERX7xNxrlBCa2ekX v3BGtBn6afbKjLIFSIRaMJbUCicCmQfdIZrFqb3mtI3h4hAjKxyxHgiuSyBy5c5npmwV 0hpBOg3+a6MBoxlYdgh+vC9ZjAGA85DF31nx34naJuIJCKrnq2ZVZAjzhjoB8Bly5Y++ TinMpkZKmoLuV9AYYZwwUjcNkoK2jBVTLG74dQk1HyVG20R63GusWdyyrkCOo9V3aLg+ B1kw== X-Gm-Message-State: AOJu0Ywrbb3Jr9PeygzSS9nuMgoXuz04MvxamNugoLOotC3DGjzKazVC J0phVknVYxZ4XZuvY+OCbgHw9nS1yXOCtI7m2Q8x6ons13e+dQ== X-Google-Smtp-Source: AGHT+IH8k8bk1MkoET9nzxO5BJxBSJvV6GixvAeHBFLa+fa1xZXyASwFCvs0fDWY6o2kMu4jCdnTycJYicoh X-Received: by 2002:a05:6870:d106:b0:1bb:6cca:3468 with SMTP id e6-20020a056870d10600b001bb6cca3468mr8669574oac.47.1693110294181; Sat, 26 Aug 2023 21:24:54 -0700 (PDT) Received: from postal.iol.unh.edu (postal.iol.unh.edu. [132.177.123.84]) by smtp-relay.gmail.com with ESMTPS id t1-20020a056870048100b001bf00f89769sm420826oam.17.2023.08.26.21.24.54 (version=TLS1_2 cipher=ECDHE-ECDSA-AES128-GCM-SHA256 bits=128/128); Sat, 26 Aug 2023 21:24:54 -0700 (PDT) X-Relaying-Domain: iol.unh.edu Date: Sat, 26 Aug 2023 21:24:54 -0700 (PDT) Message-ID: <64ead016.050a0220.f452.58b8SMTPIN_ADDED_MISSING@mx.google.com> Received: from [172.21.0.5] (unknown [172.18.0.240]) by postal.iol.unh.edu (Postfix) with ESMTP id A0F876052471; Sun, 27 Aug 2023 00:24:53 -0400 (EDT) Subject: |SUCCESS| [GIT MASTER] 5e87ad0cf8f2f90b18558913f3c71e7552aa0af5 From: dpdklab@iol.unh.edu To: Test Report Cc: dpdk-test-reports@iol.unh.edu, Xueming Li , Christian Ehrhardt , Kevin Traynor , Luca Boccassi Content-Type: text/plain X-BeenThere: test-report@dpdk.org X-Mailman-Version: 2.1.29 Precedence: list List-Id: automatic DPDK test reports List-Unsubscribe: , List-Archive: List-Post: List-Help: List-Subscribe: , Errors-To: test-report-bounces@dpdk.org _Testing PASS_ Branch: tags/v22.11 5e87ad0cf8f2f90b18558913f3c71e7552aa0af5 --> testing pass Test environment and result as below: +--------------------------+--------------------+ | Environment | dpdk_meson_compile | +==========================+====================+ | Ubuntu 20.04 ARM SVE | PASS | +--------------------------+--------------------+ | Fedora 37 (ARM) | PASS | +--------------------------+--------------------+ | Fedora 38 (ARM) | PASS | +--------------------------+--------------------+ | Ubuntu 20.04 (ARM) | PASS | +--------------------------+--------------------+ | Debian 11 (Buster) (ARM) | PASS | +--------------------------+--------------------+ | CentOS Stream 9 (ARM) | PASS | +--------------------------+--------------------+ Ubuntu 20.04 ARM SVE Kernel: 5.4.0-80-generic Compiler: gcc 10.3.0 (Ubuntu 10.3.0-1ubuntu1~20.04) Fedora 37 (ARM) Kernel: Depends on container host Compiler: gcc 12.3.1 Fedora 38 (ARM) Kernel: Depends on container host Compiler: gcc 13.1.1 Ubuntu 20.04 (ARM) Kernel: Container Host Kernel Compiler: gcc 9.4.0 Debian 11 (Buster) (ARM) Kernel: Container Host Kernel Compiler: gcc 10.2.1 CentOS Stream 9 (ARM) Kernel: Container Host Kernel Compiler: gcc 11.3.1 To view detailed results, visit: https://lab.dpdk.org/results/dashboard/tarballs/25955/ UNH-IOL DPDK Community Lab To manage your email subscriptions, visit: https://lab.dpdk.org/results/dashboard/preferences/subscriptions/