From mboxrd@z Thu Jan 1 00:00:00 1970 Return-Path: Received: from mails.dpdk.org (mails.dpdk.org [217.70.189.124]) by inbox.dpdk.org (Postfix) with ESMTP id 9E05442506 for ; Wed, 6 Sep 2023 07:29:23 +0200 (CEST) Received: from mails.dpdk.org (localhost [127.0.0.1]) by mails.dpdk.org (Postfix) with ESMTP id A71D44026A; Wed, 6 Sep 2023 07:29:23 +0200 (CEST) Received: from mail-io1-f99.google.com (mail-io1-f99.google.com [209.85.166.99]) by mails.dpdk.org (Postfix) with ESMTP id B658E4026A for ; Wed, 6 Sep 2023 07:29:22 +0200 (CEST) Received: by mail-io1-f99.google.com with SMTP id ca18e2360f4ac-79266c8617eso133189539f.3 for ; Tue, 05 Sep 2023 22:29:22 -0700 (PDT) DKIM-Signature: v=1; a=rsa-sha256; c=relaxed/relaxed; d=iol.unh.edu; s=unh-iol; t=1693978162; x=1694582962; darn=dpdk.org; h=cc:to:from:subject:message-id:date:from:to:cc:subject:date :message-id:reply-to; bh=jF2ZJMBkcHLcPmWBzYm2nWEd/ePkAQaGVT9OFA1q1XY=; b=KTWRv0F7/rVbpkVJ8dz7FEckK7x2qu/I5TGA0C/oSeCp4m2sLk/bHm7wSHVvsXk5n8 4n1y/5oOEH6I9at4Qk7q9qJAq4qgiunkfRWff4Gj7YieqilgymGGbICuO4UDnfJlcPcL CQSyE23VVKYfRFvBSCtyB9FM2eOnFxz3/R358= X-Google-DKIM-Signature: v=1; a=rsa-sha256; c=relaxed/relaxed; d=1e100.net; s=20221208; t=1693978162; x=1694582962; h=cc:to:from:subject:message-id:date:x-gm-message-state:from:to:cc :subject:date:message-id:reply-to; bh=jF2ZJMBkcHLcPmWBzYm2nWEd/ePkAQaGVT9OFA1q1XY=; b=iDXkKlcFvbarT6To94KeBdNJ+wJzgl4L/FXIRBU9O/eYcvf61AqyCX17ubmYIL6mCs tFhQCEokGPvzU1iGBcG24PzyfWQKQyPPog9GTwGOB9ZPIngpq+cvBCSDopJQKiftVAFd kKyulCkxdBTLW98tL3K1bYRNFjiOnKtFDyFE/idJHn8zN6lq2TTWe5VraJt6uM8EQQV0 Qzh+Bm8a3qNKovf3z34psa+5lqQFkLCTp3t2nkYYGIK2/TAX+qT8JqM23VCOLvH/U7C9 hTjzgVL96ccJQ6jXRXm7OqSSYMqPVoVJcWDOxibIlyqDLpfaMXuh49CHqX5CgNX92gII 2HuQ== X-Gm-Message-State: AOJu0Yya29aPExwUtiQDN+r1oPtqwUqhButXoPYdNVJj3oPpoPgPPB+w XWvIuL6a/Ooh4hwv3Isj07GVjZXLaDmdPR6z+gV60D2ROF4qT4avQi372blyOL1QSw== X-Google-Smtp-Source: AGHT+IECYe1C0ZnU/IOy2rOTU546qk0KU92/6ViDVIXEFDUzRMQR2Ipp2+CbVrlzPnyuFoV+F8WJ7UkEFI8B X-Received: by 2002:a6b:da03:0:b0:794:efb0:83d6 with SMTP id x3-20020a6bda03000000b00794efb083d6mr17234048iob.12.1693978162151; Tue, 05 Sep 2023 22:29:22 -0700 (PDT) Received: from postal.iol.unh.edu (postal.iol.unh.edu. [2606:4100:3880:1234::84]) by smtp-relay.gmail.com with ESMTPS id g22-20020a02b716000000b0042b5a690701sm519041jam.20.2023.09.05.22.29.22 (version=TLS1_2 cipher=ECDHE-ECDSA-AES128-GCM-SHA256 bits=128/128); Tue, 05 Sep 2023 22:29:22 -0700 (PDT) X-Relaying-Domain: iol.unh.edu Date: Tue, 05 Sep 2023 22:29:22 -0700 (PDT) Message-ID: <64f80e32.020a0220.ece27.71baSMTPIN_ADDED_MISSING@mx.google.com> Received: from [172.21.0.4] (unknown [172.18.0.240]) by postal.iol.unh.edu (Postfix) with ESMTP id AB5236052471; Wed, 6 Sep 2023 01:29:21 -0400 (EDT) Subject: |SUCCESS| [GIT MASTER] 5e87ad0cf8f2f90b18558913f3c71e7552aa0af5 From: dpdklab@iol.unh.edu To: Test Report Cc: dpdk-test-reports@iol.unh.edu, Xueming Li , Christian Ehrhardt , Kevin Traynor , Luca Boccassi Content-Type: text/plain X-BeenThere: test-report@dpdk.org X-Mailman-Version: 2.1.29 Precedence: list List-Id: automatic DPDK test reports List-Unsubscribe: , List-Archive: List-Post: List-Help: List-Subscribe: , Errors-To: test-report-bounces@dpdk.org _Testing PASS_ Branch: tags/v22.11 5e87ad0cf8f2f90b18558913f3c71e7552aa0af5 --> testing pass Test environment and result as below: +--------------------------+--------------------+ | Environment | dpdk_meson_compile | +==========================+====================+ | Ubuntu 20.04 ARM SVE | PASS | +--------------------------+--------------------+ | Fedora 37 (ARM) | PASS | +--------------------------+--------------------+ | Ubuntu 20.04 (ARM) | PASS | +--------------------------+--------------------+ | Debian 11 (Buster) (ARM) | PASS | +--------------------------+--------------------+ | CentOS Stream 9 (ARM) | PASS | +--------------------------+--------------------+ Ubuntu 20.04 ARM SVE Kernel: 5.4.0-80-generic Compiler: gcc 10.3.0 (Ubuntu 10.3.0-1ubuntu1~20.04) Fedora 37 (ARM) Kernel: Depends on container host Compiler: gcc 12.3.1 Ubuntu 20.04 (ARM) Kernel: Container Host Kernel Compiler: gcc 9.4.0 Debian 11 (Buster) (ARM) Kernel: Container Host Kernel Compiler: gcc 10.2.1 CentOS Stream 9 (ARM) Kernel: Container Host Kernel Compiler: gcc 11.3.1 To view detailed results, visit: https://lab.dpdk.org/results/dashboard/tarballs/26045/ UNH-IOL DPDK Community Lab To manage your email subscriptions, visit: https://lab.dpdk.org/results/dashboard/preferences/subscriptions/