From mboxrd@z Thu Jan 1 00:00:00 1970 Return-Path: Received: from mails.dpdk.org (mails.dpdk.org [217.70.189.124]) by inbox.dpdk.org (Postfix) with ESMTP id 7D8F142508 for ; Wed, 6 Sep 2023 09:34:26 +0200 (CEST) Received: from mails.dpdk.org (localhost [127.0.0.1]) by mails.dpdk.org (Postfix) with ESMTP id 83F144029D; Wed, 6 Sep 2023 09:34:26 +0200 (CEST) Received: from mail-io1-f99.google.com (mail-io1-f99.google.com [209.85.166.99]) by mails.dpdk.org (Postfix) with ESMTP id 05C7B4029D for ; Wed, 6 Sep 2023 09:34:25 +0200 (CEST) Received: by mail-io1-f99.google.com with SMTP id ca18e2360f4ac-7928dc54896so126877639f.3 for ; Wed, 06 Sep 2023 00:34:24 -0700 (PDT) DKIM-Signature: v=1; a=rsa-sha256; c=relaxed/relaxed; d=iol.unh.edu; s=unh-iol; t=1693985664; x=1694590464; darn=dpdk.org; h=cc:to:from:subject:message-id:date:from:to:cc:subject:date :message-id:reply-to; bh=/4B5SO+X66yxUiDZyK0FWxaoQHfXbLmX8Rl26bIxg0g=; b=XspVKrqGqfiYKmFZO3o+wkaoqPYG7MH+MY13mj0xs5JALTxkpRk4Lsf73kJjQv1sJv lzoxF1ZXvc+a91OvjhOdI4B6VXYu4076XtFChugw7SsGsTrx/BwymhENX+muE/gHGM5t YM2JhsB33zeRPuLbuO2Ykh5E8cgtolAbKvL7w= X-Google-DKIM-Signature: v=1; a=rsa-sha256; c=relaxed/relaxed; d=1e100.net; s=20221208; t=1693985664; x=1694590464; h=cc:to:from:subject:message-id:date:x-gm-message-state:from:to:cc :subject:date:message-id:reply-to; bh=/4B5SO+X66yxUiDZyK0FWxaoQHfXbLmX8Rl26bIxg0g=; b=PmtYWcF+89/O8NkN8ak8Z2R+1hKsmoNtEpzhBfREbviSPzVLP9iGEt1T/6xNc6a748 705DxAOcYXIGidYUd1g9V3782nES8MmBf11SSSPfmHTNQcR/IAalGrBTPo2cnjFn9pMg DCZGwSkpH59I3Sc/pJoTwiKC4yVRuRHjn2KmMH/tEY2LadQObIar4Sdz58AZaI1nrXN3 w6xBc6Wnsdoa6dtDn7IlOLso8F5piMvC//3sk/WZ8rz5fZLa/knMtoAprNbuTFzIkj+0 Oq6V0SDZVgGpwHjJL71pVr/ZEFK9YSdC0cbPUkE/SokNDpZGxFUaChPu9kWxcN05uSHN iK1Q== X-Gm-Message-State: AOJu0YyN5IcnOV/07MByVmGmLt6IF8zTTdKERLzy5TAsVKm07WQA5noK Yo8M7sOhd1VuhTtWRlmluKgqpIPFevcU6mYGfhmEGw1jNVSwokIEzhf2a9HyyNbT7g== X-Google-Smtp-Source: AGHT+IEA4NV5xFFGTm0XZzRAKDv0wrJWVBvet+UJUusIGuyPNr7MtrKfFwgdK7NlVBOIGREJ0D6xhWuQW712 X-Received: by 2002:a05:6e02:11a1:b0:34f:1fee:496d with SMTP id 1-20020a056e0211a100b0034f1fee496dmr5290974ilj.19.1693985664345; Wed, 06 Sep 2023 00:34:24 -0700 (PDT) Received: from postal.iol.unh.edu (postal.iol.unh.edu. [2606:4100:3880:1234::84]) by smtp-relay.gmail.com with ESMTPS id s9-20020a056e021a0900b0034e18965786sm446880ild.65.2023.09.06.00.34.24 (version=TLS1_2 cipher=ECDHE-ECDSA-AES128-GCM-SHA256 bits=128/128); Wed, 06 Sep 2023 00:34:24 -0700 (PDT) X-Relaying-Domain: iol.unh.edu Date: Wed, 06 Sep 2023 00:34:24 -0700 (PDT) Message-ID: <64f82b80.050a0220.28ec8.2076SMTPIN_ADDED_MISSING@mx.google.com> Received: from [172.21.0.2] (unknown [172.18.0.240]) by postal.iol.unh.edu (Postfix) with ESMTP id D19CF6052471; Wed, 6 Sep 2023 03:34:23 -0400 (EDT) Subject: |SUCCESS| [GIT MASTER] 5e87ad0cf8f2f90b18558913f3c71e7552aa0af5 From: dpdklab@iol.unh.edu To: Test Report Cc: dpdk-test-reports@iol.unh.edu, Xueming Li , Christian Ehrhardt , Kevin Traynor , Luca Boccassi Content-Type: text/plain X-BeenThere: test-report@dpdk.org X-Mailman-Version: 2.1.29 Precedence: list List-Id: automatic DPDK test reports List-Unsubscribe: , List-Archive: List-Post: List-Help: List-Subscribe: , Errors-To: test-report-bounces@dpdk.org _Testing PASS_ Branch: tags/v22.11 5e87ad0cf8f2f90b18558913f3c71e7552aa0af5 --> testing pass Test environment and result as below: +---------------------+--------------------+----------------------+ | Environment | dpdk_meson_compile | dpdk_mingw64_compile | +=====================+====================+======================+ | FreeBSD 13 | PASS | SKIPPED | +---------------------+--------------------+----------------------+ | Windows Server 2019 | PASS | PASS | +---------------------+--------------------+----------------------+ | CentOS Stream 8 | PASS | SKIPPED | +---------------------+--------------------+----------------------+ | Debian Bullseye | PASS | SKIPPED | +---------------------+--------------------+----------------------+ | CentOS Stream 9 | PASS | SKIPPED | +---------------------+--------------------+----------------------+ FreeBSD 13 Kernel: 13.0 Compiler: clang 11.0.1 Windows Server 2019 Kernel: 10.0 Compiler: clang 14.0 and gcc 8.1.0 (MinGW) CentOS Stream 8 Kernel: 4.18.0-240.10.1.el8_3.x86_64 Compiler: gcc 8.4.1 20200928 Debian Bullseye Kernel: 5.4.0-122-generic Compiler: gcc 10.2.1-6 CentOS Stream 9 Kernel: 4.18.0-240.10.1.el8_3.x86_64 Compiler: gcc 11.3.1 20220421 To view detailed results, visit: https://lab.dpdk.org/results/dashboard/tarballs/26045/ UNH-IOL DPDK Community Lab To manage your email subscriptions, visit: https://lab.dpdk.org/results/dashboard/preferences/subscriptions/