From mboxrd@z Thu Jan 1 00:00:00 1970 Return-Path: Received: from mails.dpdk.org (mails.dpdk.org [217.70.189.124]) by inbox.dpdk.org (Postfix) with ESMTP id DB76042530 for ; Thu, 7 Sep 2023 06:23:38 +0200 (CEST) Received: from mails.dpdk.org (localhost [127.0.0.1]) by mails.dpdk.org (Postfix) with ESMTP id DD6AE4029D; Thu, 7 Sep 2023 06:23:38 +0200 (CEST) Received: from mail-qk1-f226.google.com (mail-qk1-f226.google.com [209.85.222.226]) by mails.dpdk.org (Postfix) with ESMTP id 10A364029D for ; Thu, 7 Sep 2023 06:23:38 +0200 (CEST) Received: by mail-qk1-f226.google.com with SMTP id af79cd13be357-770819c1db6so34022985a.2 for ; Wed, 06 Sep 2023 21:23:38 -0700 (PDT) DKIM-Signature: v=1; a=rsa-sha256; c=relaxed/relaxed; d=iol.unh.edu; s=unh-iol; t=1694060617; x=1694665417; darn=dpdk.org; h=cc:to:from:subject:message-id:date:from:to:cc:subject:date :message-id:reply-to; bh=O2lJkBIFTAqoxo/Y9fnvZecPulkTzM8qDyMl6MNswAM=; b=MA9WznuRY5Hd4z87OkUAzvKSV3GQTZC25QHpDK4ewDOqGM08TStQ3NBzSqW2uHVxZJ yXpTCr2n5XPEZteshfdySLQzqrUAxTWquIJ8CiCBxeiYygVVLBXgF7TIud+BQsilLxYe yMhaE38aHpMuPJx3p1ewOdTBj06uUxr9maIS4= X-Google-DKIM-Signature: v=1; a=rsa-sha256; c=relaxed/relaxed; d=1e100.net; s=20221208; t=1694060617; x=1694665417; h=cc:to:from:subject:message-id:date:x-gm-message-state:from:to:cc :subject:date:message-id:reply-to; bh=O2lJkBIFTAqoxo/Y9fnvZecPulkTzM8qDyMl6MNswAM=; b=cfHeqI8C1nE4xyGQXLVKJU43AlXqi7mLK9ZTXm3THyFGcg5582882d831ZPCOIVc3B n7fLNOzGv+EpIlVzyaWto+OfL1Npb40imiZKFoOiJXBZhrMezXE5W+j7BpZbG7eecUiY gqmVvQ7dJai+tpZkRT3esTi8oCUl+XqwsSe2yc+UgnjpWIiPaush/M5Jo1Cco7tu5qjp s7KLkK434rjAj+XQZ/A2P8VYSTt3x7pup/VXbiB1ykMaMjPW6IjPLydfy9aZrzuBBAY1 UnMathnG5MCBsx/+z/LpxpXjO0J+HBf68osNd3Le7N/78uUHqXTjVfyuzsdYGIjtNcYQ 7Vbg== X-Gm-Message-State: AOJu0YyXyW0ad2YEvsE4R3zqos9zQQ4sLfHzj7LE/N5msv8D5HrKyISZ zBNa8D4qIa473xh09an3v0yLSG4GfbLcsddOOsFvnfWGkNTI32NJGRsDyefYxvyx+Q== X-Google-Smtp-Source: AGHT+IH9PvsGoWFzJm7xcs+SNIu4b67lH/lYovpiwu4zEb4DcV/PydFC36oUZ2fbeXoAfbkTRIZopJWx5czU X-Received: by 2002:a05:620a:2915:b0:76f:189e:e3e1 with SMTP id m21-20020a05620a291500b0076f189ee3e1mr23080048qkp.54.1694060617372; Wed, 06 Sep 2023 21:23:37 -0700 (PDT) Received: from postal.iol.unh.edu (postal.iol.unh.edu. [2606:4100:3880:1234::84]) by smtp-relay.gmail.com with ESMTPS id x11-20020a0cb20b000000b0064f3e4c6d8fsm1042230qvd.28.2023.09.06.21.23.37 (version=TLS1_2 cipher=ECDHE-ECDSA-AES128-GCM-SHA256 bits=128/128); Wed, 06 Sep 2023 21:23:37 -0700 (PDT) X-Relaying-Domain: iol.unh.edu Date: Wed, 06 Sep 2023 21:23:37 -0700 (PDT) Message-ID: <64f95049.0c0a0220.815a3.5589SMTPIN_ADDED_MISSING@mx.google.com> Received: from [172.21.0.2] (unknown [172.18.0.240]) by postal.iol.unh.edu (Postfix) with ESMTP id CE8126052471; Thu, 7 Sep 2023 00:23:36 -0400 (EDT) Subject: |SUCCESS| [GIT MASTER] 5e87ad0cf8f2f90b18558913f3c71e7552aa0af5 From: dpdklab@iol.unh.edu To: Test Report Cc: dpdk-test-reports@iol.unh.edu, Xueming Li , Christian Ehrhardt , Kevin Traynor , Luca Boccassi Content-Type: text/plain X-BeenThere: test-report@dpdk.org X-Mailman-Version: 2.1.29 Precedence: list List-Id: automatic DPDK test reports List-Unsubscribe: , List-Archive: List-Post: List-Help: List-Subscribe: , Errors-To: test-report-bounces@dpdk.org _Testing PASS_ Branch: tags/v22.11 5e87ad0cf8f2f90b18558913f3c71e7552aa0af5 --> testing pass Test environment and result as below: +--------------------------+--------------------+ | Environment | dpdk_meson_compile | +==========================+====================+ | Ubuntu 20.04 ARM SVE | PASS | +--------------------------+--------------------+ | Debian 11 (Buster) (ARM) | PASS | +--------------------------+--------------------+ | Fedora 38 (ARM) | PASS | +--------------------------+--------------------+ | Fedora 37 (ARM) | PASS | +--------------------------+--------------------+ | Ubuntu 20.04 (ARM) | PASS | +--------------------------+--------------------+ | CentOS Stream 9 (ARM) | PASS | +--------------------------+--------------------+ Ubuntu 20.04 ARM SVE Kernel: 5.4.0-80-generic Compiler: gcc 10.3.0 (Ubuntu 10.3.0-1ubuntu1~20.04) Debian 11 (Buster) (ARM) Kernel: Container Host Kernel Compiler: gcc 10.2.1 Fedora 38 (ARM) Kernel: Depends on container host Compiler: gcc 13.1.1 Fedora 37 (ARM) Kernel: Depends on container host Compiler: gcc 12.3.1 Ubuntu 20.04 (ARM) Kernel: Container Host Kernel Compiler: gcc 9.4.0 CentOS Stream 9 (ARM) Kernel: Container Host Kernel Compiler: gcc 11.3.1 To view detailed results, visit: https://lab.dpdk.org/results/dashboard/tarballs/26052/ UNH-IOL DPDK Community Lab To manage your email subscriptions, visit: https://lab.dpdk.org/results/dashboard/preferences/subscriptions/