From mboxrd@z Thu Jan 1 00:00:00 1970 Return-Path: Received: from mails.dpdk.org (mails.dpdk.org [217.70.189.124]) by inbox.dpdk.org (Postfix) with ESMTP id 4EC4D42530 for ; Thu, 7 Sep 2023 06:58:22 +0200 (CEST) Received: from mails.dpdk.org (localhost [127.0.0.1]) by mails.dpdk.org (Postfix) with ESMTP id 544864029D; Thu, 7 Sep 2023 06:58:22 +0200 (CEST) Received: from mail-pl1-f225.google.com (mail-pl1-f225.google.com [209.85.214.225]) by mails.dpdk.org (Postfix) with ESMTP id 3C4184029D for ; Thu, 7 Sep 2023 06:58:21 +0200 (CEST) Received: by mail-pl1-f225.google.com with SMTP id d9443c01a7336-1c1ff5b741cso4921535ad.2 for ; Wed, 06 Sep 2023 21:58:21 -0700 (PDT) DKIM-Signature: v=1; a=rsa-sha256; c=relaxed/relaxed; d=iol.unh.edu; s=unh-iol; t=1694062700; x=1694667500; darn=dpdk.org; h=cc:to:from:subject:message-id:date:from:to:cc:subject:date :message-id:reply-to; bh=m0wUPMya3WpVT8wzfk3C3/YaUHNs6zCIjLGivgZhDKc=; b=HjEdoPrpjQqj13HnJR+5J03cW7rXojuIw6Qbl9IXFYRwKtTyV6EzZO87n6LBxvC5qM Y29p7kc5/ELfHxzAoqewdog6jjlrt03YhGutmP0dfVcVsVZo7w7wCFITuT5y0BMZ8RVl N48bQSFZ2DmatsmA/Khvxfcrhwfk5gbO273ZA= X-Google-DKIM-Signature: v=1; a=rsa-sha256; c=relaxed/relaxed; d=1e100.net; s=20221208; t=1694062700; x=1694667500; h=cc:to:from:subject:message-id:date:x-gm-message-state:from:to:cc :subject:date:message-id:reply-to; bh=m0wUPMya3WpVT8wzfk3C3/YaUHNs6zCIjLGivgZhDKc=; b=T+0mh4w3RjRQfUobe9nTf1Cac6kXr/TY/f7KRYZ0H+xZtrFStG0xZwqgE8DF/OHiPP BvdV54gUWiT2WfREuomR6crvQs/zi56CXzOvhHKMyDmHeBV+AtU8C4GqevmsImgeqVC2 GN7hvwQenDODClmxz3FfwoAqB3qu+ujBgqahnjgpWBUYwkcF7bmxYhYg/3BFMicWysTE S1dptIvJWfls6bBuDCI9k7bxv+Eie1eAo05boYc7NNqdX6eGkiSZG+v5sZCEcR8iFj6k KIN/4jW3bqey05PwNVv1rhpRJzmGn8hVdwaShOiA1TIqcbytYW1EHpRt+2FO11qWkCYh J7sQ== X-Gm-Message-State: AOJu0YxISvNlb74+GuEhhVgCzUhfaEDVnA6x6ijKnYGe0MHqzvnvw78h ugHlYbOLdt6Lhmixh53Zs+7iBQspy4t8vv+9PyeNHsftNBolHWzvOhPT43k28EFl5A== X-Google-Smtp-Source: AGHT+IGPIa+Wv5WBVe0viIpCmCo7tbpW25eKqoOx6YP7WMUyzOIQmLawGGfVi8Zm1EiB7xgpi+u9DYFOxg5a X-Received: by 2002:a17:903:4281:b0:1bf:194a:953f with SMTP id ju1-20020a170903428100b001bf194a953fmr17436845plb.17.1694062700437; Wed, 06 Sep 2023 21:58:20 -0700 (PDT) Received: from postal.iol.unh.edu (postal.iol.unh.edu. [2606:4100:3880:1234::84]) by smtp-relay.gmail.com with ESMTPS id h5-20020a170902680500b001be01fc8cd8sm695415plk.62.2023.09.06.21.58.20 (version=TLS1_2 cipher=ECDHE-ECDSA-AES128-GCM-SHA256 bits=128/128); Wed, 06 Sep 2023 21:58:20 -0700 (PDT) X-Relaying-Domain: iol.unh.edu Date: Wed, 06 Sep 2023 21:58:20 -0700 (PDT) Message-ID: <64f9586c.170a0220.05ae.3630SMTPIN_ADDED_MISSING@mx.google.com> Received: from [172.21.0.2] (unknown [172.18.0.240]) by postal.iol.unh.edu (Postfix) with ESMTP id A7A7B6052471; Thu, 7 Sep 2023 00:58:19 -0400 (EDT) Subject: |SUCCESS| [GIT MASTER] 5e87ad0cf8f2f90b18558913f3c71e7552aa0af5 From: dpdklab@iol.unh.edu To: Test Report Cc: dpdk-test-reports@iol.unh.edu, Xueming Li , Christian Ehrhardt , Kevin Traynor , Luca Boccassi Content-Type: text/plain X-BeenThere: test-report@dpdk.org X-Mailman-Version: 2.1.29 Precedence: list List-Id: automatic DPDK test reports List-Unsubscribe: , List-Archive: List-Post: List-Help: List-Subscribe: , Errors-To: test-report-bounces@dpdk.org _Testing PASS_ Branch: tags/v22.11 5e87ad0cf8f2f90b18558913f3c71e7552aa0af5 --> testing pass Test environment and result as below: +------------------+----------+ | Environment | abi_test | +==================+==========+ | Fedora 38 | PASS | +------------------+----------+ | openSUSE Leap 15 | PASS | +------------------+----------+ | Debian Buster | PASS | +------------------+----------+ | CentOS Stream 9 | PASS | +------------------+----------+ | CentOS Stream 8 | PASS | +------------------+----------+ | RHEL8 | PASS | +------------------+----------+ | Fedora 37 | PASS | +------------------+----------+ Fedora 38 Kernel: Depends on container host Compiler: clang 16.0.3 openSUSE Leap 15 Kernel: 4.18.0-240.10.1.el8_3.x86_64 Compiler: gcc 7.5.0 Debian Buster Kernel: 5.4.0-122-generic Compiler: gcc 8.3.0-6 CentOS Stream 9 Kernel: 4.18.0-240.10.1.el8_3.x86_64 Compiler: gcc 11.3.1 20220421 CentOS Stream 8 Kernel: 4.18.0-240.10.1.el8_3.x86_64 Compiler: gcc 8.4.1 20200928 RHEL8 Kernel: 4.18.0-240.10.1.el8_3.x86_64 Compiler: gcc 8.3.1 20191121 (Red Hat 8.3.1-5) Fedora 37 Kernel: Depends on container host system Compiler: gcc 12.3.1 To view detailed results, visit: https://lab.dpdk.org/results/dashboard/tarballs/26052/ UNH-IOL DPDK Community Lab To manage your email subscriptions, visit: https://lab.dpdk.org/results/dashboard/preferences/subscriptions/