From mboxrd@z Thu Jan 1 00:00:00 1970 Return-Path: Received: from mails.dpdk.org (mails.dpdk.org [217.70.189.124]) by inbox.dpdk.org (Postfix) with ESMTP id 602294253E for ; Fri, 8 Sep 2023 07:52:15 +0200 (CEST) Received: from mails.dpdk.org (localhost [127.0.0.1]) by mails.dpdk.org (Postfix) with ESMTP id 69B1740042; Fri, 8 Sep 2023 07:52:15 +0200 (CEST) Received: from mail-ot1-f97.google.com (mail-ot1-f97.google.com [209.85.210.97]) by mails.dpdk.org (Postfix) with ESMTP id 4FD6540042 for ; Fri, 8 Sep 2023 07:52:14 +0200 (CEST) Received: by mail-ot1-f97.google.com with SMTP id 46e09a7af769-6bcb5df95c5so1320136a34.1 for ; Thu, 07 Sep 2023 22:52:14 -0700 (PDT) DKIM-Signature: v=1; a=rsa-sha256; c=relaxed/relaxed; d=iol.unh.edu; s=unh-iol; t=1694152333; x=1694757133; darn=dpdk.org; h=cc:to:from:subject:message-id:date:from:to:cc:subject:date :message-id:reply-to; bh=8qkQgbJPVVY2RiF4/SE4x4fh6VzvoQDHdvQsVgF+YQQ=; b=Aug9qCFpcm+ZrjLHWlOA4VZ28xXWOVjIczs7Ti9YPm52lcoZER+hwtBJqDODcCJj4X a6wv/3W+Pd3S8u4qXlR/Oqxi5PCPOIP4+ztJY/oeSR5vJK+MGjyKmg45JhHthrapwC5p h8MsOTyKXjJ1daA0ZwkBnhwt0XhvhWH4vWEjk= X-Google-DKIM-Signature: v=1; a=rsa-sha256; c=relaxed/relaxed; d=1e100.net; s=20230601; t=1694152333; x=1694757133; h=cc:to:from:subject:message-id:date:x-gm-message-state:from:to:cc :subject:date:message-id:reply-to; bh=8qkQgbJPVVY2RiF4/SE4x4fh6VzvoQDHdvQsVgF+YQQ=; b=D/6jAZZ1F6w6hHGDYScW8UqZ3f++bOzVF37QLG+31BW/0My0YH8+Ywodprow8Ep7oP c+6V0WosUvHRkE2DWWVKu/YZ6O8IH4wtwgSoB6rpmpugsy6VSgzv9YpTQFhOMa2Q5J8R pAllK5NV2IeSur6013A93ZMKGJViLAlSK0LezwuTqzaxEKCWkP2Si95VnG4dzY62iitZ h/TUz+/b+uYg+rGbOciI02eWcACSPKvf3MN+yiFMrdFlfLA6v/Y3/rB0ql79D8ZuztCy qFtBnfdi4isSvmBKPUlJZb5VdK41L3Rhf0bnvBMi1HTafXuRKBmRMhGHkLq2uUzEo+5y DyvA== X-Gm-Message-State: AOJu0YxYuynDs/mq6PoI/kuDu3K6pOCdndJSbw8Wp7CI3dUmDfkisCuL 7GJXSqYogLqIQBGShAhOAGpRMMqNVJ5u9OrQ/iGL92wOqhGhUAIHmnLWMhmy2xISIw== X-Google-Smtp-Source: AGHT+IHaSMFajrowEHnFnAZUl+cCrGA0BDT2K2zm/6XjOrGQECU6FipERhm0ejS8Sx8QdaavzMDKWM2FTbRR X-Received: by 2002:a4a:8111:0:b0:571:28d5:2c77 with SMTP id b17-20020a4a8111000000b0057128d52c77mr1626937oog.5.1694152333747; Thu, 07 Sep 2023 22:52:13 -0700 (PDT) Received: from postal.iol.unh.edu (postal.iol.unh.edu. [2606:4100:3880:1234::84]) by smtp-relay.gmail.com with ESMTPS id t67-20020a4a5446000000b005659a2f50efsm52275ooa.24.2023.09.07.22.52.13 (version=TLS1_2 cipher=ECDHE-ECDSA-AES128-GCM-SHA256 bits=128/128); Thu, 07 Sep 2023 22:52:13 -0700 (PDT) X-Relaying-Domain: iol.unh.edu Date: Thu, 07 Sep 2023 22:52:13 -0700 (PDT) Message-ID: <64fab68d.4a0a0220.64fb.3efdSMTPIN_ADDED_MISSING@mx.google.com> Received: from [172.21.0.2] (unknown [172.18.0.240]) by postal.iol.unh.edu (Postfix) with ESMTP id 36D056052471; Fri, 8 Sep 2023 01:52:13 -0400 (EDT) Subject: |SUCCESS| [GIT MASTER] 5e87ad0cf8f2f90b18558913f3c71e7552aa0af5 From: dpdklab@iol.unh.edu To: Test Report Cc: dpdk-test-reports@iol.unh.edu, Xueming Li , Christian Ehrhardt , Kevin Traynor , Luca Boccassi Content-Type: text/plain X-BeenThere: test-report@dpdk.org X-Mailman-Version: 2.1.29 Precedence: list List-Id: automatic DPDK test reports List-Unsubscribe: , List-Archive: List-Post: List-Help: List-Subscribe: , Errors-To: test-report-bounces@dpdk.org _Testing PASS_ Branch: tags/v22.11 5e87ad0cf8f2f90b18558913f3c71e7552aa0af5 --> testing pass Test environment and result as below: +--------------------------+--------------------+ | Environment | dpdk_meson_compile | +==========================+====================+ | Ubuntu 20.04 ARM SVE | PASS | +--------------------------+--------------------+ | Ubuntu 20.04 (ARM) | PASS | +--------------------------+--------------------+ | Debian 11 (Buster) (ARM) | PASS | +--------------------------+--------------------+ | CentOS Stream 9 (ARM) | PASS | +--------------------------+--------------------+ | Fedora 37 (ARM) | PASS | +--------------------------+--------------------+ | Fedora 38 (ARM) | PASS | +--------------------------+--------------------+ Ubuntu 20.04 ARM SVE Kernel: 5.4.0-80-generic Compiler: gcc 10.3.0 (Ubuntu 10.3.0-1ubuntu1~20.04) Ubuntu 20.04 (ARM) Kernel: Container Host Kernel Compiler: gcc 9.4.0 Debian 11 (Buster) (ARM) Kernel: Container Host Kernel Compiler: gcc 10.2.1 CentOS Stream 9 (ARM) Kernel: Container Host Kernel Compiler: gcc 11.3.1 Fedora 37 (ARM) Kernel: Depends on container host Compiler: gcc 12.3.1 Fedora 38 (ARM) Kernel: Depends on container host Compiler: gcc 13.1.1 To view detailed results, visit: https://lab.dpdk.org/results/dashboard/tarballs/26063/ UNH-IOL DPDK Community Lab To manage your email subscriptions, visit: https://lab.dpdk.org/results/dashboard/preferences/subscriptions/