From: dpdklab@iol.unh.edu
To: Test Report <test-report@dpdk.org>
Cc: dpdk-test-reports@iol.unh.edu
Subject: |SUCCESS| pw131375 [PATCH] net/ice: fix initail link status issue
Date: Wed, 13 Sep 2023 07:21:09 -0700 (PDT) [thread overview]
Message-ID: <6501c555.4a0a0220.1758.d618SMTPIN_ADDED_MISSING@mx.google.com> (raw)
Test-Label: iol-compile-arm64-testing
Test-Status: SUCCESS
http://dpdk.org/patch/131375
_Testing PASS_
Submitter: Qiming Yang <qiming.yang@intel.com>
Date: Wednesday, September 13 2023 09:02:08
DPDK git baseline: Repo:dpdk
Branch: master
CommitID:e92ba1426914db1d224dd5e9a1743657681b8814
131375 --> testing pass
Test environment and result as below:
+----------------------------------------+--------------------+
| Environment | dpdk_meson_compile |
+========================================+====================+
| Ubuntu 20.04 ARM SVE | PASS |
+----------------------------------------+--------------------+
| Ubuntu 20.04 (ARM) | PASS |
+----------------------------------------+--------------------+
| CentOS Stream 9 (ARM) | PASS |
+----------------------------------------+--------------------+
| Fedora 37 (ARM) | PASS |
+----------------------------------------+--------------------+
| Debian 11 (Buster) (ARM) | PASS |
+----------------------------------------+--------------------+
| Fedora 38 (ARM) | PASS |
+----------------------------------------+--------------------+
| Ubuntu 20.04 ARM GCC Cross Compile | PASS |
+----------------------------------------+--------------------+
| Ubuntu 20.04 aarch32 GCC Cross Compile | PASS |
+----------------------------------------+--------------------+
| Ubuntu 20.04 ARM Clang Cross Compile | PASS |
+----------------------------------------+--------------------+
Ubuntu 20.04 ARM SVE
Kernel: 5.4.0-80-generic
Compiler: gcc 10.3.0 (Ubuntu 10.3.0-1ubuntu1~20.04)
Ubuntu 20.04 (ARM)
Kernel: Container Host Kernel
Compiler: gcc 9.4.0
CentOS Stream 9 (ARM)
Kernel: Container Host Kernel
Compiler: gcc 11.3.1
Fedora 37 (ARM)
Kernel: Depends on container host
Compiler: gcc 12.3.1
Debian 11 (Buster) (ARM)
Kernel: Container Host Kernel
Compiler: gcc 10.2.1
Fedora 38 (ARM)
Kernel: Depends on container host
Compiler: gcc 13.1.1
Ubuntu 20.04 ARM GCC Cross Compile
Kernel: 5.4.0-72-generic
Compiler: aarch64-linux-gnu-gcc (Ubuntu 9.3.0-17ubuntu1~20.04) 9.3.0
Ubuntu 20.04 aarch32 GCC Cross Compile
Kernel: 5.4.0-72-generic
Compiler: gcc 9.3.0
Ubuntu 20.04 ARM Clang Cross Compile
Kernel: 5.4.0-72-generic
Compiler: clang version 10.0.0-4ubuntu1
To view detailed results, visit:
https://lab.dpdk.org/results/dashboard/patchsets/27589/
UNH-IOL DPDK Community Lab
To manage your email subscriptions, visit:
https://lab.dpdk.org/results/dashboard/preferences/subscriptions/
next reply other threads:[~2023-09-13 14:21 UTC|newest]
Thread overview: 50+ messages / expand[flat|nested] mbox.gz Atom feed top
2023-09-13 14:21 dpdklab [this message]
-- strict thread matches above, loose matches on Subject: below --
2023-09-13 15:27 dpdklab
2023-09-13 15:22 dpdklab
2023-09-13 15:07 dpdklab
2023-09-13 15:07 dpdklab
2023-09-13 15:06 dpdklab
2023-09-13 15:05 dpdklab
2023-09-13 14:59 dpdklab
2023-09-13 14:48 dpdklab
2023-09-13 14:47 dpdklab
2023-09-13 14:47 dpdklab
2023-09-13 14:47 dpdklab
2023-09-13 14:47 dpdklab
2023-09-13 14:44 dpdklab
2023-09-13 14:44 dpdklab
2023-09-13 14:44 dpdklab
2023-09-13 14:43 dpdklab
2023-09-13 14:41 dpdklab
2023-09-13 14:40 dpdklab
2023-09-13 14:40 dpdklab
2023-09-13 14:21 dpdklab
2023-09-13 14:21 dpdklab
2023-09-13 14:21 dpdklab
2023-09-13 14:20 dpdklab
2023-09-13 14:20 dpdklab
2023-09-13 14:20 dpdklab
2023-09-13 14:19 dpdklab
2023-09-13 14:17 dpdklab
2023-09-13 14:17 dpdklab
2023-09-13 14:17 dpdklab
2023-09-13 14:17 dpdklab
2023-09-13 14:17 dpdklab
2023-09-13 14:16 dpdklab
2023-09-13 14:16 dpdklab
2023-09-13 14:16 dpdklab
2023-09-13 14:15 dpdklab
2023-09-13 14:15 dpdklab
2023-09-13 14:15 dpdklab
2023-09-13 14:15 dpdklab
2023-09-13 14:15 dpdklab
2023-09-13 14:14 dpdklab
2023-09-13 14:14 dpdklab
2023-09-13 14:13 dpdklab
2023-09-13 14:13 dpdklab
2023-09-13 14:12 dpdklab
2023-09-13 14:12 dpdklab
2023-09-13 14:12 dpdklab
[not found] <20230913090208.1057944-1-qiming.yang@intel.com>
2023-09-13 9:06 ` qemudev
2023-09-13 9:10 ` qemudev
2023-09-13 10:19 ` 0-day Robot
Reply instructions:
You may reply publicly to this message via plain-text email
using any one of the following methods:
* Save the following mbox file, import it into your mail client,
and reply-to-all from there: mbox
Avoid top-posting and favor interleaved quoting:
https://en.wikipedia.org/wiki/Posting_style#Interleaved_style
* Reply using the --to, --cc, and --in-reply-to
switches of git-send-email(1):
git send-email \
--in-reply-to=6501c555.4a0a0220.1758.d618SMTPIN_ADDED_MISSING@mx.google.com \
--to=dpdklab@iol.unh.edu \
--cc=dpdk-test-reports@iol.unh.edu \
--cc=test-report@dpdk.org \
/path/to/YOUR_REPLY
https://kernel.org/pub/software/scm/git/docs/git-send-email.html
* If your mail client supports setting the In-Reply-To header
via mailto: links, try the mailto: link
Be sure your reply has a Subject: header at the top and a blank line
before the message body.
This is a public inbox, see mirroring instructions
for how to clone and mirror all data and code used for this inbox;
as well as URLs for NNTP newsgroup(s).