From: dpdklab@iol.unh.edu
To: Test Report <test-report@dpdk.org>
Cc: dpdk-test-reports@iol.unh.edu
Subject: |SUCCESS| pw131408 [PATCH] [v5] common/idpf: refactor single queue T
Date: Thu, 14 Sep 2023 00:12:21 -0700 (PDT) [thread overview]
Message-ID: <6502b255.0c0a0220.8a108.151fSMTPIN_ADDED_MISSING@mx.google.com> (raw)
Test-Label: iol-compile-amd64-testing
Test-Status: SUCCESS
http://dpdk.org/patch/131408
_Testing PASS_
Submitter: Simei Su <simei.su@intel.com>
Date: Thursday, September 14 2023 06:37:08
DPDK git baseline: Repo:dpdk
Branch: master
CommitID:e92ba1426914db1d224dd5e9a1743657681b8814
131408 --> testing pass
Test environment and result as below:
+------------------+--------------------+
| Environment | dpdk_meson_compile |
+==================+====================+
| Debian Buster | PASS |
+------------------+--------------------+
| CentOS Stream 9 | PASS |
+------------------+--------------------+
| CentOS Stream 8 | PASS |
+------------------+--------------------+
| Ubuntu 20.04 | PASS |
+------------------+--------------------+
| RHEL8 | PASS |
+------------------+--------------------+
| Fedora 37 | PASS |
+------------------+--------------------+
| Fedora 38 | PASS |
+------------------+--------------------+
| Debian Bullseye | PASS |
+------------------+--------------------+
| FreeBSD 13 | PASS |
+------------------+--------------------+
| openSUSE Leap 15 | PASS |
+------------------+--------------------+
| Ubuntu 22.04 | PASS |
+------------------+--------------------+
Debian Buster
Kernel: 5.4.0-122-generic
Compiler: gcc 8.3.0-6
CentOS Stream 9
Kernel: 4.18.0-240.10.1.el8_3.x86_64
Compiler: gcc 11.3.1 20220421
CentOS Stream 8
Kernel: 4.18.0-240.10.1.el8_3.x86_64
Compiler: gcc 8.4.1 20200928
Ubuntu 20.04
Kernel: 5.4.0-153-generic
Compiler: gcc 9.4.0-1ubuntu1~20.04.1
RHEL8
Kernel: 4.18.0-240.10.1.el8_3.x86_64
Compiler: gcc 8.3.1 20191121 (Red Hat 8.3.1-5)
Fedora 37
Kernel: Depends on container host system
Compiler: gcc 12.3.1
Fedora 38
Kernel: Depends on container host
Compiler: gcc 13.1.1
Debian Bullseye
Kernel: 5.4.0-122-generic
Compiler: gcc 10.2.1-6
FreeBSD 13
Kernel: 13.0
Compiler: clang 11.0.1
openSUSE Leap 15
Kernel: 4.18.0-240.10.1.el8_3.x86_64
Compiler: gcc 7.5.0
Ubuntu 22.04
Kernel: 4.18.0-240.10.1.el8_3.x86_64
Compiler: gcc 11.3.0
To view detailed results, visit:
https://lab.dpdk.org/results/dashboard/patchsets/27599/
UNH-IOL DPDK Community Lab
To manage your email subscriptions, visit:
https://lab.dpdk.org/results/dashboard/preferences/subscriptions/
next reply other threads:[~2023-09-14 7:12 UTC|newest]
Thread overview: 46+ messages / expand[flat|nested] mbox.gz Atom feed top
2023-09-14 7:12 dpdklab [this message]
-- strict thread matches above, loose matches on Subject: below --
2023-09-14 8:29 dpdklab
2023-09-14 7:32 dpdklab
2023-09-14 7:29 dpdklab
2023-09-14 7:29 dpdklab
2023-09-14 7:28 dpdklab
2023-09-14 7:27 dpdklab
2023-09-14 7:26 dpdklab
2023-09-14 7:23 dpdklab
2023-09-14 7:23 dpdklab
2023-09-14 7:22 dpdklab
2023-09-14 7:21 dpdklab
2023-09-14 7:19 dpdklab
2023-09-14 7:18 dpdklab
2023-09-14 7:18 dpdklab
2023-09-14 7:16 dpdklab
2023-09-14 7:15 dpdklab
2023-09-14 7:15 dpdklab
2023-09-14 7:14 dpdklab
2023-09-14 7:14 dpdklab
2023-09-14 7:13 dpdklab
2023-09-14 7:13 dpdklab
2023-09-14 7:13 dpdklab
2023-09-14 7:13 dpdklab
2023-09-14 7:12 dpdklab
2023-09-14 7:12 dpdklab
2023-09-14 7:12 dpdklab
2023-09-14 7:12 dpdklab
2023-09-14 7:12 dpdklab
2023-09-14 7:12 dpdklab
2023-09-14 7:12 dpdklab
2023-09-14 7:12 dpdklab
2023-09-14 7:11 dpdklab
2023-09-14 7:11 dpdklab
2023-09-14 7:11 dpdklab
2023-09-14 7:11 dpdklab
2023-09-14 7:11 dpdklab
2023-09-14 7:10 dpdklab
2023-09-14 7:10 dpdklab
2023-09-14 7:10 dpdklab
2023-09-14 7:10 dpdklab
2023-09-14 7:09 dpdklab
2023-09-14 7:09 dpdklab
2023-09-14 7:08 dpdklab
2023-09-14 7:08 dpdklab
2023-09-14 7:07 dpdklab
Reply instructions:
You may reply publicly to this message via plain-text email
using any one of the following methods:
* Save the following mbox file, import it into your mail client,
and reply-to-all from there: mbox
Avoid top-posting and favor interleaved quoting:
https://en.wikipedia.org/wiki/Posting_style#Interleaved_style
* Reply using the --to, --cc, and --in-reply-to
switches of git-send-email(1):
git send-email \
--in-reply-to=6502b255.0c0a0220.8a108.151fSMTPIN_ADDED_MISSING@mx.google.com \
--to=dpdklab@iol.unh.edu \
--cc=dpdk-test-reports@iol.unh.edu \
--cc=test-report@dpdk.org \
/path/to/YOUR_REPLY
https://kernel.org/pub/software/scm/git/docs/git-send-email.html
* If your mail client supports setting the In-Reply-To header
via mailto: links, try the mailto: link
Be sure your reply has a Subject: header at the top and a blank line
before the message body.
This is a public inbox, see mirroring instructions
for how to clone and mirror all data and code used for this inbox;
as well as URLs for NNTP newsgroup(s).