From: dpdklab@iol.unh.edu
To: Test Report <test-report@dpdk.org>
Cc: dpdk-test-reports@iol.unh.edu
Subject: |SUCCESS| pw131409 [PATCH] maintainers: update for gro and gso
Date: Thu, 14 Sep 2023 03:48:58 -0700 (PDT) [thread overview]
Message-ID: <6502e51a.250a0220.6991b.521aSMTPIN_ADDED_MISSING@mx.google.com> (raw)
Test-Label: iol-compile-amd64-testing
Test-Status: SUCCESS
http://dpdk.org/patch/131409
_Testing PASS_
Submitter: None <hujiayu.hu@foxmail.com>
Date: Wednesday, September 13 2023 13:35:46
DPDK git baseline: Repo:dpdk
Branch: master
CommitID:e92ba1426914db1d224dd5e9a1743657681b8814
131409 --> testing pass
Test environment and result as below:
+------------------+--------------------+
| Environment | dpdk_meson_compile |
+==================+====================+
| CentOS Stream 9 | PASS |
+------------------+--------------------+
| CentOS Stream 8 | PASS |
+------------------+--------------------+
| Debian Buster | PASS |
+------------------+--------------------+
| Debian Bullseye | PASS |
+------------------+--------------------+
| Fedora 37 | PASS |
+------------------+--------------------+
| FreeBSD 13 | PASS |
+------------------+--------------------+
| Ubuntu 20.04 | PASS |
+------------------+--------------------+
| RHEL8 | PASS |
+------------------+--------------------+
| openSUSE Leap 15 | PASS |
+------------------+--------------------+
| Fedora 38 | PASS |
+------------------+--------------------+
| Ubuntu 22.04 | PASS |
+------------------+--------------------+
CentOS Stream 9
Kernel: 4.18.0-240.10.1.el8_3.x86_64
Compiler: gcc 11.3.1 20220421
CentOS Stream 8
Kernel: 4.18.0-240.10.1.el8_3.x86_64
Compiler: gcc 8.4.1 20200928
Debian Buster
Kernel: 5.4.0-122-generic
Compiler: gcc 8.3.0-6
Debian Bullseye
Kernel: 5.4.0-122-generic
Compiler: gcc 10.2.1-6
Fedora 37
Kernel: Depends on container host system
Compiler: gcc 12.3.1
FreeBSD 13
Kernel: 13.0
Compiler: clang 11.0.1
Ubuntu 20.04
Kernel: 5.4.0-153-generic
Compiler: gcc 9.4.0-1ubuntu1~20.04.1
RHEL8
Kernel: 4.18.0-240.10.1.el8_3.x86_64
Compiler: gcc 8.3.1 20191121 (Red Hat 8.3.1-5)
openSUSE Leap 15
Kernel: 4.18.0-240.10.1.el8_3.x86_64
Compiler: gcc 7.5.0
Fedora 38
Kernel: Depends on container host
Compiler: gcc 13.1.1
Ubuntu 22.04
Kernel: 4.18.0-240.10.1.el8_3.x86_64
Compiler: gcc 11.3.0
To view detailed results, visit:
https://lab.dpdk.org/results/dashboard/patchsets/27600/
UNH-IOL DPDK Community Lab
To manage your email subscriptions, visit:
https://lab.dpdk.org/results/dashboard/preferences/subscriptions/
next reply other threads:[~2023-09-14 10:49 UTC|newest]
Thread overview: 50+ messages / expand[flat|nested] mbox.gz Atom feed top
2023-09-14 10:48 dpdklab [this message]
-- strict thread matches above, loose matches on Subject: below --
2023-09-14 12:08 dpdklab
2023-09-14 11:39 dpdklab
2023-09-14 11:38 dpdklab
2023-09-14 11:35 dpdklab
2023-09-14 11:32 dpdklab
2023-09-14 11:30 dpdklab
2023-09-14 11:29 dpdklab
2023-09-14 11:28 dpdklab
2023-09-14 11:27 dpdklab
2023-09-14 11:25 dpdklab
2023-09-14 11:22 dpdklab
2023-09-14 11:18 dpdklab
2023-09-14 11:18 dpdklab
2023-09-14 11:18 dpdklab
2023-09-14 11:17 dpdklab
2023-09-14 11:16 dpdklab
2023-09-14 11:14 dpdklab
2023-09-14 11:13 dpdklab
2023-09-14 11:12 dpdklab
2023-09-14 11:08 dpdklab
2023-09-14 11:04 dpdklab
2023-09-14 11:04 dpdklab
2023-09-14 10:57 dpdklab
2023-09-14 10:56 dpdklab
2023-09-14 10:56 dpdklab
2023-09-14 10:56 dpdklab
2023-09-14 10:56 dpdklab
2023-09-14 10:55 dpdklab
2023-09-14 10:55 dpdklab
2023-09-14 10:55 dpdklab
2023-09-14 10:54 dpdklab
2023-09-14 10:54 dpdklab
2023-09-14 10:53 dpdklab
2023-09-14 10:53 dpdklab
2023-09-14 10:53 dpdklab
2023-09-14 10:53 dpdklab
2023-09-14 10:52 dpdklab
2023-09-14 10:52 dpdklab
2023-09-14 10:52 dpdklab
2023-09-14 10:51 dpdklab
2023-09-14 10:51 dpdklab
2023-09-14 10:50 dpdklab
2023-09-14 10:50 dpdklab
2023-09-14 10:49 dpdklab
2023-09-14 10:48 dpdklab
2023-09-14 10:48 dpdklab
[not found] <tencent_66290E466F6AD008D834DCA6876100AE3008@qq.com>
2023-09-14 7:52 ` checkpatch
2023-09-14 10:37 ` qemudev
2023-09-14 10:41 ` qemudev
Reply instructions:
You may reply publicly to this message via plain-text email
using any one of the following methods:
* Save the following mbox file, import it into your mail client,
and reply-to-all from there: mbox
Avoid top-posting and favor interleaved quoting:
https://en.wikipedia.org/wiki/Posting_style#Interleaved_style
* Reply using the --to, --cc, and --in-reply-to
switches of git-send-email(1):
git send-email \
--in-reply-to=6502e51a.250a0220.6991b.521aSMTPIN_ADDED_MISSING@mx.google.com \
--to=dpdklab@iol.unh.edu \
--cc=dpdk-test-reports@iol.unh.edu \
--cc=test-report@dpdk.org \
/path/to/YOUR_REPLY
https://kernel.org/pub/software/scm/git/docs/git-send-email.html
* If your mail client supports setting the In-Reply-To header
via mailto: links, try the mailto: link
Be sure your reply has a Subject: header at the top and a blank line
before the message body.
This is a public inbox, see mirroring instructions
for how to clone and mirror all data and code used for this inbox;
as well as URLs for NNTP newsgroup(s).