From mboxrd@z Thu Jan 1 00:00:00 1970 Return-Path: Received: from mails.dpdk.org (mails.dpdk.org [217.70.189.124]) by inbox.dpdk.org (Postfix) with ESMTP id B36EE43190 for ; Tue, 17 Oct 2023 23:45:20 +0200 (CEST) Received: from mails.dpdk.org (localhost [127.0.0.1]) by mails.dpdk.org (Postfix) with ESMTP id AE1A14027A; Tue, 17 Oct 2023 23:45:20 +0200 (CEST) Received: from mail-yw1-f226.google.com (mail-yw1-f226.google.com [209.85.128.226]) by mails.dpdk.org (Postfix) with ESMTP id B9F914027A for ; Tue, 17 Oct 2023 23:45:19 +0200 (CEST) Received: by mail-yw1-f226.google.com with SMTP id 00721157ae682-5a7e5dc8573so76308457b3.0 for ; Tue, 17 Oct 2023 14:45:19 -0700 (PDT) DKIM-Signature: v=1; a=rsa-sha256; c=relaxed/relaxed; d=iol.unh.edu; s=unh-iol; t=1697579119; x=1698183919; darn=dpdk.org; h=cc:to:from:subject:message-id:date:from:to:cc:subject:date :message-id:reply-to; bh=Yvv/3gK74GLGfMNx+/Ue/XyyeyeWqPNglsrxEFycxyQ=; b=Yy3yDQQl8z7bE9MsTjgETNuyBuyzZz4Yfl+fWZjyBfs6aTU5/wMTeGRLYGfywBLfT0 g40MB4HYHaRbyoEBKFTzoeCliVUlPAujJLf0NUqFGY9oX4cXNdBCKHo92xLGvJGJeRoi UT2BBbq3UJvy9bYSlgGD09QoYHLCH5XLji7yc= X-Google-DKIM-Signature: v=1; a=rsa-sha256; c=relaxed/relaxed; d=1e100.net; s=20230601; t=1697579119; x=1698183919; h=cc:to:from:subject:message-id:date:x-gm-message-state:from:to:cc :subject:date:message-id:reply-to; bh=Yvv/3gK74GLGfMNx+/Ue/XyyeyeWqPNglsrxEFycxyQ=; b=OG3e+ZqQ1kS4XbB1HKiNQ+RlBICQYdxaRhLhR3x8jF/vOe53VpHe4xkYKH+DVC+lJK SZ4gZHZ27FNvJ4YEB2O8vIXaVKvADnqwqNyRnQArWgXB0Orp8Jabydqjmi0dJrygz4bE gE7AbHfIbI21hinswcmCAc0A4ienP9+1d5NicwYogUErtpBDq21cJ1B86kPdYZ4NvTEL OjXgPQYZsAjyC4ykyK7OlNQ2VmulkF2N2Bpe38EXTP0p5jPNa46Bi+PTEFmkJzIX52Mq S6qE3c0xNucPy2uR5veG4mI4kBPbTu4vSxRhbnv2nLX+NEYxvAnrEi5+FgUHOiQEOz/h rHvQ== X-Gm-Message-State: AOJu0Ywn6DBAT4IIcn2ghAFqlVFbLCcG4xgpCdn665OI3oDBt9DmlB9v KEETOSc8HYLJcgoyro4Q/74CLpU9NDllP1e9VRgfzISe1C73fURKSsRjlg== X-Google-Smtp-Source: AGHT+IFphbMOvsuUI+GiOWKnQ7TQx4IMGF5zp6+O3PXBI2FZzWjQ7aTsOjUpLNN3DStW5TXnHwzJIa5gseci X-Received: by 2002:a0d:c643:0:b0:589:fad6:c17c with SMTP id i64-20020a0dc643000000b00589fad6c17cmr3815681ywd.45.1697579118941; Tue, 17 Oct 2023 14:45:18 -0700 (PDT) Received: from postal.iol.unh.edu (postal.iol.unh.edu. [132.177.123.84]) by smtp-relay.gmail.com with ESMTPS id w10-20020a81a20a000000b00589d4f0c163sm291799ywg.67.2023.10.17.14.45.18 (version=TLS1_2 cipher=ECDHE-ECDSA-AES128-GCM-SHA256 bits=128/128); Tue, 17 Oct 2023 14:45:18 -0700 (PDT) X-Relaying-Domain: iol.unh.edu Date: Tue, 17 Oct 2023 14:45:18 -0700 (PDT) Message-ID: <652f006e.810a0220.a2b9.4b9fSMTPIN_ADDED_MISSING@mx.google.com> Received: from [172.21.0.2] (unknown [172.18.0.240]) by postal.iol.unh.edu (Postfix) with ESMTP id 86130602A042; Tue, 17 Oct 2023 17:45:18 -0400 (EDT) Subject: |SUCCESS| pw132751 [PATCH] event/cnxk: fix symbol map From: dpdklab@iol.unh.edu To: Test Report Cc: dpdk-test-reports@iol.unh.edu Content-Type: text/plain X-BeenThere: test-report@dpdk.org X-Mailman-Version: 2.1.29 Precedence: list List-Id: automatic DPDK test reports List-Unsubscribe: , List-Archive: List-Post: List-Help: List-Subscribe: , Errors-To: test-report-bounces@dpdk.org Test-Label: iol-compile-amd64-testing Test-Status: SUCCESS http://dpdk.org/patch/132751 _Testing PASS_ Submitter: David Marchand Date: Tuesday, October 17 2023 12:35:59 DPDK git baseline: Repo:dpdk-next-eventdev Branch: master CommitID:4aa8315ee12e17785588fb9891306b9dee685d6b 132751 --> testing pass Test environment and result as below: +---------------------+--------------------+ | Environment | dpdk_meson_compile | +=====================+====================+ | CentOS Stream 8 | PASS | +---------------------+--------------------+ | CentOS Stream 9 | PASS | +---------------------+--------------------+ | Debian Bullseye | PASS | +---------------------+--------------------+ | Fedora 38 | PASS | +---------------------+--------------------+ | FreeBSD 13 | PASS | +---------------------+--------------------+ | Fedora 37 | PASS | +---------------------+--------------------+ | Ubuntu 22.04 | PASS | +---------------------+--------------------+ | openSUSE Leap 15 | PASS | +---------------------+--------------------+ | Ubuntu 20.04 | PASS | +---------------------+--------------------+ | Debian Buster | PASS | +---------------------+--------------------+ | RHEL8 | PASS | +---------------------+--------------------+ | Alpine | PASS | +---------------------+--------------------+ | Windows Server 2019 | PASS | +---------------------+--------------------+ CentOS Stream 8 Kernel: 4.18.0-240.10.1.el8_3.x86_64 Compiler: gcc 8.4.1 20200928 CentOS Stream 9 Kernel: 4.18.0-240.10.1.el8_3.x86_64 Compiler: gcc 11.3.1 20220421 Debian Bullseye Kernel: 5.4.0-122-generic Compiler: gcc 10.2.1-6 Fedora 38 Kernel: Depends on container host Compiler: gcc 13.1.1 FreeBSD 13 Kernel: 13.0 Compiler: clang 11.0.1 Fedora 37 Kernel: Depends on container host system Compiler: gcc 12.3.1 Ubuntu 22.04 Kernel: 4.18.0-240.10.1.el8_3.x86_64 Compiler: gcc 11.3.0 openSUSE Leap 15 Kernel: 4.18.0-240.10.1.el8_3.x86_64 Compiler: gcc 7.5.0 Ubuntu 20.04 Kernel: 5.4.0-153-generic Compiler: gcc 9.4.0-1ubuntu1~20.04.1 Debian Buster Kernel: 5.4.0-122-generic Compiler: gcc 8.3.0-6 RHEL8 Kernel: 4.18.0-240.10.1.el8_3.x86_64 Compiler: gcc 8.3.1 20191121 (Red Hat 8.3.1-5) Alpine Kernel: 5.4.0-73-generic Compiler: gcc (Alpine 10.3.1_git20210424) 10.3.1 20210424 Windows Server 2019 Kernel: 10.0 Compiler: clang 14.0 and gcc 8.1.0 (MinGW) To view detailed results, visit: https://lab.dpdk.org/results/dashboard/patchsets/27968/ UNH-IOL DPDK Community Lab To manage your email subscriptions, visit: https://lab.dpdk.org/results/dashboard/preferences/subscriptions/