From mboxrd@z Thu Jan 1 00:00:00 1970 Return-Path: Received: from mails.dpdk.org (mails.dpdk.org [217.70.189.124]) by inbox.dpdk.org (Postfix) with ESMTP id C5D4443190 for ; Tue, 17 Oct 2023 23:45:42 +0200 (CEST) Received: from mails.dpdk.org (localhost [127.0.0.1]) by mails.dpdk.org (Postfix) with ESMTP id C09194027A; Tue, 17 Oct 2023 23:45:42 +0200 (CEST) Received: from mail-il1-f228.google.com (mail-il1-f228.google.com [209.85.166.228]) by mails.dpdk.org (Postfix) with ESMTP id 3F2724027A for ; Tue, 17 Oct 2023 23:45:41 +0200 (CEST) Received: by mail-il1-f228.google.com with SMTP id e9e14a558f8ab-35757bfb3f7so24152365ab.2 for ; Tue, 17 Oct 2023 14:45:41 -0700 (PDT) DKIM-Signature: v=1; a=rsa-sha256; c=relaxed/relaxed; d=iol.unh.edu; s=unh-iol; t=1697579140; x=1698183940; darn=dpdk.org; h=cc:to:from:subject:message-id:date:from:to:cc:subject:date :message-id:reply-to; bh=Yvv/3gK74GLGfMNx+/Ue/XyyeyeWqPNglsrxEFycxyQ=; b=equiPTKdhbfRO3GtS20L5iVXvGe8osmqM3gbVWDaLcPP7iVl9P2JCCw4uoviOQ6eeD V8jlLq5tc0D3wU+rxe0+bV6UoZWufS6MozhqIRWInUVYMKSA7afKf72xrkG4VZlYXHz5 T0MYcvUuXaR4BJnxTKP3UAzDOB2Y1p6fzwFsk= X-Google-DKIM-Signature: v=1; a=rsa-sha256; c=relaxed/relaxed; d=1e100.net; s=20230601; t=1697579140; x=1698183940; h=cc:to:from:subject:message-id:date:x-gm-message-state:from:to:cc :subject:date:message-id:reply-to; bh=Yvv/3gK74GLGfMNx+/Ue/XyyeyeWqPNglsrxEFycxyQ=; b=JtusvRcuA3ibUuwaXl19cQtW//wvikj3+PSIl6ZcZHFJR9os6EHZSMat24OxPox0ah LrIvjuiKUxG7DMeh4xrL2KoYUAZeDah3+s4PujqZ2rOfkbsv4Ay+RzJCx8gXQ0r7i8xr DUxCFYJARry1pSDt65SJzvu/YaCPCtINLbbu3IBM94eTXzQ1jTnAzJutUJzZ5uhoSmeC k9Ccq399zWeEMnkSaj9k+V2g2o49L3k18f2xP8uN0EiSOX3SfbL3vuXQNraZk2KfBmCE vkY4/+uDq+3J7CYgUD5X5kiQhJ+gsWERDSb0Ix9BA/dk5xzRjg2SGDxtBJJ1ut35u1vk Ft8w== X-Gm-Message-State: AOJu0YxlLsSucrlc6sYWaJLKDYgZyAQHIYTD0UKDHAxXnMam77pP5u6E AcU0854hLEBlQC4zSZPMKINHyysxdwkgnD+0BIEJtEXVZds6+pR1I3MZUsS22+cNU5/RPrt9aA= = X-Google-Smtp-Source: AGHT+IE3Uo9LTGXlgtVHZZRkvp9AJAOMS5EEAH/qZwvE6HtNKLvA6whtI6Phd1pN4ydj3mYXlVIVlGGXRELB X-Received: by 2002:a05:6e02:6c4:b0:34f:4632:4e09 with SMTP id p4-20020a056e0206c400b0034f46324e09mr3615315ils.23.1697579140592; Tue, 17 Oct 2023 14:45:40 -0700 (PDT) Received: from postal.iol.unh.edu (postal.iol.unh.edu. [2606:4100:3880:1234::84]) by smtp-relay.gmail.com with ESMTPS id f25-20020a056638329900b00439f413ba13sm254528jav.25.2023.10.17.14.45.40 (version=TLS1_2 cipher=ECDHE-ECDSA-AES128-GCM-SHA256 bits=128/128); Tue, 17 Oct 2023 14:45:40 -0700 (PDT) X-Relaying-Domain: iol.unh.edu Date: Tue, 17 Oct 2023 14:45:40 -0700 (PDT) Message-ID: <652f0084.050a0220.4dab6.614aSMTPIN_ADDED_MISSING@mx.google.com> Received: from [172.21.0.2] (unknown [172.18.0.240]) by postal.iol.unh.edu (Postfix) with ESMTP id 14951602A042; Tue, 17 Oct 2023 17:45:40 -0400 (EDT) Subject: |SUCCESS| pw132751 [PATCH] event/cnxk: fix symbol map From: dpdklab@iol.unh.edu To: Test Report Cc: dpdk-test-reports@iol.unh.edu Content-Type: text/plain X-BeenThere: test-report@dpdk.org X-Mailman-Version: 2.1.29 Precedence: list List-Id: automatic DPDK test reports List-Unsubscribe: , List-Archive: List-Post: List-Help: List-Subscribe: , Errors-To: test-report-bounces@dpdk.org Test-Label: iol-compile-amd64-testing Test-Status: SUCCESS http://dpdk.org/patch/132751 _Testing PASS_ Submitter: David Marchand Date: Tuesday, October 17 2023 12:35:59 DPDK git baseline: Repo:dpdk-next-eventdev Branch: master CommitID:4aa8315ee12e17785588fb9891306b9dee685d6b 132751 --> testing pass Test environment and result as below: +---------------------+--------------------+ | Environment | dpdk_meson_compile | +=====================+====================+ | CentOS Stream 8 | PASS | +---------------------+--------------------+ | CentOS Stream 9 | PASS | +---------------------+--------------------+ | Debian Bullseye | PASS | +---------------------+--------------------+ | Fedora 38 | PASS | +---------------------+--------------------+ | FreeBSD 13 | PASS | +---------------------+--------------------+ | Fedora 37 | PASS | +---------------------+--------------------+ | Ubuntu 22.04 | PASS | +---------------------+--------------------+ | openSUSE Leap 15 | PASS | +---------------------+--------------------+ | Ubuntu 20.04 | PASS | +---------------------+--------------------+ | Debian Buster | PASS | +---------------------+--------------------+ | RHEL8 | PASS | +---------------------+--------------------+ | Alpine | PASS | +---------------------+--------------------+ | Windows Server 2019 | PASS | +---------------------+--------------------+ CentOS Stream 8 Kernel: 4.18.0-240.10.1.el8_3.x86_64 Compiler: gcc 8.4.1 20200928 CentOS Stream 9 Kernel: 4.18.0-240.10.1.el8_3.x86_64 Compiler: gcc 11.3.1 20220421 Debian Bullseye Kernel: 5.4.0-122-generic Compiler: gcc 10.2.1-6 Fedora 38 Kernel: Depends on container host Compiler: gcc 13.1.1 FreeBSD 13 Kernel: 13.0 Compiler: clang 11.0.1 Fedora 37 Kernel: Depends on container host system Compiler: gcc 12.3.1 Ubuntu 22.04 Kernel: 4.18.0-240.10.1.el8_3.x86_64 Compiler: gcc 11.3.0 openSUSE Leap 15 Kernel: 4.18.0-240.10.1.el8_3.x86_64 Compiler: gcc 7.5.0 Ubuntu 20.04 Kernel: 5.4.0-153-generic Compiler: gcc 9.4.0-1ubuntu1~20.04.1 Debian Buster Kernel: 5.4.0-122-generic Compiler: gcc 8.3.0-6 RHEL8 Kernel: 4.18.0-240.10.1.el8_3.x86_64 Compiler: gcc 8.3.1 20191121 (Red Hat 8.3.1-5) Alpine Kernel: 5.4.0-73-generic Compiler: gcc (Alpine 10.3.1_git20210424) 10.3.1 20210424 Windows Server 2019 Kernel: 10.0 Compiler: clang 14.0 and gcc 8.1.0 (MinGW) To view detailed results, visit: https://lab.dpdk.org/results/dashboard/patchsets/27968/ UNH-IOL DPDK Community Lab To manage your email subscriptions, visit: https://lab.dpdk.org/results/dashboard/preferences/subscriptions/