From mboxrd@z Thu Jan 1 00:00:00 1970 Return-Path: Received: from mails.dpdk.org (mails.dpdk.org [217.70.189.124]) by inbox.dpdk.org (Postfix) with ESMTP id 22E7B43190 for ; Tue, 17 Oct 2023 23:51:19 +0200 (CEST) Received: from mails.dpdk.org (localhost [127.0.0.1]) by mails.dpdk.org (Postfix) with ESMTP id 1D2244027A; Tue, 17 Oct 2023 23:51:19 +0200 (CEST) Received: from mail-ot1-f98.google.com (mail-ot1-f98.google.com [209.85.210.98]) by mails.dpdk.org (Postfix) with ESMTP id 2997C4027A for ; Tue, 17 Oct 2023 23:51:18 +0200 (CEST) Received: by mail-ot1-f98.google.com with SMTP id 46e09a7af769-6c64a3c4912so4304152a34.3 for ; Tue, 17 Oct 2023 14:51:18 -0700 (PDT) DKIM-Signature: v=1; a=rsa-sha256; c=relaxed/relaxed; d=iol.unh.edu; s=unh-iol; t=1697579477; x=1698184277; darn=dpdk.org; h=cc:to:from:subject:message-id:date:from:to:cc:subject:date :message-id:reply-to; bh=lCPgeIkt+VjXJ7WyC2OL9n35AEn1BG6LahVk8bBNlO4=; b=P64wDZBbjFrGmQUYKEqOvlfggSF5Q05Va0JFZVAwbKQ3zZdQJofGouJxx/RgRw7BiX GPCQxynUzcahQaGPWEWFBrWPyi4snSnvNsobzFQ/QaWM1/LK2UDo2wn1hB5bBABb6Mg4 Tc88r9pi4WtPNGYcLKOlnYMOnu99CWB0rpuMY= X-Google-DKIM-Signature: v=1; a=rsa-sha256; c=relaxed/relaxed; d=1e100.net; s=20230601; t=1697579477; x=1698184277; h=cc:to:from:subject:message-id:date:x-gm-message-state:from:to:cc :subject:date:message-id:reply-to; bh=lCPgeIkt+VjXJ7WyC2OL9n35AEn1BG6LahVk8bBNlO4=; b=LyJk2vTNKlJ6Ve1pwCwlPjR4yxtO0rFPWRCCrwWd3YpTeoeEjJWZpzXixXjaJlS278 kHbd1UFbRj6BIZQwX9YxFCi6vzRXAe8eROryxrvv92fEt/7Cjdv63kRKHZYV23FuvrtM vKvQbj5+iPHLGaZKY2ZChzvJQ35tZIPAx1I5TvQ3xfJbT5WnXiZSg0qh3/lxwOR5mG+P uI5lf17sNJ5HEtYR+KNjUfAEsoLFpCmzowqNiCml9v7Skh5c4LNwrBBQIdfCeyvUxrcz QkTvRRTsy0vpWHWKORwBS2PH1oSaF/QDEM2MGvFCOFiTnq2GdhyN8H2ZDTH4VVmsUm6P rY4Q== X-Gm-Message-State: AOJu0Yyb/STccjEiM0g9vTV3UBeqEIHjIAsImX4/I8+50vW7nhcyveD3 wKnJV5E9NtePAnJzX9+FN7rGntz284qwt7D2YUttiprrf44TTLzoSVck5PKDtnWt03yrI9bkTw= = X-Google-Smtp-Source: AGHT+IGjzMdHzhRc7nv7w7kwXS6KoIB0tWvnboie7pT0kPTQcU5pgsl6+DXM4xzeOFsMt+EuXJTIuxJJaANb X-Received: by 2002:a9d:7058:0:b0:6bc:de95:a639 with SMTP id x24-20020a9d7058000000b006bcde95a639mr3928546otj.16.1697579477539; Tue, 17 Oct 2023 14:51:17 -0700 (PDT) Received: from postal.iol.unh.edu (postal.iol.unh.edu. [2606:4100:3880:1234::84]) by smtp-relay.gmail.com with ESMTPS id ea6-20020a0568306d8600b006c3db5c5651sm224430otb.0.2023.10.17.14.51.17 (version=TLS1_2 cipher=ECDHE-ECDSA-AES128-GCM-SHA256 bits=128/128); Tue, 17 Oct 2023 14:51:17 -0700 (PDT) X-Relaying-Domain: iol.unh.edu Date: Tue, 17 Oct 2023 14:51:17 -0700 (PDT) Message-ID: <652f01d5.050a0220.5e43.550cSMTPIN_ADDED_MISSING@mx.google.com> Received: from [172.21.0.2] (unknown [172.18.0.240]) by postal.iol.unh.edu (Postfix) with ESMTP id DF3B0602A042; Tue, 17 Oct 2023 17:51:16 -0400 (EDT) Subject: |SUCCESS| pw132751 [PATCH] event/cnxk: fix symbol map From: dpdklab@iol.unh.edu To: Test Report Cc: dpdk-test-reports@iol.unh.edu Content-Type: text/plain X-BeenThere: test-report@dpdk.org X-Mailman-Version: 2.1.29 Precedence: list List-Id: automatic DPDK test reports List-Unsubscribe: , List-Archive: List-Post: List-Help: List-Subscribe: , Errors-To: test-report-bounces@dpdk.org Test-Label: iol-unit-amd64-testing Test-Status: SUCCESS http://dpdk.org/patch/132751 _Testing PASS_ Submitter: David Marchand Date: Tuesday, October 17 2023 12:35:59 DPDK git baseline: Repo:dpdk-next-eventdev Branch: master CommitID:4aa8315ee12e17785588fb9891306b9dee685d6b 132751 --> testing pass Test environment and result as below: +------------------+----------------+ | Environment | dpdk_unit_test | +==================+================+ | CentOS Stream 8 | PASS | +------------------+----------------+ | CentOS Stream 9 | PASS | +------------------+----------------+ | Debian Buster | PASS | +------------------+----------------+ | Debian Bullseye | PASS | +------------------+----------------+ | Fedora 37 | PASS | +------------------+----------------+ | openSUSE Leap 15 | PASS | +------------------+----------------+ | Fedora 38 | PASS | +------------------+----------------+ | Ubuntu 22.04 | PASS | +------------------+----------------+ | RHEL8 | PASS | +------------------+----------------+ | Ubuntu 20.04 | PASS | +------------------+----------------+ CentOS Stream 8 Kernel: 4.18.0-240.10.1.el8_3.x86_64 Compiler: gcc 8.4.1 20200928 CentOS Stream 9 Kernel: 4.18.0-240.10.1.el8_3.x86_64 Compiler: gcc 11.3.1 20220421 Debian Buster Kernel: 5.4.0-122-generic Compiler: gcc 8.3.0-6 Debian Bullseye Kernel: 5.4.0-122-generic Compiler: gcc 10.2.1-6 Fedora 37 Kernel: Depends on container host system Compiler: gcc 12.3.1 openSUSE Leap 15 Kernel: 4.18.0-240.10.1.el8_3.x86_64 Compiler: gcc 7.5.0 Fedora 38 Kernel: Depends on container host Compiler: gcc 13.1.1 Ubuntu 22.04 Kernel: 4.18.0-240.10.1.el8_3.x86_64 Compiler: gcc 11.3.0 RHEL8 Kernel: 4.18.0-240.10.1.el8_3.x86_64 Compiler: gcc 8.3.1 20191121 (Red Hat 8.3.1-5) Ubuntu 20.04 Kernel: 5.4.0-153-generic Compiler: gcc 9.4.0-1ubuntu1~20.04.1 To view detailed results, visit: https://lab.dpdk.org/results/dashboard/patchsets/27968/ UNH-IOL DPDK Community Lab To manage your email subscriptions, visit: https://lab.dpdk.org/results/dashboard/preferences/subscriptions/