From mboxrd@z Thu Jan 1 00:00:00 1970 Return-Path: Received: from mails.dpdk.org (mails.dpdk.org [217.70.189.124]) by inbox.dpdk.org (Postfix) with ESMTP id 5E09543190 for ; Tue, 17 Oct 2023 23:52:35 +0200 (CEST) Received: from mails.dpdk.org (localhost [127.0.0.1]) by mails.dpdk.org (Postfix) with ESMTP id 58EDB4027A; Tue, 17 Oct 2023 23:52:35 +0200 (CEST) Received: from mail-oo1-f97.google.com (mail-oo1-f97.google.com [209.85.161.97]) by mails.dpdk.org (Postfix) with ESMTP id 372554027A for ; Tue, 17 Oct 2023 23:52:26 +0200 (CEST) Received: by mail-oo1-f97.google.com with SMTP id 006d021491bc7-57e4459aa29so3109189eaf.0 for ; Tue, 17 Oct 2023 14:52:26 -0700 (PDT) DKIM-Signature: v=1; a=rsa-sha256; c=relaxed/relaxed; d=iol.unh.edu; s=unh-iol; t=1697579545; x=1698184345; darn=dpdk.org; h=cc:to:from:subject:message-id:date:from:to:cc:subject:date :message-id:reply-to; bh=Cdqu4bqapbQXvRSYs+m6gqi4Qah6YBmMvKfFK7oPjcc=; b=OD7K4gJwtpfDtVxFv2v2+9ZKrtNt72gvsBjgHhVg/ZdCrk+sn+xGLmmibIV9V86WtW lq5ZSEpHaGeKjBUTXAJKLtXgN0IyK9B2RYOA+UD87IqGejK4MyxVkx/lzr1p0nVNck3Y PCElie9J9pPjB7Y2wacDQS1R5YdtxlZSGVGa0= X-Google-DKIM-Signature: v=1; a=rsa-sha256; c=relaxed/relaxed; d=1e100.net; s=20230601; t=1697579545; x=1698184345; h=cc:to:from:subject:message-id:date:x-gm-message-state:from:to:cc :subject:date:message-id:reply-to; bh=Cdqu4bqapbQXvRSYs+m6gqi4Qah6YBmMvKfFK7oPjcc=; b=C7z83TPWcXOkcpAHSprE9V/UrVN+CkXvk4wbihXUzu0faurxYbQ/rF2zPzlf1GfAKq 6IpI6D38lXHDWZcZKcpUmgmka4/EkHpc4x75mBua7Jl0IljLYlkeGKDc3OdHbL2oYaoe KfmDwMQujr0DLZNSDpJc+u262PNndFLnMl+/E+mKNNAfL80EAdIOiMYxyRENrdtK4y6Z OR8rC71LL8eQ4YC4Hwu+6g0OXgfiUosm1ja5s4SnjEruHGuFgx+QfSmmp+72rRdhkLCa 3Fg7oS92dbzO4eTgzLefXY2KDiEcB/At/T6KV7lWVWNGgzLefHoMSjWLLjR8/KFwMAqz IomA== X-Gm-Message-State: AOJu0YzAeETNsMJ8/FjLVLd+sE1WqWR6uyH+Da6tEkXa9rDqJujktQBh ebQ0Q8PeH8UrmYsbEhBw3ATGf9EVcbskO84CuFhcGZulYQQqzTWM8wzutDjANq8a2yCy6VuJ+g= = X-Google-Smtp-Source: AGHT+IGuh8NCX0qp9UQu8PXoMfqEq0yMfGsJFfWCZgv8sTdDhvo4ZQN8o69u2u4Jwd9Iwq9GrlfeyZpnwTLH X-Received: by 2002:a4a:c203:0:b0:581:3f2b:ca53 with SMTP id z3-20020a4ac203000000b005813f2bca53mr1904348oop.1.1697579545586; Tue, 17 Oct 2023 14:52:25 -0700 (PDT) Received: from postal.iol.unh.edu (postal.iol.unh.edu. [2606:4100:3880:1234::84]) by smtp-relay.gmail.com with ESMTPS id u5-20020a4a8c05000000b0057376574b64sm287627ooj.27.2023.10.17.14.52.25 (version=TLS1_2 cipher=ECDHE-ECDSA-AES128-GCM-SHA256 bits=128/128); Tue, 17 Oct 2023 14:52:25 -0700 (PDT) X-Relaying-Domain: iol.unh.edu Date: Tue, 17 Oct 2023 14:52:25 -0700 (PDT) Message-ID: <652f0219.4a0a0220.55fa8.7a30SMTPIN_ADDED_MISSING@mx.google.com> Received: from [172.21.0.3] (unknown [172.18.0.240]) by postal.iol.unh.edu (Postfix) with ESMTP id 12AE2602A042; Tue, 17 Oct 2023 17:52:25 -0400 (EDT) Subject: |SUCCESS| pw132751 [PATCH] event/cnxk: fix symbol map From: dpdklab@iol.unh.edu To: Test Report Cc: dpdk-test-reports@iol.unh.edu Content-Type: text/plain X-BeenThere: test-report@dpdk.org X-Mailman-Version: 2.1.29 Precedence: list List-Id: automatic DPDK test reports List-Unsubscribe: , List-Archive: List-Post: List-Help: List-Subscribe: , Errors-To: test-report-bounces@dpdk.org Test-Label: iol-compile-arm64-testing Test-Status: SUCCESS http://dpdk.org/patch/132751 _Testing PASS_ Submitter: David Marchand Date: Tuesday, October 17 2023 12:35:59 DPDK git baseline: Repo:dpdk-next-eventdev Branch: master CommitID:4aa8315ee12e17785588fb9891306b9dee685d6b 132751 --> testing pass Test environment and result as below: +----------------------------------------+--------------------+ | Environment | dpdk_meson_compile | +========================================+====================+ | Ubuntu 20.04 ARM SVE | PASS | +----------------------------------------+--------------------+ | Ubuntu 20.04 ARM GCC Cross Compile | PASS | +----------------------------------------+--------------------+ | Ubuntu 20.04 aarch32 GCC Cross Compile | PASS | +----------------------------------------+--------------------+ | CentOS Stream 9 (ARM) | PASS | +----------------------------------------+--------------------+ | Fedora 37 (ARM) | PASS | +----------------------------------------+--------------------+ | Fedora 38 (ARM) | PASS | +----------------------------------------+--------------------+ | Debian 11 (Buster) (ARM) | PASS | +----------------------------------------+--------------------+ | Ubuntu 20.04 ARM Clang Cross Compile | PASS | +----------------------------------------+--------------------+ Ubuntu 20.04 ARM SVE Kernel: 5.4.0-80-generic Compiler: gcc 10.3.0 (Ubuntu 10.3.0-1ubuntu1~20.04) Ubuntu 20.04 ARM GCC Cross Compile Kernel: 5.4.0-72-generic Compiler: aarch64-linux-gnu-gcc (Ubuntu 9.3.0-17ubuntu1~20.04) 9.3.0 Ubuntu 20.04 aarch32 GCC Cross Compile Kernel: 5.4.0-72-generic Compiler: gcc 9.3.0 CentOS Stream 9 (ARM) Kernel: Container Host Kernel Compiler: gcc 11.3.1 Fedora 37 (ARM) Kernel: Depends on container host Compiler: gcc 12.3.1 Fedora 38 (ARM) Kernel: Depends on container host Compiler: gcc 13.1.1 Debian 11 (Buster) (ARM) Kernel: Container Host Kernel Compiler: gcc 10.2.1 Ubuntu 20.04 ARM Clang Cross Compile Kernel: 5.4.0-72-generic Compiler: clang version 10.0.0-4ubuntu1 To view detailed results, visit: https://lab.dpdk.org/results/dashboard/patchsets/27968/ UNH-IOL DPDK Community Lab To manage your email subscriptions, visit: https://lab.dpdk.org/results/dashboard/preferences/subscriptions/