From mboxrd@z Thu Jan 1 00:00:00 1970 Return-Path: Received: from mails.dpdk.org (mails.dpdk.org [217.70.189.124]) by inbox.dpdk.org (Postfix) with ESMTP id 0784643191 for ; Tue, 17 Oct 2023 23:55:08 +0200 (CEST) Received: from mails.dpdk.org (localhost [127.0.0.1]) by mails.dpdk.org (Postfix) with ESMTP id ECC09406B6; Tue, 17 Oct 2023 23:55:07 +0200 (CEST) Received: from mail-il1-f228.google.com (mail-il1-f228.google.com [209.85.166.228]) by mails.dpdk.org (Postfix) with ESMTP id F1E254027A for ; Tue, 17 Oct 2023 23:55:06 +0200 (CEST) Received: by mail-il1-f228.google.com with SMTP id e9e14a558f8ab-357a354e616so277605ab.1 for ; Tue, 17 Oct 2023 14:55:06 -0700 (PDT) DKIM-Signature: v=1; a=rsa-sha256; c=relaxed/relaxed; d=iol.unh.edu; s=unh-iol; t=1697579706; x=1698184506; darn=dpdk.org; h=cc:to:from:subject:message-id:date:from:to:cc:subject:date :message-id:reply-to; bh=mkvkFzzT6cvddAlNtQPec1I/sfPT793hioasnNGlreE=; b=AQg8slpmS19c6z4fJ/b97H94wWAibGMDMBwSehabRyT0i830wXKe0g5VXDiBk1ulhG tp6bXNk9wSV/qvNT8547zTha+y7+Mzfm5E7+B5ApdFri/PgDtbHtiON2At5LqFlsPrFB d5ioQVJc4aelWBJPtwPnMfjbVA1y/TgS7etw4= X-Google-DKIM-Signature: v=1; a=rsa-sha256; c=relaxed/relaxed; d=1e100.net; s=20230601; t=1697579706; x=1698184506; h=cc:to:from:subject:message-id:date:x-gm-message-state:from:to:cc :subject:date:message-id:reply-to; bh=mkvkFzzT6cvddAlNtQPec1I/sfPT793hioasnNGlreE=; b=YEndoIXQvUGYgbUzrDTiaTN2WtjPvqh7Li+1UcPVHb/SdGJDXBh8yrL0W6O1X3Iher 5PhDlBkaM7wXr4Fatc3F0cE7yld71ezN+tSVRwONI3jicApwNMaSpXuFHkRY42KEnNgK qOOY2j86eqP6S8CeX725OBS7sLTjhDvzUjT5fkLiTc7KHs5CqtXRYln8ZzuqZqbTlNwT BWjEJxNGXFb78lmZWCI3p5ZdFV/9c6Cw+KThbrOF1E/xEjVTkVoXBbmk7RtlFL9WWKEJ kp1WZxtpIgQ1uym7X8xt9m9ynhudUN46lNuKTSlPqYOKgfxddnLGKxLlQ0SEI9PBzEKX KiMg== X-Gm-Message-State: AOJu0YzWMYABw2NFoluGxX7c4zm1w+AfrvHVOpCW36dOnY//OUHJWey8 2Z8JdlLYzRHVitXDS+5m9rHYpWqmZGkNY4RwXZuC8LkKhmUNelyWcAfQ2913Uq2nJvOP+srHrg= = X-Google-Smtp-Source: AGHT+IHNiLmAuJu7tn7Bvc4xz8ya0smJnPe8OwJjzNt0cetAmb79RZnwyfkmDS5gZgJ1I4QnvEy7jqjSL35j X-Received: by 2002:a92:c10b:0:b0:34f:dfb5:8e8 with SMTP id p11-20020a92c10b000000b0034fdfb508e8mr2944906ile.14.1697579706396; Tue, 17 Oct 2023 14:55:06 -0700 (PDT) Received: from postal.iol.unh.edu (postal.iol.unh.edu. [2606:4100:3880:1234::84]) by smtp-relay.gmail.com with ESMTPS id z16-20020a02ceb0000000b0045bd7c69dbdsm255288jaq.26.2023.10.17.14.55.06 (version=TLS1_2 cipher=ECDHE-ECDSA-AES128-GCM-SHA256 bits=128/128); Tue, 17 Oct 2023 14:55:06 -0700 (PDT) X-Relaying-Domain: iol.unh.edu Date: Tue, 17 Oct 2023 14:55:06 -0700 (PDT) Message-ID: <652f02ba.020a0220.f1124.5d0dSMTPIN_ADDED_MISSING@mx.google.com> Received: from [172.17.0.5] (unknown [172.18.0.215]) by postal.iol.unh.edu (Postfix) with ESMTP id E44C4602A043; Tue, 17 Oct 2023 17:55:05 -0400 (EDT) Subject: |SUCCESS| pw132751 [PATCH] event/cnxk: fix symbol map From: dpdklab@iol.unh.edu To: Test Report Cc: dpdk-test-reports@iol.unh.edu Content-Type: text/plain X-BeenThere: test-report@dpdk.org X-Mailman-Version: 2.1.29 Precedence: list List-Id: automatic DPDK test reports List-Unsubscribe: , List-Archive: List-Post: List-Help: List-Subscribe: , Errors-To: test-report-bounces@dpdk.org Test-Label: iol-unit-arm64-testing Test-Status: SUCCESS http://dpdk.org/patch/132751 _Testing PASS_ Submitter: David Marchand Date: Tuesday, October 17 2023 12:35:59 DPDK git baseline: Repo:dpdk-next-eventdev Branch: master CommitID:4aa8315ee12e17785588fb9891306b9dee685d6b 132751 --> testing pass Test environment and result as below: +----------------------+---------------------------+------------------------------+--------------+ | Environment | cryptodev_sw_zuc_autotest | cryptodev_sw_snow3g_autotest | lpm_autotest | +======================+===========================+==============================+==============+ | Debian 11 (arm) | PASS | PASS | SKIPPED | +----------------------+---------------------------+------------------------------+--------------+ | Ubuntu 20.04 ARM SVE | SKIPPED | SKIPPED | PASS | +----------------------+---------------------------+------------------------------+--------------+ Debian 11 (arm) Kernel: Container Host Kernel Compiler: gcc 10.2.1 Ubuntu 20.04 ARM SVE Kernel: 5.4.0-80-generic Compiler: gcc 10.3.0 (Ubuntu 10.3.0-1ubuntu1~20.04) To view detailed results, visit: https://lab.dpdk.org/results/dashboard/patchsets/27968/ UNH-IOL DPDK Community Lab To manage your email subscriptions, visit: https://lab.dpdk.org/results/dashboard/preferences/subscriptions/