From mboxrd@z Thu Jan 1 00:00:00 1970 Return-Path: Received: from mails.dpdk.org (mails.dpdk.org [217.70.189.124]) by inbox.dpdk.org (Postfix) with ESMTP id 0BCFA43190 for ; Tue, 17 Oct 2023 23:55:19 +0200 (CEST) Received: from mails.dpdk.org (localhost [127.0.0.1]) by mails.dpdk.org (Postfix) with ESMTP id 041E54027A; Tue, 17 Oct 2023 23:55:19 +0200 (CEST) Received: from mail-pl1-f225.google.com (mail-pl1-f225.google.com [209.85.214.225]) by mails.dpdk.org (Postfix) with ESMTP id 2E2584027A for ; Tue, 17 Oct 2023 23:55:09 +0200 (CEST) Received: by mail-pl1-f225.google.com with SMTP id d9443c01a7336-1c9fa869a63so27888805ad.0 for ; Tue, 17 Oct 2023 14:55:09 -0700 (PDT) DKIM-Signature: v=1; a=rsa-sha256; c=relaxed/relaxed; d=iol.unh.edu; s=unh-iol; t=1697579708; x=1698184508; darn=dpdk.org; h=cc:to:from:subject:message-id:date:from:to:cc:subject:date :message-id:reply-to; bh=Cdqu4bqapbQXvRSYs+m6gqi4Qah6YBmMvKfFK7oPjcc=; b=O6D50iwIm8ab51C6+rSt8SSrX8ek9lvHqPNwwCjbMwbN/PXFmxcwKmCYmkLqR1bBU9 kVKWF6VNipPBBwPqRBQpa+J9QCE3rBkRm3wlOD2InjFnrn43a1t7oJWBQhhKn2ZlLxE4 BMkxLwqQn9RQWaKAfU7IMt/QiHqiJuLSqTXfk= X-Google-DKIM-Signature: v=1; a=rsa-sha256; c=relaxed/relaxed; d=1e100.net; s=20230601; t=1697579708; x=1698184508; h=cc:to:from:subject:message-id:date:x-gm-message-state:from:to:cc :subject:date:message-id:reply-to; bh=Cdqu4bqapbQXvRSYs+m6gqi4Qah6YBmMvKfFK7oPjcc=; b=d1WeqKn1AIfah+RcvKjXkAGBcQheb2eMXa6qvv8HLRj+XZuVmwyj7t7i1Qt7eDhCDT LvPYFuDRMg+ejD5493NKOAnVpG4SGPfAO9/diBzVf0pPjdHiI3gPZYLNvLckdC5wLY+y UzjiJ4Zm6utDPr+7zBzB1Mp8ZAU7JbXbQel724zUF1xCv9ALKxACliqC+8anpTVhod5U 38x+/Ykheb4tRzRE9DOapo/1tH6018AbtPQDVvwfh8vKaxowS+4DPE8vVlRBISRWzQFc zjE7wiHl7LZQIW9JxRPixco1eb9GgWu+Ij7p0Ooeg2GgNoaiiNLcD0Ia7ctsgXuP2Xja gn+g== X-Gm-Message-State: AOJu0YwuBFI80wDUOPenMBrgnQPq/Qlqi+vXetP35UkxSgXABDXAqdiM +ZaXulQiv6k2PVD/tWa7UOpKVaoyFXmwHjqd1znZhbcA5QZMaFdKTNKPVA== X-Google-Smtp-Source: AGHT+IEbdQ/DrHQrpJkxa4LBMUGoLK1sVWLeD00noYylbhZ1hUCBXHJ7NljaUq7feFStcTZzTHNXy0oqngrI X-Received: by 2002:a17:902:ca14:b0:1bd:ca80:6fe6 with SMTP id w20-20020a170902ca1400b001bdca806fe6mr2891788pld.41.1697579708420; Tue, 17 Oct 2023 14:55:08 -0700 (PDT) Received: from postal.iol.unh.edu (postal.iol.unh.edu. [132.177.123.84]) by smtp-relay.gmail.com with ESMTPS id 12-20020a170902c10c00b001c76a3e54d1sm211100pli.97.2023.10.17.14.55.08 (version=TLS1_2 cipher=ECDHE-ECDSA-AES128-GCM-SHA256 bits=128/128); Tue, 17 Oct 2023 14:55:08 -0700 (PDT) X-Relaying-Domain: iol.unh.edu Date: Tue, 17 Oct 2023 14:55:08 -0700 (PDT) Message-ID: <652f02bc.170a0220.30eea.a766SMTPIN_ADDED_MISSING@mx.google.com> Received: from [172.17.0.4] (unknown [172.18.0.215]) by postal.iol.unh.edu (Postfix) with ESMTP id 31AF4602A042; Tue, 17 Oct 2023 17:55:07 -0400 (EDT) Subject: |SUCCESS| pw132751 [PATCH] event/cnxk: fix symbol map From: dpdklab@iol.unh.edu To: Test Report Cc: dpdk-test-reports@iol.unh.edu Content-Type: text/plain X-BeenThere: test-report@dpdk.org X-Mailman-Version: 2.1.29 Precedence: list List-Id: automatic DPDK test reports List-Unsubscribe: , List-Archive: List-Post: List-Help: List-Subscribe: , Errors-To: test-report-bounces@dpdk.org Test-Label: iol-compile-arm64-testing Test-Status: SUCCESS http://dpdk.org/patch/132751 _Testing PASS_ Submitter: David Marchand Date: Tuesday, October 17 2023 12:35:59 DPDK git baseline: Repo:dpdk-next-eventdev Branch: master CommitID:4aa8315ee12e17785588fb9891306b9dee685d6b 132751 --> testing pass Test environment and result as below: +----------------------------------------+--------------------+ | Environment | dpdk_meson_compile | +========================================+====================+ | Ubuntu 20.04 ARM SVE | PASS | +----------------------------------------+--------------------+ | Ubuntu 20.04 ARM GCC Cross Compile | PASS | +----------------------------------------+--------------------+ | Ubuntu 20.04 aarch32 GCC Cross Compile | PASS | +----------------------------------------+--------------------+ | CentOS Stream 9 (ARM) | PASS | +----------------------------------------+--------------------+ | Fedora 37 (ARM) | PASS | +----------------------------------------+--------------------+ | Fedora 38 (ARM) | PASS | +----------------------------------------+--------------------+ | Debian 11 (Buster) (ARM) | PASS | +----------------------------------------+--------------------+ | Ubuntu 20.04 ARM Clang Cross Compile | PASS | +----------------------------------------+--------------------+ Ubuntu 20.04 ARM SVE Kernel: 5.4.0-80-generic Compiler: gcc 10.3.0 (Ubuntu 10.3.0-1ubuntu1~20.04) Ubuntu 20.04 ARM GCC Cross Compile Kernel: 5.4.0-72-generic Compiler: aarch64-linux-gnu-gcc (Ubuntu 9.3.0-17ubuntu1~20.04) 9.3.0 Ubuntu 20.04 aarch32 GCC Cross Compile Kernel: 5.4.0-72-generic Compiler: gcc 9.3.0 CentOS Stream 9 (ARM) Kernel: Container Host Kernel Compiler: gcc 11.3.1 Fedora 37 (ARM) Kernel: Depends on container host Compiler: gcc 12.3.1 Fedora 38 (ARM) Kernel: Depends on container host Compiler: gcc 13.1.1 Debian 11 (Buster) (ARM) Kernel: Container Host Kernel Compiler: gcc 10.2.1 Ubuntu 20.04 ARM Clang Cross Compile Kernel: 5.4.0-72-generic Compiler: clang version 10.0.0-4ubuntu1 To view detailed results, visit: https://lab.dpdk.org/results/dashboard/patchsets/27968/ UNH-IOL DPDK Community Lab To manage your email subscriptions, visit: https://lab.dpdk.org/results/dashboard/preferences/subscriptions/