From mboxrd@z Thu Jan 1 00:00:00 1970 Return-Path: Received: from mails.dpdk.org (mails.dpdk.org [217.70.189.124]) by inbox.dpdk.org (Postfix) with ESMTP id 659EC43190 for ; Tue, 17 Oct 2023 23:55:19 +0200 (CEST) Received: from mails.dpdk.org (localhost [127.0.0.1]) by mails.dpdk.org (Postfix) with ESMTP id 2A21E410E3; Tue, 17 Oct 2023 23:55:19 +0200 (CEST) Received: from mail-pl1-f225.google.com (mail-pl1-f225.google.com [209.85.214.225]) by mails.dpdk.org (Postfix) with ESMTP id 439F24064E for ; Tue, 17 Oct 2023 23:55:10 +0200 (CEST) Received: by mail-pl1-f225.google.com with SMTP id d9443c01a7336-1c5c91bec75so41944765ad.3 for ; Tue, 17 Oct 2023 14:55:10 -0700 (PDT) DKIM-Signature: v=1; a=rsa-sha256; c=relaxed/relaxed; d=iol.unh.edu; s=unh-iol; t=1697579709; x=1698184509; darn=dpdk.org; h=cc:to:from:subject:message-id:date:from:to:cc:subject:date :message-id:reply-to; bh=Cdqu4bqapbQXvRSYs+m6gqi4Qah6YBmMvKfFK7oPjcc=; b=Di+Jn+NiS6iaQl0gjs01ic1GcOHKuMQUZAn5CVcdECuhXIjg88QdKMjaNi1ZLhmuNT eWEsSQiycZf3GhUhdEkWd+0q6CZIR9mazfFSwZs67YHFLzRFt8NmlcbyJLGQh1Y4OWAr aC3qdPTWt9DQQumKP5wcyGZKLTsxiAU2BcoJ8= X-Google-DKIM-Signature: v=1; a=rsa-sha256; c=relaxed/relaxed; d=1e100.net; s=20230601; t=1697579709; x=1698184509; h=cc:to:from:subject:message-id:date:x-gm-message-state:from:to:cc :subject:date:message-id:reply-to; bh=Cdqu4bqapbQXvRSYs+m6gqi4Qah6YBmMvKfFK7oPjcc=; b=CB4mmnaE/K1Ix1Kuz4eJ5NAegTolHrvA3u+rcGWl57lvZ0HWQ8/rDRNQKyIPQ00mNA ESxqD1FwEDkJIV3l60Y2NH+dmS4cp9oHfDW9uUcIw8hMh1sU4Dc7Wo4lgjxoWVk+DCvi bJLE//uknw7ruPuAMxvJ7qNuXyKFAJL5KxFVler/yBsYdcpwSsRXrIgT3shHI+5Ze2Gi KG0WCD9fW+XM5GyMvPV0y8neGxgDoCE/oLXYNtzR0IGUh4D8+PbkzQrrbCkoSbqae3mt U3/ohfSq0BArWegMxVnwvnPlfPlKPU8RQ7g+Z40+jP2Kk7bS7QutUxn9yZCYC24eGPc9 RNvQ== X-Gm-Message-State: AOJu0YyyXHq4nKi/7tbbx5zqXHa7aW97rdMWUI+9T6WxVDAYsS3BEXCW bLorFUgYqa21gyBBKx5YoCyyzamoT9PBFP3fZ0/NLzCX5y850Wvr0iBBgw== X-Google-Smtp-Source: AGHT+IGveZpw7Z8DYsuspfoMdUPvs430/hcWRGO8UAfNk+YhgMPZIc2qQn88FH2woijPCy7n/B4jZv/KdJBO X-Received: by 2002:a17:902:e54b:b0:1ca:8169:e84b with SMTP id n11-20020a170902e54b00b001ca8169e84bmr3983301plf.14.1697579709572; Tue, 17 Oct 2023 14:55:09 -0700 (PDT) Received: from postal.iol.unh.edu (postal.iol.unh.edu. [132.177.123.84]) by smtp-relay.gmail.com with ESMTPS id g22-20020a1709029f9600b001ca4ad86367sm210263plq.93.2023.10.17.14.55.09 (version=TLS1_2 cipher=ECDHE-ECDSA-AES128-GCM-SHA256 bits=128/128); Tue, 17 Oct 2023 14:55:09 -0700 (PDT) X-Relaying-Domain: iol.unh.edu Date: Tue, 17 Oct 2023 14:55:09 -0700 (PDT) Message-ID: <652f02bd.170a0220.73c73.4bcfSMTPIN_ADDED_MISSING@mx.google.com> Received: from [172.17.0.4] (unknown [172.18.0.214]) by postal.iol.unh.edu (Postfix) with ESMTP id BF3AF602A042; Tue, 17 Oct 2023 17:55:08 -0400 (EDT) Subject: |SUCCESS| pw132751 [PATCH] event/cnxk: fix symbol map From: dpdklab@iol.unh.edu To: Test Report Cc: dpdk-test-reports@iol.unh.edu Content-Type: text/plain X-BeenThere: test-report@dpdk.org X-Mailman-Version: 2.1.29 Precedence: list List-Id: automatic DPDK test reports List-Unsubscribe: , List-Archive: List-Post: List-Help: List-Subscribe: , Errors-To: test-report-bounces@dpdk.org Test-Label: iol-compile-arm64-testing Test-Status: SUCCESS http://dpdk.org/patch/132751 _Testing PASS_ Submitter: David Marchand Date: Tuesday, October 17 2023 12:35:59 DPDK git baseline: Repo:dpdk-next-eventdev Branch: master CommitID:4aa8315ee12e17785588fb9891306b9dee685d6b 132751 --> testing pass Test environment and result as below: +----------------------------------------+--------------------+ | Environment | dpdk_meson_compile | +========================================+====================+ | Ubuntu 20.04 ARM SVE | PASS | +----------------------------------------+--------------------+ | Ubuntu 20.04 ARM GCC Cross Compile | PASS | +----------------------------------------+--------------------+ | Ubuntu 20.04 aarch32 GCC Cross Compile | PASS | +----------------------------------------+--------------------+ | CentOS Stream 9 (ARM) | PASS | +----------------------------------------+--------------------+ | Fedora 37 (ARM) | PASS | +----------------------------------------+--------------------+ | Fedora 38 (ARM) | PASS | +----------------------------------------+--------------------+ | Debian 11 (Buster) (ARM) | PASS | +----------------------------------------+--------------------+ | Ubuntu 20.04 ARM Clang Cross Compile | PASS | +----------------------------------------+--------------------+ Ubuntu 20.04 ARM SVE Kernel: 5.4.0-80-generic Compiler: gcc 10.3.0 (Ubuntu 10.3.0-1ubuntu1~20.04) Ubuntu 20.04 ARM GCC Cross Compile Kernel: 5.4.0-72-generic Compiler: aarch64-linux-gnu-gcc (Ubuntu 9.3.0-17ubuntu1~20.04) 9.3.0 Ubuntu 20.04 aarch32 GCC Cross Compile Kernel: 5.4.0-72-generic Compiler: gcc 9.3.0 CentOS Stream 9 (ARM) Kernel: Container Host Kernel Compiler: gcc 11.3.1 Fedora 37 (ARM) Kernel: Depends on container host Compiler: gcc 12.3.1 Fedora 38 (ARM) Kernel: Depends on container host Compiler: gcc 13.1.1 Debian 11 (Buster) (ARM) Kernel: Container Host Kernel Compiler: gcc 10.2.1 Ubuntu 20.04 ARM Clang Cross Compile Kernel: 5.4.0-72-generic Compiler: clang version 10.0.0-4ubuntu1 To view detailed results, visit: https://lab.dpdk.org/results/dashboard/patchsets/27968/ UNH-IOL DPDK Community Lab To manage your email subscriptions, visit: https://lab.dpdk.org/results/dashboard/preferences/subscriptions/