From mboxrd@z Thu Jan 1 00:00:00 1970 Return-Path: Received: from mails.dpdk.org (mails.dpdk.org [217.70.189.124]) by inbox.dpdk.org (Postfix) with ESMTP id CC32943190 for ; Tue, 17 Oct 2023 23:55:19 +0200 (CEST) Received: from mails.dpdk.org (localhost [127.0.0.1]) by mails.dpdk.org (Postfix) with ESMTP id 3ACB6427E0; Tue, 17 Oct 2023 23:55:19 +0200 (CEST) Received: from mail-oa1-f99.google.com (mail-oa1-f99.google.com [209.85.160.99]) by mails.dpdk.org (Postfix) with ESMTP id D81584027A for ; Tue, 17 Oct 2023 23:55:12 +0200 (CEST) Received: by mail-oa1-f99.google.com with SMTP id 586e51a60fabf-1dd71c0a41fso3819126fac.2 for ; Tue, 17 Oct 2023 14:55:12 -0700 (PDT) DKIM-Signature: v=1; a=rsa-sha256; c=relaxed/relaxed; d=iol.unh.edu; s=unh-iol; t=1697579712; x=1698184512; darn=dpdk.org; h=cc:to:from:subject:message-id:date:from:to:cc:subject:date :message-id:reply-to; bh=mkvkFzzT6cvddAlNtQPec1I/sfPT793hioasnNGlreE=; b=Y8P2T80yFK07XDkCkAqtGTBE4Gdlnlb/IkdBdIXA0E+NRJTpPk7mRphvEHf6kuU6uw VGsggjBZlFrZocB0KYNUqXOTS8+LrDJmemYuDgFp+uEQp0T3tbKUggh0SBb3GmW0XOst FQVkS8B9Wt26rwQvkmzeLPFtllDQg58G58uvw= X-Google-DKIM-Signature: v=1; a=rsa-sha256; c=relaxed/relaxed; d=1e100.net; s=20230601; t=1697579712; x=1698184512; h=cc:to:from:subject:message-id:date:x-gm-message-state:from:to:cc :subject:date:message-id:reply-to; bh=mkvkFzzT6cvddAlNtQPec1I/sfPT793hioasnNGlreE=; b=gZJKImA+wRRY7fMYPp1Aa3tJ6PwIJjxgZnvEyYmUiB3ki+/0yHv68d8PmmNkvAYWR3 KANWsoGsZxOlNnGlrqSXPgcloZv48NnciEvJsmX77ClcnPanqLRitzjfoA4ru1wPAub+ RgMTwPFGwDtoWXyStuW1ahMBJn8Zu8brvHjaFl/rmOX/xtxYx33SEu+yKDVGLEENt5Yj R1HOdc8CYnzHSzGtqW1YPhlDUqpFnv9W3FJHLNhfAxJ7CeHS7m5XeZTyqBUYWXLV32DP rPxgIbhL+jzAhlkPTpuXhhq5HMTaZchDvRX2ZDv0+pE11KRAYRpGVQr2R9mWACx3MkNS QTrw== X-Gm-Message-State: AOJu0Yznt6/ukpZIGKluG5oYV+WC7MMisK8glPkJO5hxym3PNNAjCOv0 E34/WUvdhVpr5o4WlsaI5JgvKZnBeLwbKo4qTYY3DSRyT1FICr1NRxS6SA== X-Google-Smtp-Source: AGHT+IEJ8EOFLakNVGWWW0Tn5lu1VnAQ5uPE1fw/bh0UO+Ae4eum1Y+GCtzh19dCh4LsQwr1jJwptfFPWp+9 X-Received: by 2002:a05:6870:80c:b0:1d6:cbcd:80f8 with SMTP id fw12-20020a056870080c00b001d6cbcd80f8mr3604970oab.54.1697579712331; Tue, 17 Oct 2023 14:55:12 -0700 (PDT) Received: from postal.iol.unh.edu (postal.iol.unh.edu. [132.177.123.84]) by smtp-relay.gmail.com with ESMTPS id e22-20020a056870451600b001dd8d4cc53bsm258135oao.40.2023.10.17.14.55.12 (version=TLS1_2 cipher=ECDHE-ECDSA-AES128-GCM-SHA256 bits=128/128); Tue, 17 Oct 2023 14:55:12 -0700 (PDT) X-Relaying-Domain: iol.unh.edu Date: Tue, 17 Oct 2023 14:55:12 -0700 (PDT) Message-ID: <652f02c0.050a0220.690e0.685eSMTPIN_ADDED_MISSING@mx.google.com> Received: from [172.21.0.8] (unknown [172.18.0.240]) by postal.iol.unh.edu (Postfix) with ESMTP id ED5A9602A042; Tue, 17 Oct 2023 17:55:11 -0400 (EDT) Subject: |SUCCESS| pw132751 [PATCH] event/cnxk: fix symbol map From: dpdklab@iol.unh.edu To: Test Report Cc: dpdk-test-reports@iol.unh.edu Content-Type: text/plain X-BeenThere: test-report@dpdk.org X-Mailman-Version: 2.1.29 Precedence: list List-Id: automatic DPDK test reports List-Unsubscribe: , List-Archive: List-Post: List-Help: List-Subscribe: , Errors-To: test-report-bounces@dpdk.org Test-Label: iol-unit-arm64-testing Test-Status: SUCCESS http://dpdk.org/patch/132751 _Testing PASS_ Submitter: David Marchand Date: Tuesday, October 17 2023 12:35:59 DPDK git baseline: Repo:dpdk-next-eventdev Branch: master CommitID:4aa8315ee12e17785588fb9891306b9dee685d6b 132751 --> testing pass Test environment and result as below: +----------------------+---------------------------+------------------------------+--------------+ | Environment | cryptodev_sw_zuc_autotest | cryptodev_sw_snow3g_autotest | lpm_autotest | +======================+===========================+==============================+==============+ | Debian 11 (arm) | PASS | PASS | SKIPPED | +----------------------+---------------------------+------------------------------+--------------+ | Ubuntu 20.04 ARM SVE | SKIPPED | SKIPPED | PASS | +----------------------+---------------------------+------------------------------+--------------+ Debian 11 (arm) Kernel: Container Host Kernel Compiler: gcc 10.2.1 Ubuntu 20.04 ARM SVE Kernel: 5.4.0-80-generic Compiler: gcc 10.3.0 (Ubuntu 10.3.0-1ubuntu1~20.04) To view detailed results, visit: https://lab.dpdk.org/results/dashboard/patchsets/27968/ UNH-IOL DPDK Community Lab To manage your email subscriptions, visit: https://lab.dpdk.org/results/dashboard/preferences/subscriptions/