From mboxrd@z Thu Jan 1 00:00:00 1970 Return-Path: Received: from mails.dpdk.org (mails.dpdk.org [217.70.189.124]) by inbox.dpdk.org (Postfix) with ESMTP id E222B43191 for ; Wed, 18 Oct 2023 01:12:47 +0200 (CEST) Received: from mails.dpdk.org (localhost [127.0.0.1]) by mails.dpdk.org (Postfix) with ESMTP id DD4B04025F; Wed, 18 Oct 2023 01:12:47 +0200 (CEST) Received: from mail-pf1-f227.google.com (mail-pf1-f227.google.com [209.85.210.227]) by mails.dpdk.org (Postfix) with ESMTP id A5BB04025F for ; Wed, 18 Oct 2023 01:12:41 +0200 (CEST) Received: by mail-pf1-f227.google.com with SMTP id d2e1a72fcca58-68fb85afef4so5076605b3a.1 for ; Tue, 17 Oct 2023 16:12:41 -0700 (PDT) DKIM-Signature: v=1; a=rsa-sha256; c=relaxed/relaxed; d=iol.unh.edu; s=unh-iol; t=1697584361; x=1698189161; darn=dpdk.org; h=cc:to:from:subject:message-id:date:from:to:cc:subject:date :message-id:reply-to; bh=hwMtBj+NSm6ZcCZ3t4I4Y8qR2iZY3dkowS5s3p30DSE=; b=VMZkQa7buWPewg8c8voe0nmv+Y74io8rkP/ne2677ERINCCBL+DK/0U4kxcoYmYVUO rq1pXKf0nVbCmV3GzkY2AsUAkNqzqNM7dRGpMPOyduDzNkzlsTpY3+P2CYJV5cM0RtBy oTdJU1IF25vKJ0PYep6PdXHSPqJZ/kiV/lO58= X-Google-DKIM-Signature: v=1; a=rsa-sha256; c=relaxed/relaxed; d=1e100.net; s=20230601; t=1697584361; x=1698189161; h=cc:to:from:subject:message-id:date:x-gm-message-state:from:to:cc :subject:date:message-id:reply-to; bh=hwMtBj+NSm6ZcCZ3t4I4Y8qR2iZY3dkowS5s3p30DSE=; b=ZYrEz0d+cgRGzIgdlObfPA+tu7wiRZItY/2huXSArJuKUjHPJJ3ZSHIUS5V+CjaxSu LvAM3xJjKXXorb7cDplIGWlpwT/ooPWMFRTWI1/moFPM2ebPpRnRIy5T1ofJGaOh0UWQ CKYkvC/N1XLmKN2wWFVVB6ZKIt87PriBRn7kkJRCELvKcNbDYcoS1lSl30q1qvDVFuaB NYHv9JwsSMuAaVP6Uz6m1gRiiNjiHkg5zCeiWuaQRfWONDajS+OJb+pk0zHoA+62degL BVALVx/aFH5y4RaCaGOScMaRIsA843Gs6BPaQvqfnxOjI8cHh4uKa3O+UFevofgCuOHa O3yg== X-Gm-Message-State: AOJu0YyEmGfnc4fbvoFvV+8llgeGHV2gsvl0PX6RplyQYV+6tiCfJGno rk4YwF1B9oCVE7LjVsLRrINDg2SvgLoVYdHjT5WrOm3bSAJIUuQxDM1dVcPHQombgmlbSaKk+g= = X-Google-Smtp-Source: AGHT+IFo0RGEyIJ1jEbgKAcg0zI+Tsk4pio6oirgAugkHA3XwpIQRaG/6aiaEAAsw3Ok+h79GFC9TwKzT4kd X-Received: by 2002:a05:6a00:150a:b0:690:d620:7801 with SMTP id q10-20020a056a00150a00b00690d6207801mr3973514pfu.11.1697584360875; Tue, 17 Oct 2023 16:12:40 -0700 (PDT) Received: from postal.iol.unh.edu (postal.iol.unh.edu. [2606:4100:3880:1234::84]) by smtp-relay.gmail.com with ESMTPS id i19-20020aa78d93000000b006bd32d1aaf7sm244275pfr.8.2023.10.17.16.12.40 (version=TLS1_2 cipher=ECDHE-ECDSA-AES128-GCM-SHA256 bits=128/128); Tue, 17 Oct 2023 16:12:40 -0700 (PDT) X-Relaying-Domain: iol.unh.edu Date: Tue, 17 Oct 2023 16:12:40 -0700 (PDT) Message-ID: <652f14e8.a70a0220.8928d.6483SMTPIN_ADDED_MISSING@mx.google.com> Received: from [172.17.0.6] (unknown [172.18.0.215]) by postal.iol.unh.edu (Postfix) with ESMTP id 1329D602A042; Tue, 17 Oct 2023 19:12:40 -0400 (EDT) Subject: |SUCCESS| pw132751 [PATCH] event/cnxk: fix symbol map From: dpdklab@iol.unh.edu To: Test Report Cc: dpdk-test-reports@iol.unh.edu Content-Type: text/plain X-BeenThere: test-report@dpdk.org X-Mailman-Version: 2.1.29 Precedence: list List-Id: automatic DPDK test reports List-Unsubscribe: , List-Archive: List-Post: List-Help: List-Subscribe: , Errors-To: test-report-bounces@dpdk.org Test-Label: iol-compile-arm64-testing Test-Status: SUCCESS http://dpdk.org/patch/132751 _Testing PASS_ Submitter: David Marchand Date: Tuesday, October 17 2023 12:35:59 DPDK git baseline: Repo:dpdk-next-eventdev Branch: master CommitID:4aa8315ee12e17785588fb9891306b9dee685d6b 132751 --> testing pass Test environment and result as below: +----------------------------------------+--------------------+ | Environment | dpdk_meson_compile | +========================================+====================+ | Ubuntu 20.04 ARM SVE | PASS | +----------------------------------------+--------------------+ | Ubuntu 20.04 ARM GCC Cross Compile | PASS | +----------------------------------------+--------------------+ | Ubuntu 20.04 aarch32 GCC Cross Compile | PASS | +----------------------------------------+--------------------+ | CentOS Stream 9 (ARM) | PASS | +----------------------------------------+--------------------+ | Fedora 37 (ARM) | PASS | +----------------------------------------+--------------------+ | Fedora 38 (ARM) | PASS | +----------------------------------------+--------------------+ | Debian 11 (Buster) (ARM) | PASS | +----------------------------------------+--------------------+ | Ubuntu 20.04 ARM Clang Cross Compile | PASS | +----------------------------------------+--------------------+ | Ubuntu 20.04 (ARM) | PASS | +----------------------------------------+--------------------+ | Fedora 38 (ARM Clang) | PASS | +----------------------------------------+--------------------+ Ubuntu 20.04 ARM SVE Kernel: 5.4.0-80-generic Compiler: gcc 10.3.0 (Ubuntu 10.3.0-1ubuntu1~20.04) Ubuntu 20.04 ARM GCC Cross Compile Kernel: 5.4.0-72-generic Compiler: aarch64-linux-gnu-gcc (Ubuntu 9.3.0-17ubuntu1~20.04) 9.3.0 Ubuntu 20.04 aarch32 GCC Cross Compile Kernel: 5.4.0-72-generic Compiler: gcc 9.3.0 CentOS Stream 9 (ARM) Kernel: Container Host Kernel Compiler: gcc 11.3.1 Fedora 37 (ARM) Kernel: Depends on container host Compiler: gcc 12.3.1 Fedora 38 (ARM) Kernel: Depends on container host Compiler: gcc 13.1.1 Debian 11 (Buster) (ARM) Kernel: Container Host Kernel Compiler: gcc 10.2.1 Ubuntu 20.04 ARM Clang Cross Compile Kernel: 5.4.0-72-generic Compiler: clang version 10.0.0-4ubuntu1 Ubuntu 20.04 (ARM) Kernel: Container Host Kernel Compiler: gcc 9.4.0 Fedora 38 (ARM Clang) Kernel: Depends on container host Compiler: clang 16.0.3 To view detailed results, visit: https://lab.dpdk.org/results/dashboard/patchsets/27968/ UNH-IOL DPDK Community Lab To manage your email subscriptions, visit: https://lab.dpdk.org/results/dashboard/preferences/subscriptions/