From mboxrd@z Thu Jan 1 00:00:00 1970 Return-Path: Received: from mails.dpdk.org (mails.dpdk.org [217.70.189.124]) by inbox.dpdk.org (Postfix) with ESMTP id 3880B43192 for ; Wed, 18 Oct 2023 03:03:42 +0200 (CEST) Received: from mails.dpdk.org (localhost [127.0.0.1]) by mails.dpdk.org (Postfix) with ESMTP id 337E34003C; Wed, 18 Oct 2023 03:03:42 +0200 (CEST) Received: from mail-pl1-f226.google.com (mail-pl1-f226.google.com [209.85.214.226]) by mails.dpdk.org (Postfix) with ESMTP id CFDA14003C for ; Wed, 18 Oct 2023 03:03:40 +0200 (CEST) Received: by mail-pl1-f226.google.com with SMTP id d9443c01a7336-1c8a1541232so54510375ad.0 for ; Tue, 17 Oct 2023 18:03:40 -0700 (PDT) DKIM-Signature: v=1; a=rsa-sha256; c=relaxed/relaxed; d=iol.unh.edu; s=unh-iol; t=1697591020; x=1698195820; darn=dpdk.org; h=cc:to:from:subject:message-id:date:from:to:cc:subject:date :message-id:reply-to; bh=yW9hFHKsaUNbOl/KzXPTzWdqgh73nWoDdA9Jvx01vpM=; b=BLpm5+D7TSk/fHLldzTbUGheb1gKFxcccDnnRV0tHxdBLWuNuxMc6ZlGHQP825UBbU J2GT/xV8LjW4Cqr9BdnUPSgkVKiehxIi1OZpPhEKaDxkJMx0IBNxxUWOpzF5du13PWsi b35jNuVSX919yf1SJ+c94BiKf+Dd+x35u2Xu4= X-Google-DKIM-Signature: v=1; a=rsa-sha256; c=relaxed/relaxed; d=1e100.net; s=20230601; t=1697591020; x=1698195820; h=cc:to:from:subject:message-id:date:x-gm-message-state:from:to:cc :subject:date:message-id:reply-to; bh=yW9hFHKsaUNbOl/KzXPTzWdqgh73nWoDdA9Jvx01vpM=; b=MhM1gUOjV/+celj2LZA1SeRNNwYP51FSisX4BGeddtI06hjAeBIa7MrfP527mTkNiL bg5Hc7KRdoFvtDQFTj1kV8pEi+1SkNXW81wVNgKl5+lJV0VL6Ws6bstKLoRQG7M0Y3AF zQb3vPfvlTe/KdAMV4tRHYSYozCU12W2Y706EnKlDCmp+8FNGb8eSeHzifl3tMISLQP1 ZSxJwkjg8cF/qus58r+n5JhuT9m14WKublQWnDfhKpIK60Iouu7/RqtjNT97iGdxZh7K QFzdrrMwcmT7/XxncsOe7iErMoRttDalMFtjgvq5Bo7I4WOR3amyhhWKo6pqtlCkI5fZ zREg== X-Gm-Message-State: AOJu0YzP22WVCBFCccrPGhLMmYt1DfZMlh9f8fEmfSLMTJOV8B+HCSUy jwNCslCj8dYhSVsJwzIy0pgHIv8hgkJKYFt/Dg31wfPZstruzBOltC4ebdiHMuAUXCcKfLyIoQ= = X-Google-Smtp-Source: AGHT+IGdDRflRlMs7+udCcIvuOOIp4g4n6SlZYGE+vmAgyxPr7F6pMfEbX7APXAzbbHKUGdsqYJCyvsl5J0N X-Received: by 2002:a17:90b:3d07:b0:27d:66a9:3466 with SMTP id pt7-20020a17090b3d0700b0027d66a93466mr3920032pjb.7.1697591020021; Tue, 17 Oct 2023 18:03:40 -0700 (PDT) Received: from postal.iol.unh.edu (postal.iol.unh.edu. [2606:4100:3880:1234::84]) by smtp-relay.gmail.com with ESMTPS id c13-20020a170902d48d00b001c5fce9766dsm220372plg.127.2023.10.17.18.03.39 (version=TLS1_2 cipher=ECDHE-ECDSA-AES128-GCM-SHA256 bits=128/128); Tue, 17 Oct 2023 18:03:40 -0700 (PDT) X-Relaying-Domain: iol.unh.edu Date: Tue, 17 Oct 2023 18:03:40 -0700 (PDT) Message-ID: <652f2eec.170a0220.7393c.4f22SMTPIN_ADDED_MISSING@mx.google.com> Received: from [172.21.0.3] (unknown [172.18.0.240]) by postal.iol.unh.edu (Postfix) with ESMTP id 7A76D602A042; Tue, 17 Oct 2023 21:03:39 -0400 (EDT) Subject: |SUCCESS| pw132751 [PATCH] event/cnxk: fix symbol map From: dpdklab@iol.unh.edu To: Test Report Cc: dpdk-test-reports@iol.unh.edu Content-Type: text/plain X-BeenThere: test-report@dpdk.org X-Mailman-Version: 2.1.29 Precedence: list List-Id: automatic DPDK test reports List-Unsubscribe: , List-Archive: List-Post: List-Help: List-Subscribe: , Errors-To: test-report-bounces@dpdk.org Test-Label: iol-unit-amd64-testing Test-Status: SUCCESS http://dpdk.org/patch/132751 _Testing PASS_ Submitter: David Marchand Date: Tuesday, October 17 2023 12:35:59 DPDK git baseline: Repo:dpdk-next-eventdev Branch: master CommitID:4aa8315ee12e17785588fb9891306b9dee685d6b 132751 --> testing pass Test environment and result as below: +---------------------+----------------+ | Environment | dpdk_unit_test | +=====================+================+ | CentOS Stream 8 | PASS | +---------------------+----------------+ | CentOS Stream 9 | PASS | +---------------------+----------------+ | Debian Buster | PASS | +---------------------+----------------+ | Debian Bullseye | PASS | +---------------------+----------------+ | Fedora 37 | PASS | +---------------------+----------------+ | openSUSE Leap 15 | PASS | +---------------------+----------------+ | Fedora 38 | PASS | +---------------------+----------------+ | Ubuntu 22.04 | PASS | +---------------------+----------------+ | RHEL8 | PASS | +---------------------+----------------+ | Ubuntu 20.04 | PASS | +---------------------+----------------+ | Windows Server 2019 | PASS | +---------------------+----------------+ CentOS Stream 8 Kernel: 4.18.0-240.10.1.el8_3.x86_64 Compiler: gcc 8.4.1 20200928 CentOS Stream 9 Kernel: 4.18.0-240.10.1.el8_3.x86_64 Compiler: gcc 11.3.1 20220421 Debian Buster Kernel: 5.4.0-122-generic Compiler: gcc 8.3.0-6 Debian Bullseye Kernel: 5.4.0-122-generic Compiler: gcc 10.2.1-6 Fedora 37 Kernel: Depends on container host system Compiler: gcc 12.3.1 openSUSE Leap 15 Kernel: 4.18.0-240.10.1.el8_3.x86_64 Compiler: gcc 7.5.0 Fedora 38 Kernel: Depends on container host Compiler: gcc 13.1.1 Ubuntu 22.04 Kernel: 4.18.0-240.10.1.el8_3.x86_64 Compiler: gcc 11.3.0 RHEL8 Kernel: 4.18.0-240.10.1.el8_3.x86_64 Compiler: gcc 8.3.1 20191121 (Red Hat 8.3.1-5) Ubuntu 20.04 Kernel: 5.4.0-153-generic Compiler: gcc 9.4.0-1ubuntu1~20.04.1 Windows Server 2019 Kernel: 10.0 Compiler: clang 14.0 and gcc 8.1.0 (MinGW) To view detailed results, visit: https://lab.dpdk.org/results/dashboard/patchsets/27968/ UNH-IOL DPDK Community Lab To manage your email subscriptions, visit: https://lab.dpdk.org/results/dashboard/preferences/subscriptions/