From mboxrd@z Thu Jan 1 00:00:00 1970 Return-Path: Received: from mails.dpdk.org (mails.dpdk.org [217.70.189.124]) by inbox.dpdk.org (Postfix) with ESMTP id 089AC431DE for ; Mon, 23 Oct 2023 08:05:30 +0200 (CEST) Received: from mails.dpdk.org (localhost [127.0.0.1]) by mails.dpdk.org (Postfix) with ESMTP id 03E37402C8; Mon, 23 Oct 2023 08:05:30 +0200 (CEST) Received: from mail-vs1-f100.google.com (mail-vs1-f100.google.com [209.85.217.100]) by mails.dpdk.org (Postfix) with ESMTP id AF23940270 for ; Mon, 23 Oct 2023 08:05:24 +0200 (CEST) Received: by mail-vs1-f100.google.com with SMTP id ada2fe7eead31-45865d6e588so1994150137.0 for ; Sun, 22 Oct 2023 23:05:24 -0700 (PDT) DKIM-Signature: v=1; a=rsa-sha256; c=relaxed/relaxed; d=iol.unh.edu; s=unh-iol; t=1698041124; x=1698645924; darn=dpdk.org; h=cc:to:from:subject:message-id:date:from:to:cc:subject:date :message-id:reply-to; bh=RcmdPNLjYu8gVfzHbHLXJ1ADzciaQJnrNcDxKmEnVMg=; b=hND6H13TIKaVKHJ/Rf6NiM0tR/3dGH3D3WvsykK0vQyimU91vMveX/MXkFiREImeL5 5BGUp/OUvj/CR0pZ4dqN8EIihKGXewV4ZyIPBuXGU4dMBkQIx+od3nvMBtRqM1rn3dZe ZitJu9eDw5c/ERVlREETvhz+QmWe7aZqXY4z0= X-Google-DKIM-Signature: v=1; a=rsa-sha256; c=relaxed/relaxed; d=1e100.net; s=20230601; t=1698041124; x=1698645924; h=cc:to:from:subject:message-id:date:x-gm-message-state:from:to:cc :subject:date:message-id:reply-to; bh=RcmdPNLjYu8gVfzHbHLXJ1ADzciaQJnrNcDxKmEnVMg=; b=YQJHRuswyv9birLQhCGOautASMGn6LyARFtPqM4e4TV2o+9FWurCzwbWeu7g3ZRvxK ytVZGKmaqjPIInPf9KGlcehpizIOLpwHZDOSLcLdqAuuwXS8/svTplfKXyJAB34/7ZcW xlowZVxpU1ZBZd3wbYgg6+4P7EzU1qjKgLzAbE51axmG9U2PNJmT81ED1GJipz9JkRZK DBvBnB12SOr45rvxIifTeoZ6Ja8AXNYNdZtjnLBzyMMi/n8zv9RJ6QR4XSAkJbdnnEJL ZRPd1yA971qT8pYCZPqLwBZl9QKCtJIa+j/cxqgfErcifVClDO64P1yrChcsocbU7RAY furw== X-Gm-Message-State: AOJu0YwNo4/7Bea3NFh+GpJVKxNN8pBBK8lFr1aBb8vj+0VJY7U+A7Rd zTWe1QU8TNylrco6aUhVzzr5EAneNjlqxr0EY9Pjc3Q4Vq5hrMBSrpKoPw== X-Google-Smtp-Source: AGHT+IG+JSGKCSvhobFUqxGWivgT//h9LfP/iDLTZm1sKMDlA9Q4yBZwL9DkUWApqRq845px7SPk+Ld8NQJC X-Received: by 2002:a67:e048:0:b0:452:8423:e952 with SMTP id n8-20020a67e048000000b004528423e952mr4331747vsl.5.1698041124112; Sun, 22 Oct 2023 23:05:24 -0700 (PDT) Received: from postal.iol.unh.edu (postal.iol.unh.edu. [132.177.123.84]) by smtp-relay.gmail.com with ESMTPS id s6-20020a056102370600b004365c45a1cesm516327vst.2.2023.10.22.23.05.24 (version=TLS1_2 cipher=ECDHE-ECDSA-AES128-GCM-SHA256 bits=128/128); Sun, 22 Oct 2023 23:05:24 -0700 (PDT) X-Relaying-Domain: iol.unh.edu Date: Sun, 22 Oct 2023 23:05:24 -0700 (PDT) Message-ID: <65360d24.050a0220.6837e.287cSMTPIN_ADDED_MISSING@mx.google.com> Received: from [172.21.0.2] (unknown [172.18.0.240]) by postal.iol.unh.edu (Postfix) with ESMTP id 910056051827; Mon, 23 Oct 2023 02:05:23 -0400 (EDT) Subject: |SUCCESS| pw133121 [PATCH] eal: support lcore usage ratio From: dpdklab@iol.unh.edu To: Test Report Cc: dpdk-test-reports@iol.unh.edu Content-Type: text/plain X-BeenThere: test-report@dpdk.org X-Mailman-Version: 2.1.29 Precedence: list List-Id: automatic DPDK test reports List-Unsubscribe: , List-Archive: List-Post: List-Help: List-Subscribe: , Errors-To: test-report-bounces@dpdk.org Test-Label: iol-unit-arm64-testing Test-Status: SUCCESS http://dpdk.org/patch/133121 _Testing PASS_ Submitter: Chengwen Feng Date: Monday, October 23 2023 04:08:11 DPDK git baseline: Repo:dpdk Branch: master CommitID:2cd2cf0cc53a508c4bd951a980ec534a646260de 133121 --> testing pass Test environment and result as below: +--------------------------+----------------+ | Environment | dpdk_unit_test | +==========================+================+ | Debian 11 (Buster) (ARM) | PASS | +--------------------------+----------------+ | Fedora 37 (ARM) | PASS | +--------------------------+----------------+ | Fedora 38 (ARM) | PASS | +--------------------------+----------------+ Debian 11 (Buster) (ARM) Kernel: Container Host Kernel Compiler: gcc 10.2.1 Fedora 37 (ARM) Kernel: Depends on container host Compiler: gcc 12.3.1 Fedora 38 (ARM) Kernel: Depends on container host Compiler: gcc 13.1.1 To view detailed results, visit: https://lab.dpdk.org/results/dashboard/patchsets/28028/ UNH-IOL DPDK Community Lab To manage your email subscriptions, visit: https://lab.dpdk.org/results/dashboard/preferences/subscriptions/