From mboxrd@z Thu Jan 1 00:00:00 1970 Return-Path: Received: from mails.dpdk.org (mails.dpdk.org [217.70.189.124]) by inbox.dpdk.org (Postfix) with ESMTP id 2D1C7431DE for ; Mon, 23 Oct 2023 08:06:08 +0200 (CEST) Received: from mails.dpdk.org (localhost [127.0.0.1]) by mails.dpdk.org (Postfix) with ESMTP id 272BA40270; Mon, 23 Oct 2023 08:06:08 +0200 (CEST) Received: from mail-io1-f98.google.com (mail-io1-f98.google.com [209.85.166.98]) by mails.dpdk.org (Postfix) with ESMTP id 34B1040270 for ; Mon, 23 Oct 2023 08:06:03 +0200 (CEST) Received: by mail-io1-f98.google.com with SMTP id ca18e2360f4ac-7a693d8de75so95907939f.2 for ; Sun, 22 Oct 2023 23:06:03 -0700 (PDT) DKIM-Signature: v=1; a=rsa-sha256; c=relaxed/relaxed; d=iol.unh.edu; s=unh-iol; t=1698041162; x=1698645962; darn=dpdk.org; h=cc:to:from:subject:message-id:date:from:to:cc:subject:date :message-id:reply-to; bh=0R0QY5aqCiEN4HToYzb9i1g0/0xogWxgbvcH87LgYZs=; b=WZU1tfqgs5PCG9bAFKLiNw1VLJrsAJN9f22bfhwPmeUmzA75aMAw90tetw3eYwCTdp eWFJEY2SQ20TlX26QFQYa4RtLAIS45YCoz9Wh7uqGQSoquwLOQ+c3TRnx4Q9dJ/HKiIj ZfoO1JkvGn9U3SSjkDzfP/Idgjwid0txTF2tI= X-Google-DKIM-Signature: v=1; a=rsa-sha256; c=relaxed/relaxed; d=1e100.net; s=20230601; t=1698041162; x=1698645962; h=cc:to:from:subject:message-id:date:x-gm-message-state:from:to:cc :subject:date:message-id:reply-to; bh=0R0QY5aqCiEN4HToYzb9i1g0/0xogWxgbvcH87LgYZs=; b=F0uIw+WUm5tBRK3h0Isblsz8gO2QARGJcxJ6m2GfnJ/xR/LCcgrpHGSbsUUD+wYtRi LcMdS/QaEcNdEssKTdheUcJm4hRoJUW+XuI0gwbCFjxfUksPB7noktcs4YUstuGFAus+ QzNWOCrlZ9ofNCOtgG7FZGREm3tcFxj2gbWEeVkxBZKyoMN5WgMCZtTkARgWQbTdDkg/ HkSkiv0Ena1XYA4M9pvgYx/atvFRinDr9xd2IvzPfzkywstP6nmfv/tJpSwaaksIXSuH oSIO5YGJBKqZ/Z6fEyYpY+TEk0VU6ptzBPZb6oKO3D15SrVPrT/3Bj6qRiOrayfCXLiE HL+Q== X-Gm-Message-State: AOJu0YxhMHAn98OF7OcPaO51HErsgqeRLK23kw+2/QP3YzxYKewiOwJs 80niFOALp2bm6Wima/1qwmxkf2uCxHstQfcstPdWuRNRDJhTPzK7hPBdhg== X-Google-Smtp-Source: AGHT+IEMbbQbDyvAYy7yVoDU6Fo21vMq37SknPL8eKzJS4tgENjpt7oWhumZkNfPeFeekAgzIEfwi7Rle4MQ X-Received: by 2002:a05:6602:3c1:b0:79f:cf6a:cc55 with SMTP id g1-20020a05660203c100b0079fcf6acc55mr9690966iov.20.1698041162590; Sun, 22 Oct 2023 23:06:02 -0700 (PDT) Received: from postal.iol.unh.edu (postal.iol.unh.edu. [132.177.123.84]) by smtp-relay.gmail.com with ESMTPS id ei2-20020a05663829a200b0045f7e56c75esm269224jab.37.2023.10.22.23.06.02 (version=TLS1_2 cipher=ECDHE-ECDSA-AES128-GCM-SHA256 bits=128/128); Sun, 22 Oct 2023 23:06:02 -0700 (PDT) X-Relaying-Domain: iol.unh.edu Date: Sun, 22 Oct 2023 23:06:02 -0700 (PDT) Message-ID: <65360d4a.050a0220.6a8be.90d5SMTPIN_ADDED_MISSING@mx.google.com> Received: from [172.21.0.2] (unknown [172.18.0.240]) by postal.iol.unh.edu (Postfix) with ESMTP id E46806051827; Mon, 23 Oct 2023 02:06:01 -0400 (EDT) Subject: |SUCCESS| pw133121 [PATCH] eal: support lcore usage ratio From: dpdklab@iol.unh.edu To: Test Report Cc: dpdk-test-reports@iol.unh.edu Content-Type: text/plain X-BeenThere: test-report@dpdk.org X-Mailman-Version: 2.1.29 Precedence: list List-Id: automatic DPDK test reports List-Unsubscribe: , List-Archive: List-Post: List-Help: List-Subscribe: , Errors-To: test-report-bounces@dpdk.org Test-Label: iol-unit-arm64-testing Test-Status: SUCCESS http://dpdk.org/patch/133121 _Testing PASS_ Submitter: Chengwen Feng Date: Monday, October 23 2023 04:08:11 DPDK git baseline: Repo:dpdk Branch: master CommitID:2cd2cf0cc53a508c4bd951a980ec534a646260de 133121 --> testing pass Test environment and result as below: +--------------------------+----------------+ | Environment | dpdk_unit_test | +==========================+================+ | Debian 11 (Buster) (ARM) | PASS | +--------------------------+----------------+ | Fedora 37 (ARM) | PASS | +--------------------------+----------------+ | Fedora 38 (ARM) | PASS | +--------------------------+----------------+ | CentOS Stream 9 (ARM) | PASS | +--------------------------+----------------+ Debian 11 (Buster) (ARM) Kernel: Container Host Kernel Compiler: gcc 10.2.1 Fedora 37 (ARM) Kernel: Depends on container host Compiler: gcc 12.3.1 Fedora 38 (ARM) Kernel: Depends on container host Compiler: gcc 13.1.1 CentOS Stream 9 (ARM) Kernel: Container Host Kernel Compiler: gcc 11.3.1 To view detailed results, visit: https://lab.dpdk.org/results/dashboard/patchsets/28028/ UNH-IOL DPDK Community Lab To manage your email subscriptions, visit: https://lab.dpdk.org/results/dashboard/preferences/subscriptions/