From mboxrd@z Thu Jan 1 00:00:00 1970 Return-Path: Received: from mails.dpdk.org (mails.dpdk.org [217.70.189.124]) by inbox.dpdk.org (Postfix) with ESMTP id 6D5A1431DE for ; Mon, 23 Oct 2023 08:06:51 +0200 (CEST) Received: from mails.dpdk.org (localhost [127.0.0.1]) by mails.dpdk.org (Postfix) with ESMTP id 5FE99402D9; Mon, 23 Oct 2023 08:06:51 +0200 (CEST) Received: from mail-yw1-f227.google.com (mail-yw1-f227.google.com [209.85.128.227]) by mails.dpdk.org (Postfix) with ESMTP id 2011340270 for ; Mon, 23 Oct 2023 08:06:47 +0200 (CEST) Received: by mail-yw1-f227.google.com with SMTP id 00721157ae682-5a8ada42c2aso29050127b3.3 for ; Sun, 22 Oct 2023 23:06:47 -0700 (PDT) DKIM-Signature: v=1; a=rsa-sha256; c=relaxed/relaxed; d=iol.unh.edu; s=unh-iol; t=1698041206; x=1698646006; darn=dpdk.org; h=cc:to:from:subject:message-id:date:from:to:cc:subject:date :message-id:reply-to; bh=Os5R3R1uOxElSfjxG6Xmict1i7zXx38FeA8wsvK7uwM=; b=bb5v6rjvFGkOhd8iEXSmp+I5xhXQc4LNXImkcjPfc4nS9C7d5qwNJc9hzbaSp/fYfM dEvscC5lAVsccTVrGQA2uIPHouX0g+5qqJCgasX2dQVZmQnaA+on6Y5OBl9JNWt9na6Y ul5ycLSsX5J9Z79I0ba0mlP9Y8mkNxQJIbw+I= X-Google-DKIM-Signature: v=1; a=rsa-sha256; c=relaxed/relaxed; d=1e100.net; s=20230601; t=1698041206; x=1698646006; h=cc:to:from:subject:message-id:date:x-gm-message-state:from:to:cc :subject:date:message-id:reply-to; bh=Os5R3R1uOxElSfjxG6Xmict1i7zXx38FeA8wsvK7uwM=; b=opnBXtcOpwOApQ8nUjAzLH/MwRotADQyJm9BzzVazqAunguyh4hguyc4PAhxUFB+aA dKEMrUI3OG+sXdIz+hNEQUT7g17YO8S59SP6Gs578949Hht3Yao2GSZTOm4+fO8z+QfP oi/vk273Zg5K7huduWt5rOltTbThJl6teFuInKo4SUvzT1Xg5raUe3E4whCOqqYcYWpP gbc+vOukA1mf+lc/umYheCMrkkUH14hP2gadrtzdn7bo4U+zRYP6v3a26XpV5+moFaEr UIYR5rz8Mn5kRRN82Hf5sTMyYe7ml123qCjAo9gpFMH19QzbP9Ft1Yf3nbF9qr3eRkGP x9NA== X-Gm-Message-State: AOJu0YwLLi0Y5Y6OgJ2j6KRC7AvY4rzT2fNBC2/ylcFa7ctviVj+LgKI vNOH1VxT2bxahlcQ4BhgD4uUfGrfqFE0tHY0haTY5S0ai+vvUrq2Yy0uzW8pRUzbeiHDQ+7iCA= = X-Google-Smtp-Source: AGHT+IHEVXNvAeUgjAPYfdDnI+BVemaAtbJ1wYH5LQYdRe013prl7TMxE3aUdL2t5FeKcfAf1eGXRz1kRyFn X-Received: by 2002:a0d:d64b:0:b0:5a7:daf4:53c8 with SMTP id y72-20020a0dd64b000000b005a7daf453c8mr8916417ywd.5.1698041206581; Sun, 22 Oct 2023 23:06:46 -0700 (PDT) Received: from postal.iol.unh.edu (postal.iol.unh.edu. [2606:4100:3880:1234::84]) by smtp-relay.gmail.com with ESMTPS id y202-20020a81a1d3000000b005a7b096f3basm742738ywg.8.2023.10.22.23.06.46 (version=TLS1_2 cipher=ECDHE-ECDSA-AES128-GCM-SHA256 bits=128/128); Sun, 22 Oct 2023 23:06:46 -0700 (PDT) X-Relaying-Domain: iol.unh.edu Date: Sun, 22 Oct 2023 23:06:46 -0700 (PDT) Message-ID: <65360d76.810a0220.6ab08.1717SMTPIN_ADDED_MISSING@mx.google.com> Received: from [172.21.0.3] (unknown [172.18.0.240]) by postal.iol.unh.edu (Postfix) with ESMTP id 1959E6051827; Mon, 23 Oct 2023 02:06:46 -0400 (EDT) Subject: |SUCCESS| pw133121 [PATCH] eal: support lcore usage ratio From: dpdklab@iol.unh.edu To: Test Report Cc: Chengwen Feng , dpdk-test-reports@iol.unh.edu Content-Type: text/plain X-BeenThere: test-report@dpdk.org X-Mailman-Version: 2.1.29 Precedence: list List-Id: automatic DPDK test reports List-Unsubscribe: , List-Archive: List-Post: List-Help: List-Subscribe: , Errors-To: test-report-bounces@dpdk.org Test-Label: iol-unit-arm64-testing Test-Status: SUCCESS http://dpdk.org/patch/133121 _Testing PASS_ Submitter: Chengwen Feng Date: Monday, October 23 2023 04:08:11 DPDK git baseline: Repo:dpdk Branch: master CommitID:2cd2cf0cc53a508c4bd951a980ec534a646260de 133121 --> testing pass Test environment and result as below: +--------------------------+----------------+---------------------------+ | Environment | dpdk_unit_test | cryptodev_sw_zuc_autotest | +==========================+================+===========================+ | Debian 11 (Buster) (ARM) | PASS | SKIPPED | +--------------------------+----------------+---------------------------+ | Fedora 37 (ARM) | PASS | SKIPPED | +--------------------------+----------------+---------------------------+ | Fedora 38 (ARM) | PASS | SKIPPED | +--------------------------+----------------+---------------------------+ | CentOS Stream 9 (ARM) | PASS | SKIPPED | +--------------------------+----------------+---------------------------+ | Debian 11 (arm) | SKIPPED | PASS | +--------------------------+----------------+---------------------------+ Debian 11 (Buster) (ARM) Kernel: Container Host Kernel Compiler: gcc 10.2.1 Fedora 37 (ARM) Kernel: Depends on container host Compiler: gcc 12.3.1 Fedora 38 (ARM) Kernel: Depends on container host Compiler: gcc 13.1.1 CentOS Stream 9 (ARM) Kernel: Container Host Kernel Compiler: gcc 11.3.1 Debian 11 (arm) Kernel: Container Host Kernel Compiler: gcc 10.2.1 To view detailed results, visit: https://lab.dpdk.org/results/dashboard/patchsets/28028/ UNH-IOL DPDK Community Lab To manage your email subscriptions, visit: https://lab.dpdk.org/results/dashboard/preferences/subscriptions/