From mboxrd@z Thu Jan 1 00:00:00 1970 Return-Path: Received: from mails.dpdk.org (mails.dpdk.org [217.70.189.124]) by inbox.dpdk.org (Postfix) with ESMTP id 79E81431DE for ; Mon, 23 Oct 2023 08:07:31 +0200 (CEST) Received: from mails.dpdk.org (localhost [127.0.0.1]) by mails.dpdk.org (Postfix) with ESMTP id 7525540270; Mon, 23 Oct 2023 08:07:31 +0200 (CEST) Received: from mail-pj1-f98.google.com (mail-pj1-f98.google.com [209.85.216.98]) by mails.dpdk.org (Postfix) with ESMTP id 8091040270 for ; Mon, 23 Oct 2023 08:07:08 +0200 (CEST) Received: by mail-pj1-f98.google.com with SMTP id 98e67ed59e1d1-27d3ede72f6so2549166a91.1 for ; Sun, 22 Oct 2023 23:07:08 -0700 (PDT) DKIM-Signature: v=1; a=rsa-sha256; c=relaxed/relaxed; d=iol.unh.edu; s=unh-iol; t=1698041228; x=1698646028; darn=dpdk.org; h=cc:to:from:subject:message-id:date:from:to:cc:subject:date :message-id:reply-to; bh=Os5R3R1uOxElSfjxG6Xmict1i7zXx38FeA8wsvK7uwM=; b=Z6cB9V7qZWpRTZWWAdLn5vnIj5pHB8n9av2VuYTuAhmlHv09XxbbrOk83jX+bBBHVu 31EyjwJRMdaKZLIrruejLNv4QA3CRX1mEOjLwkqkdlZ9uCmqodz7CLOeyMh+BNNF8T9P syk1dP6tqKAhXvgiR74jHcud4O86L8TTbjyQ4= X-Google-DKIM-Signature: v=1; a=rsa-sha256; c=relaxed/relaxed; d=1e100.net; s=20230601; t=1698041228; x=1698646028; h=cc:to:from:subject:message-id:date:x-gm-message-state:from:to:cc :subject:date:message-id:reply-to; bh=Os5R3R1uOxElSfjxG6Xmict1i7zXx38FeA8wsvK7uwM=; b=R139ApNMoM55Hc6i1xa+soNjLvFHkVT55jkJDhyPpIVjXg5Rc1O6SaAOCWkwO5QQgW 8dMGAsCGzq75xSvityw1/w6VFqJJdBKxYvpNdww4F/crokLuqNoEQR4QUFjF8xlXKocu DzPeDgqkkZWo/f5i3zANaKQWL/oCd1egbmk+Z2Jfa4S9XkePJgZvp2YmBRLfwp6Wgheh ZURS8AXyJZmSgqzgH02eh1MxAArvXnIQAyIUV0PhAAGBnAUJeVImAN5cRZA/JEd3d8Yi RouZ5m8GhC4jVmV97fPbUF3aoCopvdQVles1KbOySy25mlR2LaUYFrdXXmnhRetskUgC 9blQ== X-Gm-Message-State: AOJu0YytO1JC/+LutPSL3n7OJgnNe4hu9DSmCUNc7T4HP8wP87h1Imdo ZgbqkIlGaqXP0u6b4cFz7/e7MLIpeLwSF89eDw7XEVVck2ITFuH0BJva2g== X-Google-Smtp-Source: AGHT+IFBGFoWFeJtxcVJTv7S7r6c1Lce9gDqWszzEEzfl1LhM45gXO6rX8oD4crECU9ox165r4SI38HHS37O X-Received: by 2002:a17:90a:7442:b0:27d:9b67:7fa6 with SMTP id o2-20020a17090a744200b0027d9b677fa6mr7189906pjk.3.1698041227723; Sun, 22 Oct 2023 23:07:07 -0700 (PDT) Received: from postal.iol.unh.edu (postal.iol.unh.edu. [132.177.123.84]) by smtp-relay.gmail.com with ESMTPS id my17-20020a17090b4c9100b0027ceb5ef55fsm114371pjb.0.2023.10.22.23.07.07 (version=TLS1_2 cipher=ECDHE-ECDSA-AES128-GCM-SHA256 bits=128/128); Sun, 22 Oct 2023 23:07:07 -0700 (PDT) X-Relaying-Domain: iol.unh.edu Date: Sun, 22 Oct 2023 23:07:07 -0700 (PDT) Message-ID: <65360d8b.170a0220.5a831.2e49SMTPIN_ADDED_MISSING@mx.google.com> Received: from [172.21.0.2] (unknown [172.18.0.240]) by postal.iol.unh.edu (Postfix) with ESMTP id A8A7A6051827; Mon, 23 Oct 2023 02:07:06 -0400 (EDT) Subject: |SUCCESS| pw133121 [PATCH] eal: support lcore usage ratio From: dpdklab@iol.unh.edu To: Test Report Cc: Chengwen Feng , dpdk-test-reports@iol.unh.edu Content-Type: text/plain X-BeenThere: test-report@dpdk.org X-Mailman-Version: 2.1.29 Precedence: list List-Id: automatic DPDK test reports List-Unsubscribe: , List-Archive: List-Post: List-Help: List-Subscribe: , Errors-To: test-report-bounces@dpdk.org Test-Label: iol-unit-arm64-testing Test-Status: SUCCESS http://dpdk.org/patch/133121 _Testing PASS_ Submitter: Chengwen Feng Date: Monday, October 23 2023 04:08:11 DPDK git baseline: Repo:dpdk Branch: master CommitID:2cd2cf0cc53a508c4bd951a980ec534a646260de 133121 --> testing pass Test environment and result as below: +--------------------------+----------------+---------------------------+ | Environment | dpdk_unit_test | cryptodev_sw_zuc_autotest | +==========================+================+===========================+ | Debian 11 (Buster) (ARM) | PASS | SKIPPED | +--------------------------+----------------+---------------------------+ | Fedora 37 (ARM) | PASS | SKIPPED | +--------------------------+----------------+---------------------------+ | Fedora 38 (ARM) | PASS | SKIPPED | +--------------------------+----------------+---------------------------+ | CentOS Stream 9 (ARM) | PASS | SKIPPED | +--------------------------+----------------+---------------------------+ | Debian 11 (arm) | SKIPPED | PASS | +--------------------------+----------------+---------------------------+ Debian 11 (Buster) (ARM) Kernel: Container Host Kernel Compiler: gcc 10.2.1 Fedora 37 (ARM) Kernel: Depends on container host Compiler: gcc 12.3.1 Fedora 38 (ARM) Kernel: Depends on container host Compiler: gcc 13.1.1 CentOS Stream 9 (ARM) Kernel: Container Host Kernel Compiler: gcc 11.3.1 Debian 11 (arm) Kernel: Container Host Kernel Compiler: gcc 10.2.1 To view detailed results, visit: https://lab.dpdk.org/results/dashboard/patchsets/28028/ UNH-IOL DPDK Community Lab To manage your email subscriptions, visit: https://lab.dpdk.org/results/dashboard/preferences/subscriptions/