From mboxrd@z Thu Jan 1 00:00:00 1970 Return-Path: Received: from mails.dpdk.org (mails.dpdk.org [217.70.189.124]) by inbox.dpdk.org (Postfix) with ESMTP id EEE5F431DE for ; Mon, 23 Oct 2023 09:16:37 +0200 (CEST) Received: from mails.dpdk.org (localhost [127.0.0.1]) by mails.dpdk.org (Postfix) with ESMTP id E978040270; Mon, 23 Oct 2023 09:16:37 +0200 (CEST) Received: from mail-pl1-f225.google.com (mail-pl1-f225.google.com [209.85.214.225]) by mails.dpdk.org (Postfix) with ESMTP id F189C402D9 for ; Mon, 23 Oct 2023 09:16:30 +0200 (CEST) Received: by mail-pl1-f225.google.com with SMTP id d9443c01a7336-1bdf4752c3cso15641465ad.2 for ; Mon, 23 Oct 2023 00:16:30 -0700 (PDT) DKIM-Signature: v=1; a=rsa-sha256; c=relaxed/relaxed; d=iol.unh.edu; s=unh-iol; t=1698045390; x=1698650190; darn=dpdk.org; h=cc:to:from:subject:message-id:date:from:to:cc:subject:date :message-id:reply-to; bh=z2Uzq3vIXZnYaidYkxWyuTrngnhGCpHJuYZjIL/vKcI=; b=CFHcKhreU1ldHgbeEAlMcdcaFjxmqOn0lPzEWbICIq5ksJFM82m/5AyZfwWrO6SGCC 4L9LUnGZ213V2P6jivO1Sxcj+McEASVmc06FpNWk1tgeU9QoPCSV4Q+iFbDlHaTStp8P vR06Xkj3P8Sgop46T4tT1be0e0jUCdTPn/jP8= X-Google-DKIM-Signature: v=1; a=rsa-sha256; c=relaxed/relaxed; d=1e100.net; s=20230601; t=1698045390; x=1698650190; h=cc:to:from:subject:message-id:date:x-gm-message-state:from:to:cc :subject:date:message-id:reply-to; bh=z2Uzq3vIXZnYaidYkxWyuTrngnhGCpHJuYZjIL/vKcI=; b=xCEf+HJaSs4IvwjwVyxPlKDFspQPJEPz2wboKewLBO8d13pzPJzjdEOSSzaGSyBHYE 0UDT6+wgYhYbHDeHRFxhO1rIbaI/PeymB6FrDAvqyAroV/zmYJx3B+Fjj66VqdVMp2Rh YpHvWeNT6tqvAZr/KljIC1r6qxN8NOc2HwzCmkbkvn8rVnyaFZgWEl/YBBIKFQHHUrKi hUCDNF2p3pL+gB3fijA7Hi5JI4i62w73crXrCxMj0qyD98OU0gf9XQ52Ve4piVQ/LOvz RVgs0ghOLMIMtuaV0/lpiZSvuIGvsA7kJCiqvVFqDi6RmLiA8VCleWd+YREdGznSFWXp 4TYg== X-Gm-Message-State: AOJu0YwNXUDwlDNwVNaeslYTqnqvWL7jPnHkJOSuh+hm+tP+Y6v3FaSx zUU+X4wmP4lUBqmPgmFTGHnPXUWPF1XIEqw56JHHHV2k771TU5UGcl0MTMhF9r/HKxfrSYV/QQ= = X-Google-Smtp-Source: AGHT+IEP9YCbRBvC2uxymJq2rVM+0wPvTMU2JVih7zDMLWN2ITIoY3O4FMWbR7LlP8cdhZSdobLjxaHPBFuI X-Received: by 2002:a17:902:e483:b0:1ca:de25:30d1 with SMTP id i3-20020a170902e48300b001cade2530d1mr1722604ple.6.1698045390181; Mon, 23 Oct 2023 00:16:30 -0700 (PDT) Received: from postal.iol.unh.edu (postal.iol.unh.edu. [2606:4100:3880:1234::84]) by smtp-relay.gmail.com with ESMTPS id n11-20020a170902968b00b001c618d76b32sm266349plp.36.2023.10.23.00.16.30 (version=TLS1_2 cipher=ECDHE-ECDSA-AES128-GCM-SHA256 bits=128/128); Mon, 23 Oct 2023 00:16:30 -0700 (PDT) X-Relaying-Domain: iol.unh.edu Date: Mon, 23 Oct 2023 00:16:30 -0700 (PDT) Message-ID: <65361dce.170a0220.34afa.8d86SMTPIN_ADDED_MISSING@mx.google.com> Received: from [172.21.0.2] (unknown [172.18.0.240]) by postal.iol.unh.edu (Postfix) with ESMTP id 0C4606051827; Mon, 23 Oct 2023 03:16:29 -0400 (EDT) Subject: |SUCCESS| pw133121 [PATCH] eal: support lcore usage ratio From: dpdklab@iol.unh.edu To: Test Report Cc: dpdk-test-reports@iol.unh.edu Content-Type: text/plain X-BeenThere: test-report@dpdk.org X-Mailman-Version: 2.1.29 Precedence: list List-Id: automatic DPDK test reports List-Unsubscribe: , List-Archive: List-Post: List-Help: List-Subscribe: , Errors-To: test-report-bounces@dpdk.org Test-Label: iol-compile-amd64-testing Test-Status: SUCCESS http://dpdk.org/patch/133121 _Testing PASS_ Submitter: Chengwen Feng Date: Monday, October 23 2023 04:08:11 DPDK git baseline: Repo:dpdk Branch: master CommitID:2cd2cf0cc53a508c4bd951a980ec534a646260de 133121 --> testing pass Test environment and result as below: +---------------------+--------------------+----------------------+ | Environment | dpdk_meson_compile | dpdk_mingw64_compile | +=====================+====================+======================+ | FreeBSD 13 | PASS | SKIPPED | +---------------------+--------------------+----------------------+ | Windows Server 2019 | PASS | PASS | +---------------------+--------------------+----------------------+ | Debian Buster | PASS | SKIPPED | +---------------------+--------------------+----------------------+ | CentOS Stream 8 | PASS | SKIPPED | +---------------------+--------------------+----------------------+ | CentOS Stream 9 | PASS | SKIPPED | +---------------------+--------------------+----------------------+ | Debian Bullseye | PASS | SKIPPED | +---------------------+--------------------+----------------------+ FreeBSD 13 Kernel: 13.0 Compiler: clang 11.0.1 Windows Server 2019 Kernel: 10.0 Compiler: clang 14.0 and gcc 8.1.0 (MinGW) Debian Buster Kernel: 5.4.0-122-generic Compiler: gcc 8.3.0-6 CentOS Stream 8 Kernel: 4.18.0-240.10.1.el8_3.x86_64 Compiler: gcc 8.4.1 20200928 CentOS Stream 9 Kernel: 4.18.0-240.10.1.el8_3.x86_64 Compiler: gcc 11.3.1 20220421 Debian Bullseye Kernel: 5.4.0-122-generic Compiler: gcc 10.2.1-6 To view detailed results, visit: https://lab.dpdk.org/results/dashboard/patchsets/28028/ UNH-IOL DPDK Community Lab To manage your email subscriptions, visit: https://lab.dpdk.org/results/dashboard/preferences/subscriptions/