From mboxrd@z Thu Jan 1 00:00:00 1970 Return-Path: Received: from mails.dpdk.org (mails.dpdk.org [217.70.189.124]) by inbox.dpdk.org (Postfix) with ESMTP id 1B83D431DE for ; Mon, 23 Oct 2023 09:25:05 +0200 (CEST) Received: from mails.dpdk.org (localhost [127.0.0.1]) by mails.dpdk.org (Postfix) with ESMTP id 1657D40270; Mon, 23 Oct 2023 09:25:05 +0200 (CEST) Received: from mail-yw1-f228.google.com (mail-yw1-f228.google.com [209.85.128.228]) by mails.dpdk.org (Postfix) with ESMTP id 59E8740270 for ; Mon, 23 Oct 2023 09:25:03 +0200 (CEST) Received: by mail-yw1-f228.google.com with SMTP id 00721157ae682-5a7eef0b931so31256247b3.0 for ; Mon, 23 Oct 2023 00:25:03 -0700 (PDT) DKIM-Signature: v=1; a=rsa-sha256; c=relaxed/relaxed; d=iol.unh.edu; s=unh-iol; t=1698045903; x=1698650703; darn=dpdk.org; h=cc:to:from:subject:message-id:date:from:to:cc:subject:date :message-id:reply-to; bh=z7GhhB2/PhH3Zak3Em9KRI4YjQUig0ruc9r2yDoo3DM=; b=Fr0K3lnwj9c5/Aq0/EDccm6ey8hbroqcyf12Pf1uV25qf2vad9zp1xcII4T5glth5g 0XnK87yaH10P9ZUWmXDYoRkPvZIex5IXBZAPJGR6sW4Xj+tAWj6zh3mClCoio0o3dRKp MyoDD2Qg+SbwmL+kgCYlLDN1o8VBrjgtbpGes= X-Google-DKIM-Signature: v=1; a=rsa-sha256; c=relaxed/relaxed; d=1e100.net; s=20230601; t=1698045903; x=1698650703; h=cc:to:from:subject:message-id:date:x-gm-message-state:from:to:cc :subject:date:message-id:reply-to; bh=z7GhhB2/PhH3Zak3Em9KRI4YjQUig0ruc9r2yDoo3DM=; b=IGImFvOHhTunAqFNSHk4jTE6E4rL+arSmtgB7yeyKRx4rartHwRHcW7UpwhJzD2XA8 c4rFhTbqDOmRiZ7uDb8goUG2Slwt3M15EU9S0zQDoqd8l5vTk2xk7EB6htMjz+0Eileo TkTpHt3pSqUYlqvVK/Sz0PPQaXgTap5wcL24Ms4On0DoeLFL5JUVAbbVM1YkYfT36QtZ JRyB0i0ywz8Ajed+SBB8/+e2JqaDLtxPcUGGNOqzxNCAbDydEksxmblOOQk2wA2eeuNe NzQfOVmwqWXxwdr3NFYYV1cHhNjJHNg7D/KBzX6YspcP24U0FxW2dqLW4Gs2aMnBasoa RQsA== X-Gm-Message-State: AOJu0YxllegLDwTFORZGH2ZXgyor4pW9EsMCDinX4j3en3ViPNTqPhC2 PaUxRax7o3Sfn3azDhAxLKZtG1DME4qKyKivUIRXiBldi0XsFc+Mp2X3skkWd//v5mteIzw9aw= = X-Google-Smtp-Source: AGHT+IH2aK/oj4vLxFU7HqYgaHgVpF9MpPDP7roNEJaE9HH7wEUHPjefmWZHBQOg+prn6zhVzEwqpEqZAohq X-Received: by 2002:a81:5dd7:0:b0:5a7:af72:ad6a with SMTP id r206-20020a815dd7000000b005a7af72ad6amr7480623ywb.43.1698045902850; Mon, 23 Oct 2023 00:25:02 -0700 (PDT) Received: from postal.iol.unh.edu (postal.iol.unh.edu. [2606:4100:3880:1234::84]) by smtp-relay.gmail.com with ESMTPS id e63-20020a816942000000b005a8a727582csm741910ywc.36.2023.10.23.00.25.02 (version=TLS1_2 cipher=ECDHE-ECDSA-AES128-GCM-SHA256 bits=128/128); Mon, 23 Oct 2023 00:25:02 -0700 (PDT) X-Relaying-Domain: iol.unh.edu Date: Mon, 23 Oct 2023 00:25:02 -0700 (PDT) Message-ID: <65361fce.810a0220.a639d.0f1fSMTPIN_ADDED_MISSING@mx.google.com> Received: from [172.21.0.3] (unknown [172.18.0.240]) by postal.iol.unh.edu (Postfix) with ESMTP id 4AA4560524E7; Mon, 23 Oct 2023 03:25:02 -0400 (EDT) Subject: |SUCCESS| pw133121 [PATCH] eal: support lcore usage ratio From: dpdklab@iol.unh.edu To: Test Report Cc: Chengwen Feng Content-Type: text/plain X-BeenThere: test-report@dpdk.org X-Mailman-Version: 2.1.29 Precedence: list List-Id: automatic DPDK test reports List-Unsubscribe: , List-Archive: List-Post: List-Help: List-Subscribe: , Errors-To: test-report-bounces@dpdk.org Test-Label: iol-unit-amd64-testing Test-Status: SUCCESS http://dpdk.org/patch/133121 _Testing PASS_ Submitter: Chengwen Feng Date: Monday, October 23 2023 04:08:11 DPDK git baseline: Repo:dpdk Branch: master CommitID:2cd2cf0cc53a508c4bd951a980ec534a646260de 133121 --> testing pass Test environment and result as below: +---------------------+----------------+ | Environment | dpdk_unit_test | +=====================+================+ | Windows Server 2019 | PASS | +---------------------+----------------+ | CentOS Stream 9 | PASS | +---------------------+----------------+ | Debian Bullseye | PASS | +---------------------+----------------+ Windows Server 2019 Kernel: 10.0 Compiler: clang 14.0 and gcc 8.1.0 (MinGW) CentOS Stream 9 Kernel: 4.18.0-240.10.1.el8_3.x86_64 Compiler: gcc 11.3.1 20220421 Debian Bullseye Kernel: 5.4.0-122-generic Compiler: gcc 10.2.1-6 To view detailed results, visit: https://lab.dpdk.org/results/dashboard/patchsets/28028/ UNH-IOL DPDK Community Lab To manage your email subscriptions, visit: https://lab.dpdk.org/results/dashboard/preferences/subscriptions/