From mboxrd@z Thu Jan 1 00:00:00 1970 Return-Path: Received: from mails.dpdk.org (mails.dpdk.org [217.70.189.124]) by inbox.dpdk.org (Postfix) with ESMTP id 2D999431DE for ; Mon, 23 Oct 2023 09:25:13 +0200 (CEST) Received: from mails.dpdk.org (localhost [127.0.0.1]) by mails.dpdk.org (Postfix) with ESMTP id 2881540270; Mon, 23 Oct 2023 09:25:13 +0200 (CEST) Received: from mail-pf1-f228.google.com (mail-pf1-f228.google.com [209.85.210.228]) by mails.dpdk.org (Postfix) with ESMTP id E48ED40270 for ; Mon, 23 Oct 2023 09:25:10 +0200 (CEST) Received: by mail-pf1-f228.google.com with SMTP id d2e1a72fcca58-6bf03b98b9bso2543870b3a.1 for ; Mon, 23 Oct 2023 00:25:10 -0700 (PDT) DKIM-Signature: v=1; a=rsa-sha256; c=relaxed/relaxed; d=iol.unh.edu; s=unh-iol; t=1698045910; x=1698650710; darn=dpdk.org; h=cc:to:from:subject:message-id:date:from:to:cc:subject:date :message-id:reply-to; bh=miSXo3EJp2Tx/953HDcQ6yBmPOGFpGA4HIHivG69/yo=; b=hUrnn7j3l7mQNnPwwouXJ1qzqxyC15FfyZXcrQuV6SUDUHd0KIzLyMPyohc2IeJ+kR M54pEDQDZh91kfBuIXuL1wTsSxwMbyxaoZHS4aKjhaT1ArRj6wSVR5pTPb30S/ushOd3 Ijh2JDxoEJuYlq8taFayWt9x6q0AbbfPTRFQU= X-Google-DKIM-Signature: v=1; a=rsa-sha256; c=relaxed/relaxed; d=1e100.net; s=20230601; t=1698045910; x=1698650710; h=cc:to:from:subject:message-id:date:x-gm-message-state:from:to:cc :subject:date:message-id:reply-to; bh=miSXo3EJp2Tx/953HDcQ6yBmPOGFpGA4HIHivG69/yo=; b=QLLU8hIXsIQjif3XuAgErEK9GGFANSs+Vw15ff02VqxuFMj/ImJL5edw6wMnNsi1Oo 5rDAKpwuoIF8Ck0e8dNbY7yvOjJiwwg9t5+n2g2Kf8pG9fkLJYSLelhQ0YVeV2xYKraE vHyXbsCfO4njVOaJbe0IgO1OGo5OxA+iiL6Z9E2wWMZtbxV9tNYMN5N53x99F7yi2sRX h7kG6IHo1T53L2FdHzgobRQGFD5g5hDDNNnOo+DvrQA69uWzj7stvzn59kNUmCVDq1vb saj6gv+uLka9jxt/zWvky+HFBu7f5RmiOdtR/EUYeUzAfv8w34ABIpNli8U4fHJS11aC /fEA== X-Gm-Message-State: AOJu0YzOfvR6y/tBDHCFUq4baZi7rfEZiJDJuVQqP1SlcHvRGHleaym2 yRLWNJVpXaC0dUjWcfe2caABIPIncp3rk/ILJcbPJdqnrOx9Ie8c2e8JWdesmaqTUO29h5Xliw= = X-Google-Smtp-Source: AGHT+IFx5TeCxoxEmsVqrsZcK5+Uvr/VJrIfwfpsEQZCIvApC+OIt2DqreeVpbvKkZyTbosrC+aOQcH+3nD8 X-Received: by 2002:a05:6a20:394a:b0:17b:a34d:5b56 with SMTP id r10-20020a056a20394a00b0017ba34d5b56mr9788409pzg.19.1698045910094; Mon, 23 Oct 2023 00:25:10 -0700 (PDT) Received: from postal.iol.unh.edu (postal.iol.unh.edu. [2606:4100:3880:1234::84]) by smtp-relay.gmail.com with ESMTPS id w18-20020aa78592000000b0068282477645sm415474pfn.0.2023.10.23.00.25.09 (version=TLS1_2 cipher=ECDHE-ECDSA-AES128-GCM-SHA256 bits=128/128); Mon, 23 Oct 2023 00:25:10 -0700 (PDT) X-Relaying-Domain: iol.unh.edu Date: Mon, 23 Oct 2023 00:25:10 -0700 (PDT) Message-ID: <65361fd6.a70a0220.5edaa.1cfaSMTPIN_ADDED_MISSING@mx.google.com> Received: from [172.21.0.5] (unknown [172.18.0.240]) by postal.iol.unh.edu (Postfix) with ESMTP id 4EEAB60524E7; Mon, 23 Oct 2023 03:25:09 -0400 (EDT) Subject: |SUCCESS| pw133121 [PATCH] eal: support lcore usage ratio From: dpdklab@iol.unh.edu To: Test Report Cc: dpdk-test-reports@iol.unh.edu Content-Type: text/plain X-BeenThere: test-report@dpdk.org X-Mailman-Version: 2.1.29 Precedence: list List-Id: automatic DPDK test reports List-Unsubscribe: , List-Archive: List-Post: List-Help: List-Subscribe: , Errors-To: test-report-bounces@dpdk.org Test-Label: iol-compile-amd64-testing Test-Status: SUCCESS http://dpdk.org/patch/133121 _Testing PASS_ Submitter: Chengwen Feng Date: Monday, October 23 2023 04:08:11 DPDK git baseline: Repo:dpdk Branch: master CommitID:2cd2cf0cc53a508c4bd951a980ec534a646260de 133121 --> testing pass Test environment and result as below: +---------------------+--------------------+----------------------+ | Environment | dpdk_meson_compile | dpdk_mingw64_compile | +=====================+====================+======================+ | FreeBSD 13 | PASS | SKIPPED | +---------------------+--------------------+----------------------+ | Windows Server 2019 | PASS | PASS | +---------------------+--------------------+----------------------+ | Debian Buster | PASS | SKIPPED | +---------------------+--------------------+----------------------+ | CentOS Stream 8 | PASS | SKIPPED | +---------------------+--------------------+----------------------+ | CentOS Stream 9 | PASS | SKIPPED | +---------------------+--------------------+----------------------+ | Debian Bullseye | PASS | SKIPPED | +---------------------+--------------------+----------------------+ | Ubuntu 20.04 | PASS | SKIPPED | +---------------------+--------------------+----------------------+ FreeBSD 13 Kernel: 13.0 Compiler: clang 11.0.1 Windows Server 2019 Kernel: 10.0 Compiler: clang 14.0 and gcc 8.1.0 (MinGW) Debian Buster Kernel: 5.4.0-122-generic Compiler: gcc 8.3.0-6 CentOS Stream 8 Kernel: 4.18.0-240.10.1.el8_3.x86_64 Compiler: gcc 8.4.1 20200928 CentOS Stream 9 Kernel: 4.18.0-240.10.1.el8_3.x86_64 Compiler: gcc 11.3.1 20220421 Debian Bullseye Kernel: 5.4.0-122-generic Compiler: gcc 10.2.1-6 Ubuntu 20.04 Kernel: 5.4.0-153-generic Compiler: gcc 9.4.0-1ubuntu1~20.04.1 To view detailed results, visit: https://lab.dpdk.org/results/dashboard/patchsets/28028/ UNH-IOL DPDK Community Lab To manage your email subscriptions, visit: https://lab.dpdk.org/results/dashboard/preferences/subscriptions/