From mboxrd@z Thu Jan 1 00:00:00 1970 Return-Path: Received: from mails.dpdk.org (mails.dpdk.org [217.70.189.124]) by inbox.dpdk.org (Postfix) with ESMTP id C98E4431DE for ; Mon, 23 Oct 2023 09:40:17 +0200 (CEST) Received: from mails.dpdk.org (localhost [127.0.0.1]) by mails.dpdk.org (Postfix) with ESMTP id C4E9B4027E; Mon, 23 Oct 2023 09:40:17 +0200 (CEST) Received: from mail-pl1-f226.google.com (mail-pl1-f226.google.com [209.85.214.226]) by mails.dpdk.org (Postfix) with ESMTP id F28BB4027E for ; Mon, 23 Oct 2023 09:40:15 +0200 (CEST) Received: by mail-pl1-f226.google.com with SMTP id d9443c01a7336-1c9d922c039so24320865ad.3 for ; Mon, 23 Oct 2023 00:40:15 -0700 (PDT) DKIM-Signature: v=1; a=rsa-sha256; c=relaxed/relaxed; d=iol.unh.edu; s=unh-iol; t=1698046815; x=1698651615; darn=dpdk.org; h=cc:to:from:subject:message-id:date:from:to:cc:subject:date :message-id:reply-to; bh=pKimjPY7VC9Bxh7jjS49xn9k4Oh69t4P8a4UM7WCaW0=; b=Z5DMFK09jXBJeqk53oZWnXw9Fr0sUwtQa9bWk7KV9RajwofCTIZQPy1WE7vCLLYwDK FmdfaEAuXfCal34uHgXlqn8CS0wzruR0fasXC2Xx03ccig0Jt4EoDFzVU4/H0O1A3O04 YjgRmZTIxZBRIbzw8OhLejoaMHpjfs+RVehdo= X-Google-DKIM-Signature: v=1; a=rsa-sha256; c=relaxed/relaxed; d=1e100.net; s=20230601; t=1698046815; x=1698651615; h=cc:to:from:subject:message-id:date:x-gm-message-state:from:to:cc :subject:date:message-id:reply-to; bh=pKimjPY7VC9Bxh7jjS49xn9k4Oh69t4P8a4UM7WCaW0=; b=kWW0ntvTASqLkiOLJG7sRVERmMcWRxHQnj9f8NkHvmmsz5aOd492oEobTD6Aepv+oI 6CgD23cFMoWTmN9CRIZ/vi3XJLEtgAmmDzeLFXcL/CK1O3kV4bj865xE6xejjtVuSgFW brsk1bAqRZ9hldW0hTv17QsUFfHXvNdLyWltb0dRIQsQzFADxlkUfNMNlbQhcRtHrY96 HBy4sLN/5ImXM1aX2noJ9ZFGhlcJExO0mhCxBtD6vAlcIdWQQpn2YvJ7N1tEuvJcx2yu 3DxjOGI+TfcTf/D52bzFILPAR6tn4wujqFav24qrm1wjKrELLk4O6DM2qIfJQ64K7ZxT xVZA== X-Gm-Message-State: AOJu0YyKNdYFQ/u16JSTeWtme7DucRpLllK7WQVeVNeFfsz57eFv/ijY XShwhg+Uub39QnSzAsRsYDyIyTRLSHnhqL8B/Xb3npWMmN44BW/AVvQgog== X-Google-Smtp-Source: AGHT+IGVlTjPlH8sKGJFYodTTXd2lQaV1mTh2rAo2JSPvSYg953n4J+YY9FBxKx+xy8is/80FoXO2HyT3/PT X-Received: by 2002:a17:903:290c:b0:1c3:3b5c:1fbf with SMTP id lh12-20020a170903290c00b001c33b5c1fbfmr8000972plb.10.1698046815174; Mon, 23 Oct 2023 00:40:15 -0700 (PDT) Received: from postal.iol.unh.edu (postal.iol.unh.edu. [132.177.123.84]) by smtp-relay.gmail.com with ESMTPS id u7-20020a170902714700b001c438fec6b1sm342951plm.121.2023.10.23.00.40.15 (version=TLS1_2 cipher=ECDHE-ECDSA-AES128-GCM-SHA256 bits=128/128); Mon, 23 Oct 2023 00:40:15 -0700 (PDT) X-Relaying-Domain: iol.unh.edu Date: Mon, 23 Oct 2023 00:40:15 -0700 (PDT) Message-ID: <6536235f.170a0220.28511.daedSMTPIN_ADDED_MISSING@mx.google.com> Received: from [172.21.0.2] (unknown [172.18.0.240]) by postal.iol.unh.edu (Postfix) with ESMTP id 635AB60524E7; Mon, 23 Oct 2023 03:40:14 -0400 (EDT) Subject: |SUCCESS| pw133121 [PATCH] eal: support lcore usage ratio From: dpdklab@iol.unh.edu To: Test Report Cc: dpdk-test-reports@iol.unh.edu Content-Type: text/plain X-BeenThere: test-report@dpdk.org X-Mailman-Version: 2.1.29 Precedence: list List-Id: automatic DPDK test reports List-Unsubscribe: , List-Archive: List-Post: List-Help: List-Subscribe: , Errors-To: test-report-bounces@dpdk.org Test-Label: iol-unit-amd64-testing Test-Status: SUCCESS http://dpdk.org/patch/133121 _Testing PASS_ Submitter: Chengwen Feng Date: Monday, October 23 2023 04:08:11 DPDK git baseline: Repo:dpdk Branch: master CommitID:2cd2cf0cc53a508c4bd951a980ec534a646260de 133121 --> testing pass Test environment and result as below: +---------------------+----------------+ | Environment | dpdk_unit_test | +=====================+================+ | Windows Server 2019 | PASS | +---------------------+----------------+ | CentOS Stream 9 | PASS | +---------------------+----------------+ | Debian Bullseye | PASS | +---------------------+----------------+ | Fedora 37 | PASS | +---------------------+----------------+ | openSUSE Leap 15 | PASS | +---------------------+----------------+ | Debian Buster | PASS | +---------------------+----------------+ | RHEL8 | PASS | +---------------------+----------------+ Windows Server 2019 Kernel: 10.0 Compiler: clang 14.0 and gcc 8.1.0 (MinGW) CentOS Stream 9 Kernel: 4.18.0-240.10.1.el8_3.x86_64 Compiler: gcc 11.3.1 20220421 Debian Bullseye Kernel: 5.4.0-122-generic Compiler: gcc 10.2.1-6 Fedora 37 Kernel: Depends on container host system Compiler: gcc 12.3.1 openSUSE Leap 15 Kernel: 4.18.0-240.10.1.el8_3.x86_64 Compiler: gcc 7.5.0 Debian Buster Kernel: 5.4.0-122-generic Compiler: gcc 8.3.0-6 RHEL8 Kernel: 4.18.0-240.10.1.el8_3.x86_64 Compiler: gcc 8.3.1 20191121 (Red Hat 8.3.1-5) To view detailed results, visit: https://lab.dpdk.org/results/dashboard/patchsets/28028/ UNH-IOL DPDK Community Lab To manage your email subscriptions, visit: https://lab.dpdk.org/results/dashboard/preferences/subscriptions/