From mboxrd@z Thu Jan 1 00:00:00 1970 Return-Path: Received: from mails.dpdk.org (mails.dpdk.org [217.70.189.124]) by inbox.dpdk.org (Postfix) with ESMTP id 560DE431DE for ; Mon, 23 Oct 2023 09:44:42 +0200 (CEST) Received: from mails.dpdk.org (localhost [127.0.0.1]) by mails.dpdk.org (Postfix) with ESMTP id 4E1CD40697; Mon, 23 Oct 2023 09:44:42 +0200 (CEST) Received: from mail-pf1-f225.google.com (mail-pf1-f225.google.com [209.85.210.225]) by mails.dpdk.org (Postfix) with ESMTP id 4BBA640270 for ; Mon, 23 Oct 2023 09:44:41 +0200 (CEST) Received: by mail-pf1-f225.google.com with SMTP id d2e1a72fcca58-6b87c1edfd5so2140296b3a.1 for ; Mon, 23 Oct 2023 00:44:41 -0700 (PDT) DKIM-Signature: v=1; a=rsa-sha256; c=relaxed/relaxed; d=iol.unh.edu; s=unh-iol; t=1698047080; x=1698651880; darn=dpdk.org; h=cc:to:from:subject:message-id:date:from:to:cc:subject:date :message-id:reply-to; bh=i2vqBTMfFibSt1C38AQd/dTAUXb4CJK8aT8ns3CPSwM=; b=JAYeUo6fXsvY7PZRzhYrWe0HXglZuTX5bBy0YtPfho2V743ehWy1Iad1zAjz931Qvr r2qGHhMwoXQTmFnbw4KTgymEcynNEboObyLuvzSOVFP63FgDEJKjbGjux0JbpXR2cG8l IxunH5t1IAjjx1zZmY4Xgizhb/3uU1O+gX1Xg= X-Google-DKIM-Signature: v=1; a=rsa-sha256; c=relaxed/relaxed; d=1e100.net; s=20230601; t=1698047080; x=1698651880; h=cc:to:from:subject:message-id:date:x-gm-message-state:from:to:cc :subject:date:message-id:reply-to; bh=i2vqBTMfFibSt1C38AQd/dTAUXb4CJK8aT8ns3CPSwM=; b=KuGtBeE8djPJ+LwpRhKtAk1rXFY08n4Ss+YqfAPaLbjw5HLAf0TvrJQkBqsEiJ7Fds QMUUWEnziNJDll1T9/Y3fvIMUd/gKAtj1E0GLww5PZvg/v2nl/TT0+7PF2kaCMHN0odB 8nTTuaQy/MF4S/7UQki9w4T+PIqcoSLW1dAIfpoZkvAQ6+iEThxCVFfL6EV1gjSkUXp4 08EOay+dkOmedPe2ypiKI3kDhkGBVEk9ohumnotWBT2jg7MrsLwV6VTf6eRnZo+VbyUK Do8yToZjETm4JYnTk2dGkyVOnwEBdmG1bI7o8jI16P3bvQ3RR/qez+kDQmrYxu6MBWN5 LCeg== X-Gm-Message-State: AOJu0YwisjTqgUA+esE5y7lBxZZul/lnBEt1jp+cHfdenjQ1btKHc1yu WcEtHid8cgdBPmq70okng2Pu+CAjEx45gSOV5GNgEPvHSkCJC1LjwmcB5A== X-Google-Smtp-Source: AGHT+IHikh6v6MlA2wVb2d/Q3OtcMglc3d9rRNO7o2cw5GeRuJGHJgN2/gXcrzzUXrKXixP1DXEUihtDBoM1 X-Received: by 2002:a05:6a20:4415:b0:11f:4707:7365 with SMTP id ce21-20020a056a20441500b0011f47077365mr7950853pzb.38.1698047080440; Mon, 23 Oct 2023 00:44:40 -0700 (PDT) Received: from postal.iol.unh.edu (postal.iol.unh.edu. [132.177.123.84]) by smtp-relay.gmail.com with ESMTPS id z8-20020a1709028f8800b001c87ff1b144sm258765plo.3.2023.10.23.00.44.40 (version=TLS1_2 cipher=ECDHE-ECDSA-AES128-GCM-SHA256 bits=128/128); Mon, 23 Oct 2023 00:44:40 -0700 (PDT) X-Relaying-Domain: iol.unh.edu Date: Mon, 23 Oct 2023 00:44:40 -0700 (PDT) Message-ID: <65362468.170a0220.182b.81ccSMTPIN_ADDED_MISSING@mx.google.com> Received: from [172.21.0.2] (unknown [172.18.0.240]) by postal.iol.unh.edu (Postfix) with ESMTP id A19F460524E8; Mon, 23 Oct 2023 03:44:39 -0400 (EDT) Subject: |SUCCESS| pw133121 [PATCH] eal: support lcore usage ratio From: dpdklab@iol.unh.edu To: Test Report Cc: dpdk-test-reports@iol.unh.edu Content-Type: text/plain X-BeenThere: test-report@dpdk.org X-Mailman-Version: 2.1.29 Precedence: list List-Id: automatic DPDK test reports List-Unsubscribe: , List-Archive: List-Post: List-Help: List-Subscribe: , Errors-To: test-report-bounces@dpdk.org Test-Label: iol-compile-arm64-testing Test-Status: SUCCESS http://dpdk.org/patch/133121 _Testing PASS_ Submitter: Chengwen Feng Date: Monday, October 23 2023 04:08:11 DPDK git baseline: Repo:dpdk Branch: master CommitID:2cd2cf0cc53a508c4bd951a980ec534a646260de 133121 --> testing pass Test environment and result as below: +----------------------------------------+--------------------+ | Environment | dpdk_meson_compile | +========================================+====================+ | Ubuntu 20.04 ARM SVE | PASS | +----------------------------------------+--------------------+ | Fedora 37 (ARM) | PASS | +----------------------------------------+--------------------+ | Fedora 38 (ARM) | PASS | +----------------------------------------+--------------------+ | Ubuntu 20.04 (ARM) | PASS | +----------------------------------------+--------------------+ | CentOS Stream 9 (ARM) | PASS | +----------------------------------------+--------------------+ | Debian 11 (Buster) (ARM) | PASS | +----------------------------------------+--------------------+ | Ubuntu 20.04 aarch32 GCC Cross Compile | PASS | +----------------------------------------+--------------------+ Ubuntu 20.04 ARM SVE Kernel: 5.4.0-80-generic Compiler: gcc 10.3.0 (Ubuntu 10.3.0-1ubuntu1~20.04) Fedora 37 (ARM) Kernel: Depends on container host Compiler: gcc 12.3.1 Fedora 38 (ARM) Kernel: Depends on container host Compiler: gcc 13.1.1 Ubuntu 20.04 (ARM) Kernel: Container Host Kernel Compiler: gcc 9.4.0 CentOS Stream 9 (ARM) Kernel: Container Host Kernel Compiler: gcc 11.3.1 Debian 11 (Buster) (ARM) Kernel: Container Host Kernel Compiler: gcc 10.2.1 Ubuntu 20.04 aarch32 GCC Cross Compile Kernel: 5.4.0-72-generic Compiler: gcc 9.3.0 To view detailed results, visit: https://lab.dpdk.org/results/dashboard/patchsets/28028/ UNH-IOL DPDK Community Lab To manage your email subscriptions, visit: https://lab.dpdk.org/results/dashboard/preferences/subscriptions/