From mboxrd@z Thu Jan 1 00:00:00 1970 Return-Path: Received: from mails.dpdk.org (mails.dpdk.org [217.70.189.124]) by inbox.dpdk.org (Postfix) with ESMTP id 907C1431DE for ; Mon, 23 Oct 2023 09:54:57 +0200 (CEST) Received: from mails.dpdk.org (localhost [127.0.0.1]) by mails.dpdk.org (Postfix) with ESMTP id 6D8C940262; Mon, 23 Oct 2023 09:54:57 +0200 (CEST) Received: from mail-ot1-f98.google.com (mail-ot1-f98.google.com [209.85.210.98]) by mails.dpdk.org (Postfix) with ESMTP id 31A0740262 for ; Mon, 23 Oct 2023 09:54:56 +0200 (CEST) Received: by mail-ot1-f98.google.com with SMTP id 46e09a7af769-6ce2fc858feso1772627a34.3 for ; Mon, 23 Oct 2023 00:54:56 -0700 (PDT) DKIM-Signature: v=1; a=rsa-sha256; c=relaxed/relaxed; d=iol.unh.edu; s=unh-iol; t=1698047695; x=1698652495; darn=dpdk.org; h=cc:to:from:subject:message-id:date:from:to:cc:subject:date :message-id:reply-to; bh=yv+WGH1/vdAA9o6uIfUzr7cb+hW3hu9VQ4ihKiSZp/k=; b=WiLGTTmG35sQfgy+uss1dTSZZFS113ouTQHjO5NbR/lAxexwjePfxt0yaPRA97M2b2 l3T9juxm6t4bM9rT8mneqQR6OCLhEUIZ0DGJul6mENpf17jexvtyMfm24GRulpdrhnaj IpCosnk4cbDPl7IqUOfHiXlCnvxfDE8xczN1w= X-Google-DKIM-Signature: v=1; a=rsa-sha256; c=relaxed/relaxed; d=1e100.net; s=20230601; t=1698047695; x=1698652495; h=cc:to:from:subject:message-id:date:x-gm-message-state:from:to:cc :subject:date:message-id:reply-to; bh=yv+WGH1/vdAA9o6uIfUzr7cb+hW3hu9VQ4ihKiSZp/k=; b=Mow7iYGHNi7sPrdrf6/LRh3DFBY3uodGmWAeBWtN0GLmc96yotDJ0aTGGE8PvnVzaD DJqEndJ6WA7mVsqnt5Fc1Dmt5BxXwa++KSWZIAXe9V8BdWpEvzidRNii2Rpr8bnJIw6H TDThg+2dUVmoIWr1kpBwbduHsz2q7LUHtAlMrGkgjZm3ufKFDxWhoYHSnHTCONHWY4vc q+moTcvOw2qO7riAcbS5Nubz6cbnZAlhp8Y9FxGDW+U6YIZgB4yy7ywKWmFNR2DvJIZf 1CnJ3ir9Wn5cqLb8QJrntdqym76fT5zh7fMkXe+4PJELGD47kMEENjfsA0q68KfNfZuA t1DA== X-Gm-Message-State: AOJu0YyUSKY/fhwlnCqHu1XHx5so7Gk4XXZFf9As+3xpc9YgtuSQ3acy zln28rPsIxr0beCrBEe9hTMnHxx4EDmALwKt95cUYhVbtRM8MxGVTbstIn147pqUHLADFJf0rQ= = X-Google-Smtp-Source: AGHT+IEkUUTUVVRWoeOQvjX3E5D7O243BSEYkzEDIW76xPNJD+L+bj97c2/yGV1DWv1kyCZeHsxjCr/s3WPp X-Received: by 2002:a05:6830:200b:b0:6bd:db8:db with SMTP id e11-20020a056830200b00b006bd0db800dbmr7151001otp.32.1698047695429; Mon, 23 Oct 2023 00:54:55 -0700 (PDT) Received: from postal.iol.unh.edu (postal.iol.unh.edu. [2606:4100:3880:1234::84]) by smtp-relay.gmail.com with ESMTPS id o7-20020a4a2c07000000b00581ecf40058sm651472ooo.8.2023.10.23.00.54.55 (version=TLS1_2 cipher=ECDHE-ECDSA-AES128-GCM-SHA256 bits=128/128); Mon, 23 Oct 2023 00:54:55 -0700 (PDT) X-Relaying-Domain: iol.unh.edu Date: Mon, 23 Oct 2023 00:54:55 -0700 (PDT) Message-ID: <653626cf.4a0a0220.19920.df56SMTPIN_ADDED_MISSING@mx.google.com> Received: from [172.21.0.4] (unknown [172.18.0.240]) by postal.iol.unh.edu (Postfix) with ESMTP id D826260524E7; Mon, 23 Oct 2023 03:54:54 -0400 (EDT) Subject: |SUCCESS| pw133121 [PATCH] eal: support lcore usage ratio From: dpdklab@iol.unh.edu To: Test Report Cc: dpdk-test-reports@iol.unh.edu Content-Type: text/plain X-BeenThere: test-report@dpdk.org X-Mailman-Version: 2.1.29 Precedence: list List-Id: automatic DPDK test reports List-Unsubscribe: , List-Archive: List-Post: List-Help: List-Subscribe: , Errors-To: test-report-bounces@dpdk.org Test-Label: iol-compile-arm64-testing Test-Status: SUCCESS http://dpdk.org/patch/133121 _Testing PASS_ Submitter: Chengwen Feng Date: Monday, October 23 2023 04:08:11 DPDK git baseline: Repo:dpdk Branch: master CommitID:2cd2cf0cc53a508c4bd951a980ec534a646260de 133121 --> testing pass Test environment and result as below: +----------------------------------------+--------------------+ | Environment | dpdk_meson_compile | +========================================+====================+ | Ubuntu 20.04 ARM SVE | PASS | +----------------------------------------+--------------------+ | Fedora 37 (ARM) | PASS | +----------------------------------------+--------------------+ | Fedora 38 (ARM) | PASS | +----------------------------------------+--------------------+ | Ubuntu 20.04 (ARM) | PASS | +----------------------------------------+--------------------+ | CentOS Stream 9 (ARM) | PASS | +----------------------------------------+--------------------+ | Debian 11 (Buster) (ARM) | PASS | +----------------------------------------+--------------------+ | Ubuntu 20.04 aarch32 GCC Cross Compile | PASS | +----------------------------------------+--------------------+ | Ubuntu 20.04 ARM Clang Cross Compile | PASS | +----------------------------------------+--------------------+ Ubuntu 20.04 ARM SVE Kernel: 5.4.0-80-generic Compiler: gcc 10.3.0 (Ubuntu 10.3.0-1ubuntu1~20.04) Fedora 37 (ARM) Kernel: Depends on container host Compiler: gcc 12.3.1 Fedora 38 (ARM) Kernel: Depends on container host Compiler: gcc 13.1.1 Ubuntu 20.04 (ARM) Kernel: Container Host Kernel Compiler: gcc 9.4.0 CentOS Stream 9 (ARM) Kernel: Container Host Kernel Compiler: gcc 11.3.1 Debian 11 (Buster) (ARM) Kernel: Container Host Kernel Compiler: gcc 10.2.1 Ubuntu 20.04 aarch32 GCC Cross Compile Kernel: 5.4.0-72-generic Compiler: gcc 9.3.0 Ubuntu 20.04 ARM Clang Cross Compile Kernel: 5.4.0-72-generic Compiler: clang version 10.0.0-4ubuntu1 To view detailed results, visit: https://lab.dpdk.org/results/dashboard/patchsets/28028/ UNH-IOL DPDK Community Lab To manage your email subscriptions, visit: https://lab.dpdk.org/results/dashboard/preferences/subscriptions/