From mboxrd@z Thu Jan 1 00:00:00 1970 Return-Path: Received: from mails.dpdk.org (mails.dpdk.org [217.70.189.124]) by inbox.dpdk.org (Postfix) with ESMTP id 93A2B431DE for ; Mon, 23 Oct 2023 09:55:51 +0200 (CEST) Received: from mails.dpdk.org (localhost [127.0.0.1]) by mails.dpdk.org (Postfix) with ESMTP id 8E50940262; Mon, 23 Oct 2023 09:55:51 +0200 (CEST) Received: from mail-oa1-f98.google.com (mail-oa1-f98.google.com [209.85.160.98]) by mails.dpdk.org (Postfix) with ESMTP id 4B39840262 for ; Mon, 23 Oct 2023 09:55:51 +0200 (CEST) Received: by mail-oa1-f98.google.com with SMTP id 586e51a60fabf-1e9b6f39f9eso2319468fac.2 for ; Mon, 23 Oct 2023 00:55:51 -0700 (PDT) DKIM-Signature: v=1; a=rsa-sha256; c=relaxed/relaxed; d=iol.unh.edu; s=unh-iol; t=1698047750; x=1698652550; darn=dpdk.org; h=cc:to:from:subject:message-id:date:from:to:cc:subject:date :message-id:reply-to; bh=4uSx3rBRkOfS7mjVUbqmdr8guh5aXd5dg7yQrFuaxME=; b=N9fNCjgHY3Vwbsklz+kMsASr3HzwHlfuZ7q9ZWe63d5BS0+s1bLTWrx+gdi7qIcPI1 BE6SifTavR0hl9VP7CILYWLcAoFZn+nnJwDtUV6HYzu0rdtDyIVXAsClJ0vUQHy5n4Dr hZOe7zmTOYEiinx4RVIkFEEIA1IDkGSXs3oRM= X-Google-DKIM-Signature: v=1; a=rsa-sha256; c=relaxed/relaxed; d=1e100.net; s=20230601; t=1698047750; x=1698652550; h=cc:to:from:subject:message-id:date:x-gm-message-state:from:to:cc :subject:date:message-id:reply-to; bh=4uSx3rBRkOfS7mjVUbqmdr8guh5aXd5dg7yQrFuaxME=; b=H0/WvgFrc2AAhDi7r8XELpsDe28nlXhuwHDgKhzCfeMJJDsdCvEtPMUghg/8JDnVdF /KHRmmBbktT56QrkIU8k9W3u7T/rKhBSF22P9pcNl2LKDwRiaqd44oLsWKm6hWgAcD4e SGsGK12RgZ0y9VPKgbYzq1wr7BSNpnDQTNWlWDWHH2fByWE7I1ZiB6y4jqDTTvfAQLPj itVrzYt2l7adHN6yxVljEYUndVbGLbpgcahDcYy05t3b2JVRYNxCcrORU4GIIxKGmOgm YTbhJH6zKY79HL+IUEpaYOEt+j9Iucf6xWJMFtYbuYZga1ICbaSzruhJDzBGcJQtGV5y RG+Q== X-Gm-Message-State: AOJu0Yy1LPj4l2Fo90aqDBJWHVVJDM3vKZvXXrpktwSDmdt5Kt2PhEYv GdS96he9ngj0gGtMI2eKPcTi2v2YbdcJEUEYaaP2V/wtA9el01iqQfhUEuMCLLBZv7c0+W+sJg= = X-Google-Smtp-Source: AGHT+IF6QbXQXIe31zySrO+MlRB0jNKbXQ8UMWUpE9/QpDBnX+CEQ+Gbdn3LfK83S0bSRNq6gNVTZnLsArhp X-Received: by 2002:a05:6870:4c01:b0:1e9:cde8:6db0 with SMTP id pk1-20020a0568704c0100b001e9cde86db0mr12260827oab.50.1698047750694; Mon, 23 Oct 2023 00:55:50 -0700 (PDT) Received: from postal.iol.unh.edu (postal.iol.unh.edu. [2606:4100:3880:1234::84]) by smtp-relay.gmail.com with ESMTPS id u21-20020a056870441500b001e990c2e2a4sm482900oah.9.2023.10.23.00.55.50 (version=TLS1_2 cipher=ECDHE-ECDSA-AES128-GCM-SHA256 bits=128/128); Mon, 23 Oct 2023 00:55:50 -0700 (PDT) X-Relaying-Domain: iol.unh.edu Date: Mon, 23 Oct 2023 00:55:50 -0700 (PDT) Message-ID: <65362706.050a0220.89b05.45e9SMTPIN_ADDED_MISSING@mx.google.com> Received: from [172.21.0.2] (unknown [172.18.0.240]) by postal.iol.unh.edu (Postfix) with ESMTP id 2F20E60524E7; Mon, 23 Oct 2023 03:55:50 -0400 (EDT) Subject: |SUCCESS| pw133121 [PATCH] eal: support lcore usage ratio From: dpdklab@iol.unh.edu To: Test Report Cc: dpdk-test-reports@iol.unh.edu Content-Type: text/plain X-BeenThere: test-report@dpdk.org X-Mailman-Version: 2.1.29 Precedence: list List-Id: automatic DPDK test reports List-Unsubscribe: , List-Archive: List-Post: List-Help: List-Subscribe: , Errors-To: test-report-bounces@dpdk.org Test-Label: iol-unit-arm64-testing Test-Status: SUCCESS http://dpdk.org/patch/133121 _Testing PASS_ Submitter: Chengwen Feng Date: Monday, October 23 2023 04:08:11 DPDK git baseline: Repo:dpdk Branch: master CommitID:2cd2cf0cc53a508c4bd951a980ec534a646260de 133121 --> testing pass Test environment and result as below: +--------------------------+----------------+---------------------------+------------------------------+--------------+ | Environment | dpdk_unit_test | cryptodev_sw_zuc_autotest | cryptodev_sw_snow3g_autotest | lpm_autotest | +==========================+================+===========================+==============================+==============+ | Debian 11 (Buster) (ARM) | PASS | SKIPPED | SKIPPED | SKIPPED | +--------------------------+----------------+---------------------------+------------------------------+--------------+ | Fedora 37 (ARM) | PASS | SKIPPED | SKIPPED | SKIPPED | +--------------------------+----------------+---------------------------+------------------------------+--------------+ | Fedora 38 (ARM) | PASS | SKIPPED | SKIPPED | SKIPPED | +--------------------------+----------------+---------------------------+------------------------------+--------------+ | CentOS Stream 9 (ARM) | PASS | SKIPPED | SKIPPED | SKIPPED | +--------------------------+----------------+---------------------------+------------------------------+--------------+ | Ubuntu 20.04 (ARM) | PASS | SKIPPED | SKIPPED | SKIPPED | +--------------------------+----------------+---------------------------+------------------------------+--------------+ | Fedora 38 (ARM Clang) | PASS | SKIPPED | SKIPPED | SKIPPED | +--------------------------+----------------+---------------------------+------------------------------+--------------+ | Debian 11 (arm) | SKIPPED | PASS | PASS | SKIPPED | +--------------------------+----------------+---------------------------+------------------------------+--------------+ | Ubuntu 20.04 ARM SVE | SKIPPED | SKIPPED | SKIPPED | PASS | +--------------------------+----------------+---------------------------+------------------------------+--------------+ Debian 11 (Buster) (ARM) Kernel: Container Host Kernel Compiler: gcc 10.2.1 Fedora 37 (ARM) Kernel: Depends on container host Compiler: gcc 12.3.1 Fedora 38 (ARM) Kernel: Depends on container host Compiler: gcc 13.1.1 CentOS Stream 9 (ARM) Kernel: Container Host Kernel Compiler: gcc 11.3.1 Ubuntu 20.04 (ARM) Kernel: Container Host Kernel Compiler: gcc 9.4.0 Fedora 38 (ARM Clang) Kernel: Depends on container host Compiler: clang 16.0.3 Debian 11 (arm) Kernel: Container Host Kernel Compiler: gcc 10.2.1 Ubuntu 20.04 ARM SVE Kernel: 5.4.0-80-generic Compiler: gcc 10.3.0 (Ubuntu 10.3.0-1ubuntu1~20.04) To view detailed results, visit: https://lab.dpdk.org/results/dashboard/patchsets/28028/ UNH-IOL DPDK Community Lab To manage your email subscriptions, visit: https://lab.dpdk.org/results/dashboard/preferences/subscriptions/