From mboxrd@z Thu Jan 1 00:00:00 1970 Return-Path: Received: from mails.dpdk.org (mails.dpdk.org [217.70.189.124]) by inbox.dpdk.org (Postfix) with ESMTP id CB485431DE for ; Mon, 23 Oct 2023 09:57:45 +0200 (CEST) Received: from mails.dpdk.org (localhost [127.0.0.1]) by mails.dpdk.org (Postfix) with ESMTP id C561C40262; Mon, 23 Oct 2023 09:57:45 +0200 (CEST) Received: from mail-pl1-f227.google.com (mail-pl1-f227.google.com [209.85.214.227]) by mails.dpdk.org (Postfix) with ESMTP id DACA540262 for ; Mon, 23 Oct 2023 09:57:44 +0200 (CEST) Received: by mail-pl1-f227.google.com with SMTP id d9443c01a7336-1c9e95aa02dso21328465ad.0 for ; Mon, 23 Oct 2023 00:57:44 -0700 (PDT) DKIM-Signature: v=1; a=rsa-sha256; c=relaxed/relaxed; d=iol.unh.edu; s=unh-iol; t=1698047864; x=1698652664; darn=dpdk.org; h=cc:to:from:subject:message-id:date:from:to:cc:subject:date :message-id:reply-to; bh=l/3Mn9UBOpzE3f081iF8O4XTHG3SAVISGaG0RULUhFs=; b=TOjHLHG1LjAPmFaQXHhvOqqkB5IcAOr3rYAalr206ZownsAexW9Tn+MNDeSoYFRGQR 3WyyywMWsBiZc6APKrkjpXkrVRwRPjkJOx4ksdhxv7uddu2yiuSkG2xmvJEYjmxegm+G qNUUjMhTSriGQYE98muUSNgiasfi+IfkO9K1c= X-Google-DKIM-Signature: v=1; a=rsa-sha256; c=relaxed/relaxed; d=1e100.net; s=20230601; t=1698047864; x=1698652664; h=cc:to:from:subject:message-id:date:x-gm-message-state:from:to:cc :subject:date:message-id:reply-to; bh=l/3Mn9UBOpzE3f081iF8O4XTHG3SAVISGaG0RULUhFs=; b=PtE4pgpGEigN5g4V1VZAX7rrnVQWR9NPnjZruS4Xj1Yo2ldRBm4KzL/w9z8lDTHtPF gkm6h2QJb03w6rEddfvK7tZmd1YKZbHcEFSh6FE18+JBWIoj1Q8y9WK2QUAursPcMNcd szVXX1LXAVm+mmSnxPs4eZ0Nz8jAbkgWjLZbplQr9FnO2xw82qiBSuCPa0UCVZA+qWuv oCos6p0EP35crCMkrgkm2TZThBNdlMiacpTrzzePDDFiyzfwwh6mQWw+jWgN5zFqTFgk Q5kx0JVG1q4Hk4GPSXNohDDhUCcNhyF3CObBIbg6wYXkDG7RZNuaFcRtyOh1lTerqtir W/7g== X-Gm-Message-State: AOJu0YyrMleORZqfLO22cRB3XXEBjeCeLOY752GLKqu7Z9B1WCY896MC Q3PPE0VQDJEeoD43ltFuTu3tj0+EkwU8ZbLKZV5AKFOqZXM5oJ+sCBuB0Z8Ebs56aP63ZGLN0A= = X-Google-Smtp-Source: AGHT+IGHolvkydGm/TLL6gUsAQl5JO2Ll85QGKZ1ucZKh5iF2L6YbL2/T6J0ZeReKT3zhREfczUgTRJMMES6 X-Received: by 2002:a17:902:e752:b0:1bc:4f04:17f4 with SMTP id p18-20020a170902e75200b001bc4f0417f4mr16241787plf.30.1698047864044; Mon, 23 Oct 2023 00:57:44 -0700 (PDT) Received: from postal.iol.unh.edu (postal.iol.unh.edu. [2606:4100:3880:1234::84]) by smtp-relay.gmail.com with ESMTPS id q34-20020a63f962000000b005ad8c6558e8sm456743pgk.9.2023.10.23.00.57.43 (version=TLS1_2 cipher=ECDHE-ECDSA-AES128-GCM-SHA256 bits=128/128); Mon, 23 Oct 2023 00:57:44 -0700 (PDT) X-Relaying-Domain: iol.unh.edu Date: Mon, 23 Oct 2023 00:57:44 -0700 (PDT) Message-ID: <65362778.630a0220.64dae.2778SMTPIN_ADDED_MISSING@mx.google.com> Received: from [172.21.0.2] (unknown [172.18.0.240]) by postal.iol.unh.edu (Postfix) with ESMTP id 44F3660524E7; Mon, 23 Oct 2023 03:57:43 -0400 (EDT) Subject: |SUCCESS| pw133121 [PATCH] eal: support lcore usage ratio From: dpdklab@iol.unh.edu To: Test Report Cc: dpdk-test-reports@iol.unh.edu Content-Type: text/plain X-BeenThere: test-report@dpdk.org X-Mailman-Version: 2.1.29 Precedence: list List-Id: automatic DPDK test reports List-Unsubscribe: , List-Archive: List-Post: List-Help: List-Subscribe: , Errors-To: test-report-bounces@dpdk.org Test-Label: iol-unit-amd64-testing Test-Status: SUCCESS http://dpdk.org/patch/133121 _Testing PASS_ Submitter: Chengwen Feng Date: Monday, October 23 2023 04:08:11 DPDK git baseline: Repo:dpdk Branch: master CommitID:2cd2cf0cc53a508c4bd951a980ec534a646260de 133121 --> testing pass Test environment and result as below: +---------------------+----------------+ | Environment | dpdk_unit_test | +=====================+================+ | Windows Server 2019 | PASS | +---------------------+----------------+ | CentOS Stream 9 | PASS | +---------------------+----------------+ | Debian Bullseye | PASS | +---------------------+----------------+ | Fedora 37 | PASS | +---------------------+----------------+ | openSUSE Leap 15 | PASS | +---------------------+----------------+ | Debian Buster | PASS | +---------------------+----------------+ | RHEL8 | PASS | +---------------------+----------------+ | Fedora 38 | PASS | +---------------------+----------------+ | Ubuntu 22.04 | PASS | +---------------------+----------------+ | CentOS Stream 8 | PASS | +---------------------+----------------+ Windows Server 2019 Kernel: 10.0 Compiler: clang 14.0 and gcc 8.1.0 (MinGW) CentOS Stream 9 Kernel: 4.18.0-240.10.1.el8_3.x86_64 Compiler: gcc 11.3.1 20220421 Debian Bullseye Kernel: 5.4.0-122-generic Compiler: gcc 10.2.1-6 Fedora 37 Kernel: Depends on container host system Compiler: gcc 12.3.1 openSUSE Leap 15 Kernel: 4.18.0-240.10.1.el8_3.x86_64 Compiler: gcc 7.5.0 Debian Buster Kernel: 5.4.0-122-generic Compiler: gcc 8.3.0-6 RHEL8 Kernel: 4.18.0-240.10.1.el8_3.x86_64 Compiler: gcc 8.3.1 20191121 (Red Hat 8.3.1-5) Fedora 38 Kernel: Depends on container host Compiler: gcc 13.1.1 Ubuntu 22.04 Kernel: 4.18.0-240.10.1.el8_3.x86_64 Compiler: gcc 11.3.0 CentOS Stream 8 Kernel: 4.18.0-240.10.1.el8_3.x86_64 Compiler: gcc 8.4.1 20200928 To view detailed results, visit: https://lab.dpdk.org/results/dashboard/patchsets/28028/ UNH-IOL DPDK Community Lab To manage your email subscriptions, visit: https://lab.dpdk.org/results/dashboard/preferences/subscriptions/