From mboxrd@z Thu Jan 1 00:00:00 1970 Return-Path: Received: from mails.dpdk.org (mails.dpdk.org [217.70.189.124]) by inbox.dpdk.org (Postfix) with ESMTP id 03EE2431DE for ; Mon, 23 Oct 2023 09:58:35 +0200 (CEST) Received: from mails.dpdk.org (localhost [127.0.0.1]) by mails.dpdk.org (Postfix) with ESMTP id F2F3240262; Mon, 23 Oct 2023 09:58:34 +0200 (CEST) Received: from mail-oi1-f227.google.com (mail-oi1-f227.google.com [209.85.167.227]) by mails.dpdk.org (Postfix) with ESMTP id 4A10640270 for ; Mon, 23 Oct 2023 09:58:34 +0200 (CEST) Received: by mail-oi1-f227.google.com with SMTP id 5614622812f47-3b2f507c03cso1800752b6e.2 for ; Mon, 23 Oct 2023 00:58:34 -0700 (PDT) DKIM-Signature: v=1; a=rsa-sha256; c=relaxed/relaxed; d=iol.unh.edu; s=unh-iol; t=1698047913; x=1698652713; darn=dpdk.org; h=cc:to:from:subject:message-id:date:from:to:cc:subject:date :message-id:reply-to; bh=h8liLi/IEz3+Sz+l5c9uOXzMWnBC8gyUu98ptsvJekY=; b=gR+BzUtdzZvy9wg30z7VBjT8WE+g1T2nW7koG6uSRCOkXLhxyaixOLI103tjgflBBu jYFsT3exAxdZ10IPiWIKL2n6iwmkYUyAKra9RNGFJWgHK0Uf44MhuwYB6sXKsVo9HKHl BtFiPj50ptZI3iJYaD871trAoFeYrTSLSFthc= X-Google-DKIM-Signature: v=1; a=rsa-sha256; c=relaxed/relaxed; d=1e100.net; s=20230601; t=1698047913; x=1698652713; h=cc:to:from:subject:message-id:date:x-gm-message-state:from:to:cc :subject:date:message-id:reply-to; bh=h8liLi/IEz3+Sz+l5c9uOXzMWnBC8gyUu98ptsvJekY=; b=TPvO4OPCnheKAIyUPN0siupZK5wlmCzz+i52HLQOziiR8PjtmGqDCez+Nvb5dGUalY +tCGecyoq5wwis8LOxss8q8bGHAz82WiQm9hHtJ/Fzbb1/jVoGAcU6REgrzPY3FHvZG5 FxqcR9bE+NBeFd9gHrUhyYM0T3rsZj4iMR4kYRH+/XIUDf8t8BizbZMv78Cpn3e2BlAY wXlt2XqegsIXMiTsjqElU413y4hpJe1+NE5j+sBjIf+2NGD8QOYB/urwAHkBMK0LsR/9 B8ux46B4cmRbAGgClPxso6UDM3Q30NBRuiVZuVOdkiP4luA2MfSbKa23Cdhutf0y7Ws8 EYeA== X-Gm-Message-State: AOJu0Yzy2fTOlS39QB/2WvYE003Dxg6Tx5tFNE5/rW2DSwODcPF+GLVW CWTLO5nQJAc2YGklQb2JTLBfTR/3mmGcVgYvFCCbGUMi6anTeTo5jrT7Ig== X-Google-Smtp-Source: AGHT+IG/kwXRK0VWv+yW52BuldwrvLq33ee+pMmw2oxfBs/Zhg5X4zyUtmG61tVfCyTP8IOpv999GljIIKmQ X-Received: by 2002:a05:6808:191e:b0:3ae:4774:c00c with SMTP id bf30-20020a056808191e00b003ae4774c00cmr11270667oib.53.1698047913702; Mon, 23 Oct 2023 00:58:33 -0700 (PDT) Received: from postal.iol.unh.edu (postal.iol.unh.edu. [132.177.123.84]) by smtp-relay.gmail.com with ESMTPS id c13-20020a62e80d000000b006be055a1818sm351648pfi.5.2023.10.23.00.58.33 (version=TLS1_2 cipher=ECDHE-ECDSA-AES128-GCM-SHA256 bits=128/128); Mon, 23 Oct 2023 00:58:33 -0700 (PDT) X-Relaying-Domain: iol.unh.edu Date: Mon, 23 Oct 2023 00:58:33 -0700 (PDT) Message-ID: <653627a9.620a0220.15d49.d4acSMTPIN_ADDED_MISSING@mx.google.com> Received: from [172.21.0.2] (unknown [172.18.0.240]) by postal.iol.unh.edu (Postfix) with ESMTP id DDA1360524E7; Mon, 23 Oct 2023 03:58:32 -0400 (EDT) Subject: |SUCCESS| pw133121 [PATCH] eal: support lcore usage ratio From: dpdklab@iol.unh.edu To: Test Report Cc: dpdk-test-reports@iol.unh.edu Content-Type: text/plain X-BeenThere: test-report@dpdk.org X-Mailman-Version: 2.1.29 Precedence: list List-Id: automatic DPDK test reports List-Unsubscribe: , List-Archive: List-Post: List-Help: List-Subscribe: , Errors-To: test-report-bounces@dpdk.org Test-Label: iol-compile-amd64-testing Test-Status: SUCCESS http://dpdk.org/patch/133121 _Testing PASS_ Submitter: Chengwen Feng Date: Monday, October 23 2023 04:08:11 DPDK git baseline: Repo:dpdk Branch: master CommitID:2cd2cf0cc53a508c4bd951a980ec534a646260de 133121 --> testing pass Test environment and result as below: +---------------------+--------------------+----------------------+ | Environment | dpdk_meson_compile | dpdk_mingw64_compile | +=====================+====================+======================+ | FreeBSD 13 | PASS | SKIPPED | +---------------------+--------------------+----------------------+ | Windows Server 2019 | PASS | PASS | +---------------------+--------------------+----------------------+ | Debian Buster | PASS | SKIPPED | +---------------------+--------------------+----------------------+ | CentOS Stream 8 | PASS | SKIPPED | +---------------------+--------------------+----------------------+ | CentOS Stream 9 | PASS | SKIPPED | +---------------------+--------------------+----------------------+ | Debian Bullseye | PASS | SKIPPED | +---------------------+--------------------+----------------------+ | Ubuntu 20.04 | PASS | SKIPPED | +---------------------+--------------------+----------------------+ | openSUSE Leap 15 | PASS | SKIPPED | +---------------------+--------------------+----------------------+ | Fedora 38 | PASS | SKIPPED | +---------------------+--------------------+----------------------+ | RHEL8 | PASS | SKIPPED | +---------------------+--------------------+----------------------+ | Fedora 37 | PASS | SKIPPED | +---------------------+--------------------+----------------------+ | Ubuntu 22.04 | PASS | SKIPPED | +---------------------+--------------------+----------------------+ | Alpine | PASS | SKIPPED | +---------------------+--------------------+----------------------+ FreeBSD 13 Kernel: 13.0 Compiler: clang 11.0.1 Windows Server 2019 Kernel: 10.0 Compiler: clang 14.0 and gcc 8.1.0 (MinGW) Debian Buster Kernel: 5.4.0-122-generic Compiler: gcc 8.3.0-6 CentOS Stream 8 Kernel: 4.18.0-240.10.1.el8_3.x86_64 Compiler: gcc 8.4.1 20200928 CentOS Stream 9 Kernel: 4.18.0-240.10.1.el8_3.x86_64 Compiler: gcc 11.3.1 20220421 Debian Bullseye Kernel: 5.4.0-122-generic Compiler: gcc 10.2.1-6 Ubuntu 20.04 Kernel: 5.4.0-153-generic Compiler: gcc 9.4.0-1ubuntu1~20.04.1 openSUSE Leap 15 Kernel: 4.18.0-240.10.1.el8_3.x86_64 Compiler: gcc 7.5.0 Fedora 38 Kernel: Depends on container host Compiler: clang 16.0.3 RHEL8 Kernel: 4.18.0-240.10.1.el8_3.x86_64 Compiler: gcc 8.3.1 20191121 (Red Hat 8.3.1-5) Fedora 37 Kernel: Depends on container host system Compiler: gcc 12.3.1 Ubuntu 22.04 Kernel: 4.18.0-240.10.1.el8_3.x86_64 Compiler: gcc 11.3.0 Alpine Kernel: 5.4.0-73-generic Compiler: gcc (Alpine 10.3.1_git20210424) 10.3.1 20210424 To view detailed results, visit: https://lab.dpdk.org/results/dashboard/patchsets/28028/ UNH-IOL DPDK Community Lab To manage your email subscriptions, visit: https://lab.dpdk.org/results/dashboard/preferences/subscriptions/