From mboxrd@z Thu Jan 1 00:00:00 1970 Return-Path: Received: from mails.dpdk.org (mails.dpdk.org [217.70.189.124]) by inbox.dpdk.org (Postfix) with ESMTP id 2233E431E0 for ; Mon, 23 Oct 2023 10:07:46 +0200 (CEST) Received: from mails.dpdk.org (localhost [127.0.0.1]) by mails.dpdk.org (Postfix) with ESMTP id 1CCD840262; Mon, 23 Oct 2023 10:07:46 +0200 (CEST) Received: from mail-qk1-f227.google.com (mail-qk1-f227.google.com [209.85.222.227]) by mails.dpdk.org (Postfix) with ESMTP id D617840262 for ; Mon, 23 Oct 2023 10:07:44 +0200 (CEST) Received: by mail-qk1-f227.google.com with SMTP id af79cd13be357-77784edc2edso195499785a.1 for ; Mon, 23 Oct 2023 01:07:44 -0700 (PDT) DKIM-Signature: v=1; a=rsa-sha256; c=relaxed/relaxed; d=iol.unh.edu; s=unh-iol; t=1698048464; x=1698653264; darn=dpdk.org; h=cc:to:from:subject:message-id:date:from:to:cc:subject:date :message-id:reply-to; bh=l/3Mn9UBOpzE3f081iF8O4XTHG3SAVISGaG0RULUhFs=; b=KL8BheUx1sMG/zspEU8acbilzcno8TqhFTRyJkG0WMYhYhb+M5I3XF8ozb6iokmlRX g5FZKa6+/bMp8GimBdqRhfWfHgroaUaTSyNAsYSoTmta7DirUrAmjoP6dCvsSyIg1Z4y 43fIP6j3ux4FfQ6KhHao9wmzkvMZIALPXuVzI= X-Google-DKIM-Signature: v=1; a=rsa-sha256; c=relaxed/relaxed; d=1e100.net; s=20230601; t=1698048464; x=1698653264; h=cc:to:from:subject:message-id:date:x-gm-message-state:from:to:cc :subject:date:message-id:reply-to; bh=l/3Mn9UBOpzE3f081iF8O4XTHG3SAVISGaG0RULUhFs=; b=XGCBtdIEjk2Ylmod3Uv8ATaO9UM8Sa63FcFrNWt6Dbu+pSUDYdbkMBrXK3BeDbKhub cpCMDOK2ErFlfbp0ZdSVuP/Eri804HxcfkzQueQlrqaF1X4+7mQR1Ong8qCYbzCsRxNn +ewyj0uqfpO8e0ranvmqofewTAxPT1Ej86nqCJ1TNdXY6WY4EIIzjF3iBMLrftS8K76J ixWLPau9ds0WTdCbexEJRm33my3JlZ0p8iVA+V8B6fw1W6uq2jl8nmbV65KDhsDgHfOb AZVQz8Qw6wQLkK/Qe18xb5Q4RgiRgUGr/HNdwzUP4AviO4gy4zy+aX78a3FaHro1TWFl yd7g== X-Gm-Message-State: AOJu0Yw4pUEFMLCRTCiQjTXK3lCfjzYCJZZD3F5u0nlLlzqR5MY2ZYNs laACymlMPziGEHLDQRXoEExIALvi/+1A+DPbspKSaK7v9q40IVblbwwXB+845wagQGwc3FbXog= = X-Google-Smtp-Source: AGHT+IFNfwvjyCeXPUT6BOn7tZwzgWTq2WH6g3JlO/LJCeO8vpAdVObncLx/fpLCyOSiCd/voQ+Szpc1cgNM X-Received: by 2002:a05:622a:408:b0:41c:c587:6263 with SMTP id n8-20020a05622a040800b0041cc5876263mr11640365qtx.2.1698048464335; Mon, 23 Oct 2023 01:07:44 -0700 (PDT) Received: from postal.iol.unh.edu (postal.iol.unh.edu. [2606:4100:3880:1234::84]) by smtp-relay.gmail.com with ESMTPS id i12-20020ac85c0c000000b00419cbb20d34sm74400qti.1.2023.10.23.01.07.44 (version=TLS1_2 cipher=ECDHE-ECDSA-AES128-GCM-SHA256 bits=128/128); Mon, 23 Oct 2023 01:07:44 -0700 (PDT) X-Relaying-Domain: iol.unh.edu Date: Mon, 23 Oct 2023 01:07:44 -0700 (PDT) Message-ID: <653629d0.c80a0220.bc751.3cbdSMTPIN_ADDED_MISSING@mx.google.com> Received: from [172.21.0.2] (unknown [172.18.0.240]) by postal.iol.unh.edu (Postfix) with ESMTP id 12D8160524E7; Mon, 23 Oct 2023 04:07:44 -0400 (EDT) Subject: |SUCCESS| pw133121 [PATCH] eal: support lcore usage ratio From: dpdklab@iol.unh.edu To: Test Report Cc: dpdk-test-reports@iol.unh.edu Content-Type: text/plain X-BeenThere: test-report@dpdk.org X-Mailman-Version: 2.1.29 Precedence: list List-Id: automatic DPDK test reports List-Unsubscribe: , List-Archive: List-Post: List-Help: List-Subscribe: , Errors-To: test-report-bounces@dpdk.org Test-Label: iol-unit-amd64-testing Test-Status: SUCCESS http://dpdk.org/patch/133121 _Testing PASS_ Submitter: Chengwen Feng Date: Monday, October 23 2023 04:08:11 DPDK git baseline: Repo:dpdk Branch: master CommitID:2cd2cf0cc53a508c4bd951a980ec534a646260de 133121 --> testing pass Test environment and result as below: +---------------------+----------------+ | Environment | dpdk_unit_test | +=====================+================+ | Windows Server 2019 | PASS | +---------------------+----------------+ | CentOS Stream 9 | PASS | +---------------------+----------------+ | Debian Bullseye | PASS | +---------------------+----------------+ | Fedora 37 | PASS | +---------------------+----------------+ | openSUSE Leap 15 | PASS | +---------------------+----------------+ | Debian Buster | PASS | +---------------------+----------------+ | RHEL8 | PASS | +---------------------+----------------+ | Fedora 38 | PASS | +---------------------+----------------+ | Ubuntu 22.04 | PASS | +---------------------+----------------+ | CentOS Stream 8 | PASS | +---------------------+----------------+ Windows Server 2019 Kernel: 10.0 Compiler: clang 14.0 and gcc 8.1.0 (MinGW) CentOS Stream 9 Kernel: 4.18.0-240.10.1.el8_3.x86_64 Compiler: gcc 11.3.1 20220421 Debian Bullseye Kernel: 5.4.0-122-generic Compiler: gcc 10.2.1-6 Fedora 37 Kernel: Depends on container host system Compiler: gcc 12.3.1 openSUSE Leap 15 Kernel: 4.18.0-240.10.1.el8_3.x86_64 Compiler: gcc 7.5.0 Debian Buster Kernel: 5.4.0-122-generic Compiler: gcc 8.3.0-6 RHEL8 Kernel: 4.18.0-240.10.1.el8_3.x86_64 Compiler: gcc 8.3.1 20191121 (Red Hat 8.3.1-5) Fedora 38 Kernel: Depends on container host Compiler: gcc 13.1.1 Ubuntu 22.04 Kernel: 4.18.0-240.10.1.el8_3.x86_64 Compiler: gcc 11.3.0 CentOS Stream 8 Kernel: 4.18.0-240.10.1.el8_3.x86_64 Compiler: gcc 8.4.1 20200928 To view detailed results, visit: https://lab.dpdk.org/results/dashboard/patchsets/28028/ UNH-IOL DPDK Community Lab To manage your email subscriptions, visit: https://lab.dpdk.org/results/dashboard/preferences/subscriptions/