From mboxrd@z Thu Jan 1 00:00:00 1970 Return-Path: Received: from mails.dpdk.org (mails.dpdk.org [217.70.189.124]) by inbox.dpdk.org (Postfix) with ESMTP id 794E2431E0 for ; Mon, 23 Oct 2023 10:09:34 +0200 (CEST) Received: from mails.dpdk.org (localhost [127.0.0.1]) by mails.dpdk.org (Postfix) with ESMTP id 735D940262; Mon, 23 Oct 2023 10:09:34 +0200 (CEST) Received: from mail-oi1-f225.google.com (mail-oi1-f225.google.com [209.85.167.225]) by mails.dpdk.org (Postfix) with ESMTP id 8B13540262 for ; Mon, 23 Oct 2023 10:09:33 +0200 (CEST) Received: by mail-oi1-f225.google.com with SMTP id 5614622812f47-3b2d9ac9926so2106424b6e.2 for ; Mon, 23 Oct 2023 01:09:33 -0700 (PDT) DKIM-Signature: v=1; a=rsa-sha256; c=relaxed/relaxed; d=iol.unh.edu; s=unh-iol; t=1698048573; x=1698653373; darn=dpdk.org; h=cc:to:from:subject:message-id:date:from:to:cc:subject:date :message-id:reply-to; bh=fgNbgEtTxSq2SwQ1QYgMm3/e/Sv87GoyzAPGWHlyJbc=; b=YcNOmfQxix4it5FrVZ6E/Oavu1mEWP4Vj4cduLCVYUH/kJAuTXSk+NaKVYabvAoY2v gav76TerQ4Vh5QY+3I/bNVLgjDyLTjL/uTOYQ0XPZx9vK+smSYC3YVb5dgmFQq7eAs1n OtNEF+2ja3z0raGf/2dpU2cw4oGQDrVcOs8C8= X-Google-DKIM-Signature: v=1; a=rsa-sha256; c=relaxed/relaxed; d=1e100.net; s=20230601; t=1698048573; x=1698653373; h=cc:to:from:subject:message-id:date:x-gm-message-state:from:to:cc :subject:date:message-id:reply-to; bh=fgNbgEtTxSq2SwQ1QYgMm3/e/Sv87GoyzAPGWHlyJbc=; b=ksGh1D7shA0vmyiJyLi+uk808cfqBx04pHPCey84zx/6qBNzlqlsX+NU9IEFp/jYAu lQ3Cq/ASC72LjvZ/anLGWDoqmckjHsUI874GDNy7Hvg/qAj2ZzI/SUei3a4Bwi0l7ILO hSZzPyvHHtLCDe9h6otrzinar2LlvY3wgp4wIZpEDQP67MIOaieGBccE9M+usJvGfyKL v3Y2wEGevraddO/fv1xGYO00j9fuaOnPcV2oWTOdsolgQDquHQh94j0HSUTE7rAiPiZT nTOrfrrIdfJuukp7CPUh+kka4gDt7n9LvbVZKNFJq18q80fYA8vOQBDA0WQMWSlrBM/H np4Q== X-Gm-Message-State: AOJu0YyYu6GAVlJHKYUTpm5IjXbiufYzjL9vA8XKn2qP/CW952qdyy8x bYp/RMkKCsKCHsermGkjvYnthzDdLRfut3SeESvrdILTTPPqyE3e7kPaGxtft9m5dNR0rG1MGw= = X-Google-Smtp-Source: AGHT+IFe9UcXp/5MjPSg96lSaZfeGqi1sHpbTOghLbdG+R8VYqTCPfwv8dwAR6o8HkqMRDWLXOuTX2CaT32n X-Received: by 2002:a54:471a:0:b0:3ae:5bf5:4ad1 with SMTP id k26-20020a54471a000000b003ae5bf54ad1mr9359430oik.33.1698048572884; Mon, 23 Oct 2023 01:09:32 -0700 (PDT) Received: from postal.iol.unh.edu (postal.iol.unh.edu. [2606:4100:3880:1234::84]) by smtp-relay.gmail.com with ESMTPS id fe13-20020a056a002f0d00b006b220e3c1b3sm398994pfb.24.2023.10.23.01.09.32 (version=TLS1_2 cipher=ECDHE-ECDSA-AES128-GCM-SHA256 bits=128/128); Mon, 23 Oct 2023 01:09:32 -0700 (PDT) X-Relaying-Domain: iol.unh.edu Date: Mon, 23 Oct 2023 01:09:32 -0700 (PDT) Message-ID: <65362a3c.050a0220.7d201.0f6bSMTPIN_ADDED_MISSING@mx.google.com> Received: from [172.21.0.2] (unknown [172.18.0.240]) by postal.iol.unh.edu (Postfix) with ESMTP id 0650760524E7; Mon, 23 Oct 2023 04:09:32 -0400 (EDT) Subject: |SUCCESS| pw133121 [PATCH] eal: support lcore usage ratio From: dpdklab@iol.unh.edu To: Test Report Cc: dpdk-test-reports@iol.unh.edu Content-Type: text/plain X-BeenThere: test-report@dpdk.org X-Mailman-Version: 2.1.29 Precedence: list List-Id: automatic DPDK test reports List-Unsubscribe: , List-Archive: List-Post: List-Help: List-Subscribe: , Errors-To: test-report-bounces@dpdk.org Test-Label: iol-unit-amd64-testing Test-Status: SUCCESS http://dpdk.org/patch/133121 _Testing PASS_ Submitter: Chengwen Feng Date: Monday, October 23 2023 04:08:11 DPDK git baseline: Repo:dpdk Branch: master CommitID:2cd2cf0cc53a508c4bd951a980ec534a646260de 133121 --> testing pass Test environment and result as below: +---------------------+----------------+ | Environment | dpdk_unit_test | +=====================+================+ | Windows Server 2019 | PASS | +---------------------+----------------+ | CentOS Stream 9 | PASS | +---------------------+----------------+ | Debian Bullseye | PASS | +---------------------+----------------+ | Fedora 37 | PASS | +---------------------+----------------+ | openSUSE Leap 15 | PASS | +---------------------+----------------+ | Debian Buster | PASS | +---------------------+----------------+ | RHEL8 | PASS | +---------------------+----------------+ | Fedora 38 | PASS | +---------------------+----------------+ | Ubuntu 22.04 | PASS | +---------------------+----------------+ | CentOS Stream 8 | PASS | +---------------------+----------------+ | Ubuntu 20.04 | PASS | +---------------------+----------------+ Windows Server 2019 Kernel: 10.0 Compiler: clang 14.0 and gcc 8.1.0 (MinGW) CentOS Stream 9 Kernel: 4.18.0-240.10.1.el8_3.x86_64 Compiler: gcc 11.3.1 20220421 Debian Bullseye Kernel: 5.4.0-122-generic Compiler: gcc 10.2.1-6 Fedora 37 Kernel: Depends on container host system Compiler: gcc 12.3.1 openSUSE Leap 15 Kernel: 4.18.0-240.10.1.el8_3.x86_64 Compiler: gcc 7.5.0 Debian Buster Kernel: 5.4.0-122-generic Compiler: gcc 8.3.0-6 RHEL8 Kernel: 4.18.0-240.10.1.el8_3.x86_64 Compiler: gcc 8.3.1 20191121 (Red Hat 8.3.1-5) Fedora 38 Kernel: Depends on container host Compiler: gcc 13.1.1 Ubuntu 22.04 Kernel: 4.18.0-240.10.1.el8_3.x86_64 Compiler: gcc 11.3.0 CentOS Stream 8 Kernel: 4.18.0-240.10.1.el8_3.x86_64 Compiler: gcc 8.4.1 20200928 Ubuntu 20.04 Kernel: 5.4.0-153-generic Compiler: gcc 9.4.0-1ubuntu1~20.04.1 To view detailed results, visit: https://lab.dpdk.org/results/dashboard/patchsets/28028/ UNH-IOL DPDK Community Lab To manage your email subscriptions, visit: https://lab.dpdk.org/results/dashboard/preferences/subscriptions/