From mboxrd@z Thu Jan 1 00:00:00 1970 Return-Path: Received: from mails.dpdk.org (mails.dpdk.org [217.70.189.124]) by inbox.dpdk.org (Postfix) with ESMTP id 371FE431E0 for ; Mon, 23 Oct 2023 10:22:07 +0200 (CEST) Received: from mails.dpdk.org (localhost [127.0.0.1]) by mails.dpdk.org (Postfix) with ESMTP id 1E25E40262; Mon, 23 Oct 2023 10:22:07 +0200 (CEST) Received: from mail-pl1-f225.google.com (mail-pl1-f225.google.com [209.85.214.225]) by mails.dpdk.org (Postfix) with ESMTP id F1AFD40262 for ; Mon, 23 Oct 2023 10:22:05 +0200 (CEST) Received: by mail-pl1-f225.google.com with SMTP id d9443c01a7336-1ca3a54d2c4so24966595ad.3 for ; Mon, 23 Oct 2023 01:22:05 -0700 (PDT) DKIM-Signature: v=1; a=rsa-sha256; c=relaxed/relaxed; d=iol.unh.edu; s=unh-iol; t=1698049325; x=1698654125; darn=dpdk.org; h=cc:to:from:subject:message-id:date:from:to:cc:subject:date :message-id:reply-to; bh=mut/Sj2dyXIlBSmLoHhD/hVrBZsIjI9u5uVACKExlPs=; b=d9BJQyfreZ6eJc9+UPczrYwKEgRaqJCOGvcX+yeQYlnqEIBCkyMyuEHTAqeycnI4Kw HvSHaj8Ywd4Auc1hTE+sVJ6Ga6OcJpPmkqsd7broKcF0TwmfU+gR5Z5eP+LL2XXwmXeK 2OFItBJtunAzUB7+JtEUTUFVPOY8bjXlII2go= X-Google-DKIM-Signature: v=1; a=rsa-sha256; c=relaxed/relaxed; d=1e100.net; s=20230601; t=1698049325; x=1698654125; h=cc:to:from:subject:message-id:date:x-gm-message-state:from:to:cc :subject:date:message-id:reply-to; bh=mut/Sj2dyXIlBSmLoHhD/hVrBZsIjI9u5uVACKExlPs=; b=Ja7kQ0Yru6E26+JQAzyiX+5610CyoAcrjDpI4onWvUb9XcqhYfXpPIZjPXGUxkpywp AO6A3XRb+jK2hQezfIOnlP92TTpZVHj4Z+v1R5i/PDw81J7+rH9zRrcfoHYgQG2AAlMC JoevCJkUwYtuilOaeZBXe8iGL2+DZ7bnEujCWV7Y5k92HO85sq9xyBbYu9PbX2xl/7RE GAAtFlIZERJGDnyMnwsNli0yhMqC59g7CBO8f/yqylJbzCdfzCPQAFxRVJE8sGHLa+9b KUHR6uTVq67DXnKf04CRQIsw5HHIaqgRfN07eJlj4YI2pATmXw9L69+q+wO5B2yKe/bU CQkw== X-Gm-Message-State: AOJu0YzsBAOUTJt0W13wr7rHxHzozl8QYRCSJZz4TVnfO2WpTssM2vzm Oue7O8QlRWt4gRuE9WlQDSGD1bhuF+MSLypKej6lSMJPIQKvMk3gydr2XA== X-Google-Smtp-Source: AGHT+IEx3N2L+hTNJE/s/fODQ4+I4XRAjiaxkk58UJP33RCkI0ZFCq3umxEXOyjr/zyLiUu4lcG0J1+OEs6Q X-Received: by 2002:a17:902:edc2:b0:1c6:2d13:5b77 with SMTP id q2-20020a170902edc200b001c62d135b77mr8277176plk.39.1698049325121; Mon, 23 Oct 2023 01:22:05 -0700 (PDT) Received: from postal.iol.unh.edu (postal.iol.unh.edu. [132.177.123.84]) by smtp-relay.gmail.com with ESMTPS id c10-20020a170902c1ca00b001c60f1fcfc4sm269435plc.47.2023.10.23.01.22.05 (version=TLS1_2 cipher=ECDHE-ECDSA-AES128-GCM-SHA256 bits=128/128); Mon, 23 Oct 2023 01:22:05 -0700 (PDT) X-Relaying-Domain: iol.unh.edu Date: Mon, 23 Oct 2023 01:22:05 -0700 (PDT) Message-ID: <65362d2d.170a0220.a06b5.9278SMTPIN_ADDED_MISSING@mx.google.com> Received: from [172.21.0.2] (unknown [172.18.0.240]) by postal.iol.unh.edu (Postfix) with ESMTP id 83A5960524E7; Mon, 23 Oct 2023 04:22:04 -0400 (EDT) Subject: |SUCCESS| pw133121 [PATCH] eal: support lcore usage ratio From: dpdklab@iol.unh.edu To: Test Report Cc: dpdk-test-reports@iol.unh.edu Content-Type: text/plain X-BeenThere: test-report@dpdk.org X-Mailman-Version: 2.1.29 Precedence: list List-Id: automatic DPDK test reports List-Unsubscribe: , List-Archive: List-Post: List-Help: List-Subscribe: , Errors-To: test-report-bounces@dpdk.org Test-Label: iol-compile-arm64-testing Test-Status: SUCCESS http://dpdk.org/patch/133121 _Testing PASS_ Submitter: Chengwen Feng Date: Monday, October 23 2023 04:08:11 DPDK git baseline: Repo:dpdk Branch: master CommitID:2cd2cf0cc53a508c4bd951a980ec534a646260de 133121 --> testing pass Test environment and result as below: +----------------------------------------+--------------------+ | Environment | dpdk_meson_compile | +========================================+====================+ | Ubuntu 20.04 ARM SVE | PASS | +----------------------------------------+--------------------+ | Fedora 37 (ARM) | PASS | +----------------------------------------+--------------------+ | Fedora 38 (ARM) | PASS | +----------------------------------------+--------------------+ | Ubuntu 20.04 (ARM) | PASS | +----------------------------------------+--------------------+ | CentOS Stream 9 (ARM) | PASS | +----------------------------------------+--------------------+ | Debian 11 (Buster) (ARM) | PASS | +----------------------------------------+--------------------+ | Ubuntu 20.04 aarch32 GCC Cross Compile | PASS | +----------------------------------------+--------------------+ | Ubuntu 20.04 ARM Clang Cross Compile | PASS | +----------------------------------------+--------------------+ | Ubuntu 20.04 ARM GCC Cross Compile | PASS | +----------------------------------------+--------------------+ Ubuntu 20.04 ARM SVE Kernel: 5.4.0-80-generic Compiler: gcc 10.3.0 (Ubuntu 10.3.0-1ubuntu1~20.04) Fedora 37 (ARM) Kernel: Depends on container host Compiler: gcc 12.3.1 Fedora 38 (ARM) Kernel: Depends on container host Compiler: gcc 13.1.1 Ubuntu 20.04 (ARM) Kernel: Container Host Kernel Compiler: gcc 9.4.0 CentOS Stream 9 (ARM) Kernel: Container Host Kernel Compiler: gcc 11.3.1 Debian 11 (Buster) (ARM) Kernel: Container Host Kernel Compiler: gcc 10.2.1 Ubuntu 20.04 aarch32 GCC Cross Compile Kernel: 5.4.0-72-generic Compiler: gcc 9.3.0 Ubuntu 20.04 ARM Clang Cross Compile Kernel: 5.4.0-72-generic Compiler: clang version 10.0.0-4ubuntu1 Ubuntu 20.04 ARM GCC Cross Compile Kernel: 5.4.0-72-generic Compiler: aarch64-linux-gnu-gcc (Ubuntu 9.3.0-17ubuntu1~20.04) 9.3.0 To view detailed results, visit: https://lab.dpdk.org/results/dashboard/patchsets/28028/ UNH-IOL DPDK Community Lab To manage your email subscriptions, visit: https://lab.dpdk.org/results/dashboard/preferences/subscriptions/