From mboxrd@z Thu Jan  1 00:00:00 1970
Return-Path: <test-report-bounces@dpdk.org>
Received: from mails.dpdk.org (mails.dpdk.org [217.70.189.124])
	by inbox.dpdk.org (Postfix) with ESMTP id B9C96431E2
	for <public@inbox.dpdk.org>; Mon, 23 Oct 2023 16:29:19 +0200 (CEST)
Received: from mails.dpdk.org (localhost [127.0.0.1])
	by mails.dpdk.org (Postfix) with ESMTP id B3EA24027E;
	Mon, 23 Oct 2023 16:29:19 +0200 (CEST)
Received: from mail-qt1-f227.google.com (mail-qt1-f227.google.com
 [209.85.160.227])
 by mails.dpdk.org (Postfix) with ESMTP id 5F00C4027E
 for <test-report@dpdk.org>; Mon, 23 Oct 2023 16:29:18 +0200 (CEST)
Received: by mail-qt1-f227.google.com with SMTP id
 d75a77b69052e-41cc7379b23so21472511cf.3
 for <test-report@dpdk.org>; Mon, 23 Oct 2023 07:29:18 -0700 (PDT)
DKIM-Signature: v=1; a=rsa-sha256; c=relaxed/relaxed;
 d=iol.unh.edu; s=unh-iol; t=1698071358; x=1698676158; darn=dpdk.org;
 h=cc:to:from:subject:message-id:date:from:to:cc:subject:date
 :message-id:reply-to;
 bh=Nmwei2EF9Mvq8cNHGdIP9k7fhEjdBKODa7rkJmQKqRw=;
 b=cQHhtQTAQ+R4sTXh3LLCMpS/fzWOfVe1ccHFoKPxNx4t0aHJ8d0+6kGjtUYEVSmvLG
 M7uXFjGvp2CRXz6zT9DrMdK4QjZjORw0ss+Fkti/qY+2T1gMCHq5veNq4MB9MwkhXCzo
 tXZu6KSPhFuG1I3pA42SUu+yDikzhOHJ9CNF4=
X-Google-DKIM-Signature: v=1; a=rsa-sha256; c=relaxed/relaxed;
 d=1e100.net; s=20230601; t=1698071358; x=1698676158;
 h=cc:to:from:subject:message-id:date:x-gm-message-state:from:to:cc
 :subject:date:message-id:reply-to;
 bh=Nmwei2EF9Mvq8cNHGdIP9k7fhEjdBKODa7rkJmQKqRw=;
 b=MSR5BZiJdhX8tWFfrS6NRoFkSEP2ZGZXah8ulRjT4E9CE4recKalpx95+Xr0egNFFF
 V9WZiMZZSnnalq3BWnDGFOo9msHiBiztbldBQmaZTXnSRa5qZHTYQa6/oJHTUdEyzVM5
 mnzZnAob2tXgo5pHhyME19n4D+99/UrjzJiRkgMzo3qR6/54c1nbTm80od61VwgiSfn+
 bzpN8M8K6kJZP93H8NJWTnf6O70TA25rgN2SV64Odo8l0s62DpDsmFPyEjM4xCgqS9/X
 XWzSn9f7BkOWRzJiPNN277KvsVLb/PDzseO3mdUfYZNKoDW6HD6VlssNy/LuvlniNRcK
 P3kA==
X-Gm-Message-State: AOJu0YyS35If+HL7SCC9WEUKuHDxGTBIcg5XPCELWK/kExfhmzMxucv5
 jRqFM/FMtj5/zU9xavn4+GlCutgxzNl1Wj3npqODRNqhiFleR2M76sgv3Q==
X-Google-Smtp-Source: AGHT+IFnPp+qf9UAX/8IXVIvxQmDmEStF07ym40AIe43DcovclEZoCVW6QTmjiercct5j110o+A0rPt6M9qA
X-Received: by 2002:a05:6214:da2:b0:66d:5b9:927a with SMTP id
 h2-20020a0562140da200b0066d05b9927amr14791555qvh.54.1698071357838; 
 Mon, 23 Oct 2023 07:29:17 -0700 (PDT)
Received: from postal.iol.unh.edu (postal.iol.unh.edu. [132.177.123.84])
 by smtp-relay.gmail.com with ESMTPS id
 d10-20020a0cc68a000000b0066d236184a3sm333560qvj.69.2023.10.23.07.29.17
 (version=TLS1_2 cipher=ECDHE-ECDSA-AES128-GCM-SHA256 bits=128/128);
 Mon, 23 Oct 2023 07:29:17 -0700 (PDT)
X-Relaying-Domain: iol.unh.edu
Date: Mon, 23 Oct 2023 07:29:17 -0700 (PDT)
Message-ID: <6536833d.0c0a0220.16aba.9fdfSMTPIN_ADDED_MISSING@mx.google.com>
Received: from [172.17.0.4] (unknown [172.18.0.215])
 by postal.iol.unh.edu (Postfix) with ESMTP id 893FF6073BBC;
 Mon, 23 Oct 2023 10:29:17 -0400 (EDT)
Subject: |SUCCESS| pw133174 [PATCH] [v2] eal: support lcore usage ratio
From: dpdklab@iol.unh.edu
To: Test Report <test-report@dpdk.org>
Cc: dpdk-test-reports@iol.unh.edu
Content-Type: text/plain
X-BeenThere: test-report@dpdk.org
X-Mailman-Version: 2.1.29
Precedence: list
List-Id: automatic DPDK test reports <test-report.dpdk.org>
List-Unsubscribe: <https://mails.dpdk.org/options/test-report>,
 <mailto:test-report-request@dpdk.org?subject=unsubscribe>
List-Archive: <http://mails.dpdk.org/archives/test-report/>
List-Post: <mailto:test-report@dpdk.org>
List-Help: <mailto:test-report-request@dpdk.org?subject=help>
List-Subscribe: <https://mails.dpdk.org/listinfo/test-report>,
 <mailto:test-report-request@dpdk.org?subject=subscribe>
Errors-To: test-report-bounces@dpdk.org

Test-Label: iol-compile-arm64-testing
Test-Status: SUCCESS
http://dpdk.org/patch/133174

_Testing PASS_

Submitter: Chengwen Feng <fengchengwen@huawei.com>
Date: Monday, October 23 2023 12:29:29 
DPDK git baseline: Repo:dpdk
  Branch: master
  CommitID:2cd2cf0cc53a508c4bd951a980ec534a646260de

133174 --> testing pass

Test environment and result as below:

+----------------------------------------+--------------------+
|              Environment               | dpdk_meson_compile |
+========================================+====================+
| Ubuntu 20.04 ARM SVE                   | PASS               |
+----------------------------------------+--------------------+
| Ubuntu 20.04 ARM GCC Cross Compile     | PASS               |
+----------------------------------------+--------------------+
| Ubuntu 20.04 aarch32 GCC Cross Compile | PASS               |
+----------------------------------------+--------------------+
| Fedora 37 (ARM)                        | PASS               |
+----------------------------------------+--------------------+
| Ubuntu 20.04 ARM Clang Cross Compile   | PASS               |
+----------------------------------------+--------------------+
| Fedora 38 (ARM)                        | PASS               |
+----------------------------------------+--------------------+
| Ubuntu 20.04 (ARM)                     | PASS               |
+----------------------------------------+--------------------+
| CentOS Stream 9 (ARM)                  | PASS               |
+----------------------------------------+--------------------+


Ubuntu 20.04 ARM SVE
	Kernel: 5.4.0-80-generic
	Compiler: gcc 10.3.0 (Ubuntu 10.3.0-1ubuntu1~20.04)

Ubuntu 20.04 ARM GCC Cross Compile
	Kernel: 5.4.0-72-generic
	Compiler: aarch64-linux-gnu-gcc (Ubuntu 9.3.0-17ubuntu1~20.04) 9.3.0

Ubuntu 20.04 aarch32 GCC Cross Compile
	Kernel: 5.4.0-72-generic
	Compiler: gcc 9.3.0

Fedora 37 (ARM)
	Kernel: Depends on container host
	Compiler: gcc 12.3.1

Ubuntu 20.04 ARM Clang Cross Compile
	Kernel: 5.4.0-72-generic
	Compiler: clang version 10.0.0-4ubuntu1

Fedora 38 (ARM)
	Kernel: Depends on container host
	Compiler: gcc 13.1.1

Ubuntu 20.04 (ARM)
	Kernel: Container Host Kernel
	Compiler: gcc 9.4.0

CentOS Stream 9 (ARM)
	Kernel: Container Host Kernel
	Compiler: gcc 11.3.1

To view detailed results, visit:
https://lab.dpdk.org/results/dashboard/patchsets/28040/

UNH-IOL DPDK Community Lab

To manage your email subscriptions, visit: 
https://lab.dpdk.org/results/dashboard/preferences/subscriptions/